{"text_format":"1","workbook":"xlsx","n_sheets":11,"sheets":["Cover Page","Instructions for template","WQ Risk Process ","Dont delete","Doc Control","Actions","Dont delete2","SRO Schematic","Sheet1","WQ Risk Assessment","WQ RA Summary"],"not_rendered":{"charts":7,"images":8,"macros":1,"external_links":3,"defined_names":17,"comments":2,"pivot_tables":14},"unopened":[],"bounds":{"document_bytes":16777216,"sheet_cells":100000,"rows_first":2000,"rows_last":500,"rows_between":2000,"halvings":0,"cell_chars":16384,"cell_head_chars":4096},"cells_cut":0,"cells_raw":0,"read":"whole","date_system":"1900"}

{"sheet":"Cover Page","index":0,"n_rows":30,"n_cols":12,"rows_kept":30,"cut":false,"hidden":false,"merged":[[27,3,27,12],[10,3,12,12],[14,2,15,2],[29,3,29,8],[7,3,7,9],[14,3,15,12],[19,5,19,10],[20,5,20,10],[21,5,21,10],[22,5,22,10],[23,5,23,10],[25,5,25,10],[24,5,24,10],[10,2,12,2],[17,3,17,12],[2,3,2,9],[3,3,3,9],[4,3,4,9],[5,3,5,9],[6,3,6,9]]}
[]
[]
[null,null,"Document number","B19589BJ -DOC-002"]
[null,null,"Version Number",2]
[null,null,"File name ","Strategic Water Quality Risk Assessment Template "]
[null,null,"Date ","2021-02-17"]
[null,null,"Author","Jacobs for the ACWG"]
[null,null,"Author Contact Information","amanda.lake@jacobs.com"]
[]
[]
[null,null,"Summary of document:","This excel document has been developed as part of the Strategic Water Quality Risk Framework for the All Company Working Group (ACWG) and is intended for application by Companies in assessing strategic resource options (SROs). "]
[]
[]
[]
[null,null,"Known Limitations","This document is intended to be used at strategic resource option development RAPID Gates. Whilst it adopts a Water Safety Planning approach, as aligned with regulatory and World Health Organisation (WHO) guidelines, it is not for use in developing drinking water safety plans. "]
[]
[]
[null,null,"Changes ","Table below highlights changes which have been carried out on the framework to improve usability and fix any issues"]
[]
[null,null,null,"Version","Date ","Description of document/any changes made ",null,null,null,null,null,"Signed"]
[null,null,null,1,"2020-12-16","Initial draft issue for ACWG review "]
[null,null,null,2,"2021-02-17","Extra column for risk commentary, filtering key hazards enabled and summary page unlocked"]
[]
[]
[]
[]
[]
[null,null,"Feedback","Please forward any feedback to the above author contact information. "]
[]
[null,null,"Instructions","Please follow the link to access the user guide for this framework.",null,null,null,null,null,"CLICK HERE"]

{"sheet":"Instructions for template","index":1,"n_rows":1,"n_cols":4,"rows_kept":1,"cut":false,"hidden":false,"merged":[[0,0,0,2],[0,3,0,16]]}
[{"$f":"'Doc Control'!F5","v":"Grand Union Canal"},null,null,{"$f":"'Doc Control'!F6 &\", \"&'Doc Control'!F7","v":"Leighton Buzzard Abstraction Location, Gate 2"}]

{"sheet":"WQ Risk Process ","index":2,"n_rows":1,"n_cols":4,"rows_kept":1,"cut":false,"hidden":false,"merged":[[0,0,0,2],[0,3,0,13]]}
[{"$f":"'Doc Control'!F5","v":"Grand Union Canal"},null,null,{"$f":"'Doc Control'!F6 &\", \"&'Doc Control'!F7","v":"Leighton Buzzard Abstraction Location, Gate 2"}]

{"sheet":"Dont delete","index":3,"n_rows":12,"n_cols":8,"rows_kept":12,"cut":false,"hidden":true,"merged":[]}
[1,5,null,null,null,null,null,"Gate 1 "]
[6,12,1,"Affinity Water ",null,null,null,"Gate 2"]
[15,25,1,"Anglian Water ",null,null,null,"Gate 3"]
[null,null,1,"Severn Trent Water ",null,null,null,"Gate 4"]
[null,null,1,"Southern Water "]
[null,null,1,"South West "]
[null,null,null,"Thames Water"]
[null,null,1,"United Utilities "]
[null,null,1,"Wessex Water"]
[null,null,1,"Bristol Water "]
[null,null,null,"Bournemouth Water"]
[null,null,null,"Other"]

{"sheet":"Doc Control","index":4,"n_rows":27,"n_cols":7,"rows_kept":27,"cut":false,"hidden":false,"merged":[[5,5,5,6],[6,5,6,6],[4,5,4,6],[0,0,0,2],[0,3,0,5]]}
[{"$f":"'Doc Control'!F5","v":"Grand Union Canal"},null,null,{"$f":"'Doc Control'!F6 &\", \"&F7","v":"Leighton Buzzard Abstraction Location, Gate 2"}]
[]
[]
[]
[null,null,null,null,"SRO Name ","Grand Union Canal"]
[null,null,null,null,"Option this assessment applies to ","Leighton Buzzard Abstraction Location"]
[null,null,null,null,"RAPID gate","Gate 2"]
[]
[null,null,null,null,null,"Individual's names redacted"]
[]
[null,null,null,null,"Details","Record entry","Record entry "]
[null,null,null,null,"Technical WQ Risk Lead (drinking water) "]
[null,null,null,null,"Workshop Lead (if applicable)"]
[null,null,null,null,"Workshop date (if applicable) "]
[null,null,null,null,"Workshop attendees "]
[]
[]
[]
[]
[]
[]
[]
[]
[]
[null,null,null,null,"Revision ",2]
[null,null,null,null,"Comments ","Gate 2 Workshop - plus  additional comment & action from 2nd line review re: customer acceptability (captured under Taste limiting hazard)"]
[null,null,null,null,"PDF output","Export to PDF from Summary tab "]

{"sheet":"Actions","index":5,"n_rows":14,"n_cols":13,"rows_kept":14,"cut":false,"hidden":false,"merged":[[0,5,0,9],[3,10,3,12],[0,10,0,11],[0,1,0,2]]}
[null,{"$f":"'Doc Control'!F5","v":"Grand Union Canal"},null,{"$f":"'Doc Control'!F6 &\", \"&'Doc Control'!F7","v":"Leighton Buzzard Abstraction Location, Gate 2"}]
[]
[]
[null,null,"Actions from Strategic WQ Risk Assessment",null,null,null,null,null,null,null,"Action Tracker"]
[null,null,"Use this table to capture actions after each strategic WQ Risk Assessment workshop",null,null,null,null,null,null,null,"Due","WIP","Complete"]
[null,null,null,null,null,null,null,null,null,null,{"$f":"COUNTIF(H12:H90,\"Due\")","v":0},{"$f":"COUNTIF(H12:H90,\"WIP\")","v":0},{"$f":"COUNTIF(H12:H90,\"Complete\")","v":2}]
[]
[]
[]
[]
[null,null,"Action ref. ","Details of action ","Owner ","Date assigned ","Due Date","Status","Completed Date"]
[null,null,1,"Complete changes and actions agreed during the workshop",null,"2022-06-21","2022-06-30","Complete","2022-06-30"]
[null,null,2,"Determine method of scoring the likelihoods of TBT and Triclosan which do not have current or proposed PCVs/limits.","Atkins","2022-06-21","2022-07-30","Complete","2022-07-05"]
[null,null,3,"Comment from                    during 2nd Line Assurance received 16/08/2022:\n\"On other SROs DWI have fed back that they do not consider it appropriate to score customer acceptability as green following customer engagement activities - they suggest this should remain a higher likelihood as there will be people who are unhappy with the change in their WQ in the short-term and this will recede over time.\" - Likelihood score post treatment to be reviewed during Gate 3.","Atkins","2022-08-23","During Gate 3 review"]

{"sheet":"Dont delete2","index":6,"n_rows":3,"n_cols":5,"rows_kept":3,"cut":false,"hidden":true,"merged":[]}
["Due",null,null,"Y","Yes "]
["WIP",null,null,"N","No"]
["Complete"]

{"sheet":"SRO Schematic","index":7,"n_rows":59,"n_cols":22,"rows_kept":59,"cut":false,"hidden":false,"merged":[[54,20,57,20],[54,21,57,21],[58,20,61,20],[58,21,61,21],[42,21,45,21],[42,20,45,20],[46,20,49,20],[46,21,49,21],[50,20,53,20],[50,21,53,21],[38,20,41,20],[38,21,41,21],[18,20,21,20],[18,21,21,21],[22,20,25,20],[22,21,25,21],[26,20,29,20],[26,21,29,21],[30,20,33,20],[30,21,33,21],[34,20,37,20],[34,21,37,21],[4,19,4,21],[54,19,57,19],[58,19,61,19],[26,19,29,19],[34,19,37,19],[30,19,33,19],[38,19,41,19],[42,19,45,19],[46,19,49,19],[50,19,53,19],[6,20,9,20],[10,20,13,20],[6,21,9,21],[10,21,13,21],[14,20,17,20],[14,21,17,21],[22,19,25,19],[6,19,9,19],[10,19,13,19],[14,19,17,19],[18,19,21,19],[63,5,63,11],[27,4,27,10],[4,1,7,4],[0,1,0,2],[0,3,0,4]]}
[null,{"$f":"'Doc Control'!F5","v":"Grand Union Canal"},null,{"$f":"'Doc Control'!F6 &\", \"&'Doc Control'!F7","v":"Leighton Buzzard Abstraction Location, Gate 2"}]
[]
[]
[]
[null,"SRO Schematic ",null,null,null,null,null,null,null,null,null,null,null,null,null,null,null,null,null,"Key"]
[null,null,null,null,null,null,null,null,null,null,null,null,null,null,null,null,null,null,null,"Asset","New","Existing "]
[null,null,null,null,null,null,null,null,null,null,null,null,null,null,null,null,null,null,null,"Booster chlorination "]
[]
[]
[]
[null,null,null,null,null,null,null,null,null,null,null,null,null,null,null,null,null,null,null,"Catchment "]
[]
[null,null,"Resposible Party","WSS Asset"]
[null,null,"Severn Trent Water ","Minworth STW"]
[null,null,"Affinity Water ","New WTW and supply",null,null,null,null,null,null,null,null,null,null,null,null,null,null,null,"Canal"]
[]
[]
[]
[null,null,null,null,null,null,null,null,null,null,null,null,null,null,null,null,null,null,null,"Final Effluent Discharge"]
[]
[]
[]
[null,null,null,null,null,null,null,null,null,null,null,null,null,null,null,null,null,null,null,"Potable distribution"]
[]
[]
[]
[null,null,null,null,null,null,null,null,null,null,null,null,null,null,null,null,null,null,null,"Pumping Station"]
[]
[]
[]
[null,null,null,null,null,null,null,null,null,null,null,null,null,null,null,null,null,null,null,"Raw water abstraction"]
[]
[]
[]
[null,null,null,null,null,null,null,null,null,null,null,null,null,null,null,null,null,null,null,"Raw Water Conditioning Plant"]
[]
[]
[]
[null,null,null,null,null,null,null,null,null,null,null,null,null,null,null,null,null,null,null,"Raw water transfer"]
[]
[]
[]
[null,null,null,null,null,null,null,null,null,null,null,null,null,null,null,null,null,null,null,"River"]
[]
[]
[]
[null,null,null,null,null,null,null,null,null,null,null,null,null,null,null,null,null,null,null,"Treated water storage"]
[]
[]
[]
[null,null,null,null,null,null,null,null,null,null,null,null,null,null,null,null,null,null,null,"Treated water transfer "]
[]
[]
[]
[null,null,null,null,null,null,null,null,null,null,null,null,null,null,null,null,null,null,null,"Existing tie-in point"]
[]
[]
[]
[null,null,null,null,null,null,null,null,null,null,null,null,null,null,null,null,null,null,null,"Wastewater Treatment Works "]

{"sheet":"Sheet1","index":8,"n_rows":226,"n_cols":73,"rows_kept":226,"cut":false,"hidden":true,"merged":[]}
["Parameters ","Filter","Column2","Column3","Column4","Column5","Column510","Column6","Column7","Column8","Catchment risk","Column10","Column11","Column12","Column13","Column14","Column142","Column15","Column16","Column17","Abstraction risk","Column19","Column20","Column21","Column22","Column23","Column232","Column24","Column25","Column26","Raw water risk","Column28","Column29","Column30","Column31","Column32","Column322","Column33","Column34","Column35","Treatment risk","Column37","Column38","Column39","Column40","Column41","Column412","Column42","Column43","Column44","Storage risk","Column46","Column47","Column48","Column49","Column50","Column502","Column51","Column52","Column53","Distrubution risk","Column55","Column56","Column57","Column58","Column59","Column592","Column60","Column61","Column62","Consumer risk","Column64","Column65"]
["MICROBIOLOGICAL "]
["Enterococci ",null,null,null,null,"",null,null,null,null,"",null,null,null,null,"",null,null,null,null,"",null,null,null,null,"",null,null,null,null,"",null,null,null,null,"",null,null,null,null,"",null,null,null,null,"",null,null,null,null,"",null,null,null,null,"",null,null,null,null,"",null,null,null,null,"",null,null,null,null,""]
["Escherida Coli","Y",null,null,null,"",null,null,null,null,"",null,null,null,null,"",null,null,null,null,"",null,null,null,null,"",null,null,null,null,"",null,null,null,null,"",null,null,null,null,"",null,null,null,null,"",null,null,null,null,"",null,null,null,null,"",null,null,null,null,"",null,null,null,null,"",null,null,null,null,""]
["Cryptosporidium ",null,null,null,null,"",null,null,null,null,"",null,null,null,null,"",null,null,null,null,"",null,null,null,null,"",null,null,null,null,"",null,null,null,null,"",null,null,null,null,"",null,null,null,null,"",null,null,null,null,"",null,null,null,null,"",null,null,null,null,"",null,null,null,null,"",null,null,null,null,""]
["Coliform bacteria ","N",null,null,null,"",null,null,null,null,"",null,null,null,null,"",null,null,null,null,"",null,null,null,null,"",null,null,null,null,"",null,null,null,null,"",null,null,null,null,"",null,null,null,null,"",null,null,null,null,"",null,null,null,null,"",null,null,null,null,"",null,null,null,null,"",null,null,null,null,""]
["Chemicals: naturally occuring",null,null,null,null,"",null,null,null,null,"",null,null,null,null,"",null,null,null,null,"",null,null,null,null,"",null,null,null,null,"",null,null,null,null,"",null,null,null,null,"",null,null,null,null,"",null,null,null,null,"",null,null,null,null,"",null,null,null,null,"",null,null,null,null,"",null,null,null,null,""]
["Arsenic",null,null,null,null,"",null,null,null,null,"",null,null,null,null,"",null,null,null,null,"",null,null,null,null,"",null,null,null,null,"",null,null,null,null,"",null,null,null,null,"",null,null,null,null,"",null,null,null,null,"",null,null,null,null,"",null,null,null,null,"",null,null,null,null,"",null,null,null,null,""]
["Boron",null,null,null,null,"",null,null,null,null,"",null,null,null,null,"",null,null,null,null,"",null,null,null,null,"",null,null,null,null,"",null,null,null,null,"",null,null,null,null,"",null,null,null,null,"",null,null,null,null,"",null,null,null,null,"",null,null,null,null,"",null,null,null,null,"",null,null,null,null,""]
["Chromium",null,null,null,null,"",null,null,null,null,"",null,null,null,null,"",null,null,null,null,"",null,null,null,null,"",null,null,null,null,"",null,null,null,null,"",null,null,null,null,"",null,null,null,null,"",null,null,null,null,"",null,null,null,null,"",null,null,null,null,"",null,null,null,null,"",null,null,null,null,""]
["Fluoride",null,null,null,null,"",null,null,null,null,"",null,null,null,null,"",null,null,null,null,"",null,null,null,null,"",null,null,null,null,"",null,null,null,null,"",null,null,null,null,"",null,null,null,null,"",null,null,null,null,"",null,null,null,null,"",null,null,null,null,"",null,null,null,null,"",null,null,null,null,""]
["Selenium",null,null,null,null,"",null,null,null,null,"",null,null,null,null,"",null,null,null,null,"",null,null,null,null,"",null,null,null,null,"",null,null,null,null,"",null,null,null,null,"",null,null,null,null,"",null,null,null,null,"",null,null,null,null,"",null,null,null,null,"",null,null,null,null,"",null,null,null,null,""]
["Iron",null,null,null,null,"",null,null,null,null,"",null,null,null,null,"",null,null,null,null,"",null,null,null,null,"",null,null,null,null,"",null,null,null,null,"",null,null,null,null,"",null,null,null,null,"",null,null,null,null,"",null,null,null,null,"",null,null,null,null,"",null,null,null,null,"",null,null,null,null,""]
["Manganese",null,null,null,null,"",null,null,null,null,"",null,null,null,null,"",null,null,null,null,"",null,null,null,null,"",null,null,null,null,"",null,null,null,null,"",null,null,null,null,"",null,null,null,null,"",null,null,null,null,"",null,null,null,null,"",null,null,null,null,"",null,null,null,null,"",null,null,null,null,""]
["Sodium",null,null,null,null,"",null,null,null,null,"",null,null,null,null,"",null,null,null,null,"",null,null,null,null,"",null,null,null,null,"",null,null,null,null,"",null,null,null,null,"",null,null,null,null,"",null,null,null,null,"",null,null,null,null,"",null,null,null,null,"",null,null,null,null,"",null,null,null,null,""]
["Barium",null,null,null,null,"",null,null,null,null,"",null,null,null,null,"",null,null,null,null,"",null,null,null,null,"",null,null,null,null,"",null,null,null,null,"",null,null,null,null,"",null,null,null,null,"",null,null,null,null,"",null,null,null,null,"",null,null,null,null,"",null,null,null,null,"",null,null,null,null,""]
["Bromide","y",null,null,null,"",null,null,null,null,"",null,null,null,null,"",null,null,null,null,"",null,null,null,null,"",null,null,null,null,"",null,null,null,null,"",null,null,null,null,"",null,null,null,null,"",null,null,null,null,"",null,null,null,null,"",null,null,null,null,"",null,null,null,null,"",null,null,null,null,""]
["Sulfate","y",null,null,null,"",null,null,null,null,"",null,null,null,null,"",null,null,null,null,"",null,null,null,null,"",null,null,null,null,"",null,null,null,null,"",null,null,null,null,"",null,null,null,null,"",null,null,null,null,"",null,null,null,null,"",null,null,null,null,"",null,null,null,null,"",null,null,null,null,""]
["Total dissolved solids","y",null,null,null,"",null,null,null,null,"",null,null,null,null,"",null,null,null,null,"",null,null,null,null,"",null,null,null,null,"",null,null,null,null,"",null,null,null,null,"",null,null,null,null,"",null,null,null,null,"",null,null,null,null,"",null,null,null,null,"",null,null,null,null,"",null,null,null,null,""]
["Chemicals: Drinking Water",null,null,null,null,"",null,null,null,null,"",null,null,null,null,"",null,null,null,null,"",null,null,null,null,"",null,null,null,null,"",null,null,null,null,"",null,null,null,null,"",null,null,null,null,"",null,null,null,null,"",null,null,null,null,"",null,null,null,null,"",null,null,null,null,"",null,null,null,null,""]
["Acrylamide",null,null,null,null,"",null,null,null,null,"",null,null,null,null,"",null,null,null,null,"",null,null,null,null,"",null,null,null,null,"",null,null,null,null,"",null,null,null,null,"",null,null,null,null,"",null,null,null,null,"",null,null,null,null,"",null,null,null,null,"",null,null,null,null,"",null,null,null,null,""]
["Antimony","n",null,null,null,"",null,null,null,null,"",null,null,null,null,"",null,null,null,null,"",null,null,null,null,"",null,null,null,null,"",null,null,null,null,"",null,null,null,null,"",null,null,null,null,"",null,null,null,null,"",null,null,null,null,"",null,null,null,null,"",null,null,null,null,"",null,null,null,null,""]
["Bromate","n",null,null,null,"",null,null,null,null,"",null,null,null,null,"",null,null,null,null,"",null,null,null,null,"",null,null,null,null,"",null,null,null,null,"",null,null,null,null,"",null,null,null,null,"",null,null,null,null,"",null,null,null,null,"",null,null,null,null,"",null,null,null,null,"",null,null,null,null,""]
["bromodichloromethane","n",null,null,null,"",null,null,null,null,"",null,null,null,null,"",null,null,null,null,"",null,null,null,null,"",null,null,null,null,"",null,null,null,null,"",null,null,null,null,"",null,null,null,null,"",null,null,null,null,"",null,null,null,null,"",null,null,null,null,"",null,null,null,null,"",null,null,null,null,""]
["bromoform","y",null,null,null,"",null,null,null,null,"",null,null,null,null,"",null,null,null,null,"",null,null,null,null,"",null,null,null,null,"",null,null,null,null,"",null,null,null,null,"",null,null,null,null,"",null,null,null,null,"",null,null,null,null,"",null,null,null,null,"",null,null,null,null,"",null,null,null,null,""]
["chloroform","y",null,null,null,"",null,null,null,null,"",null,null,null,null,"",null,null,null,null,"",null,null,null,null,"",null,null,null,null,"",null,null,null,null,"",null,null,null,null,"",null,null,null,null,"",null,null,null,null,"",null,null,null,null,"",null,null,null,null,"",null,null,null,null,"",null,null,null,null,""]
["dibromochloromethane","y",null,null,null,"",null,null,null,null,"",null,null,null,null,"",null,null,null,null,"",null,null,null,null,"",null,null,null,null,"",null,null,null,null,"",null,null,null,null,"",null,null,null,null,"",null,null,null,null,"",null,null,null,null,"",null,null,null,null,"",null,null,null,null,"",null,null,null,null,""]
["Epichlorohydrin","y",null,null,null,"",null,null,null,null,"",null,null,null,null,"",null,null,null,null,"",null,null,null,null,"",null,null,null,null,"",null,null,null,null,"",null,null,null,null,"",null,null,null,null,"",null,null,null,null,"",null,null,null,null,"",null,null,null,null,"",null,null,null,null,"",null,null,null,null,""]
["Lead",null,null,null,null,"",null,null,null,null,"",null,null,null,null,"",null,null,null,null,"",null,null,null,null,"",null,null,null,null,"",null,null,null,null,"",null,null,null,null,"",null,null,null,null,"",null,null,null,null,"",null,null,null,null,"",null,null,null,null,"",null,null,null,null,"",null,null,null,null,""]
["Nickel",null,null,null,null,"",null,null,null,null,"",null,null,null,null,"",null,null,null,null,"",null,null,null,null,"",null,null,null,null,"",null,null,null,null,"",null,null,null,null,"",null,null,null,null,"",null,null,null,null,"",null,null,null,null,"",null,null,null,null,"",null,null,null,null,"",null,null,null,null,""]
["Trihalomethanes(THM)/THM Formation Potential ",null,null,null,null,"",null,null,null,null,"",null,null,null,null,"",null,null,null,null,"",null,null,null,null,"",null,null,null,null,"",null,null,null,null,"",null,null,null,null,"",null,null,null,null,"",null,null,null,null,"",null,null,null,null,"",null,null,null,null,"",null,null,null,null,"",null,null,null,null,""]
["Vinyl chloride",null,null,null,null,"",null,null,null,null,"",null,null,null,null,"",null,null,null,null,"",null,null,null,null,"",null,null,null,null,"",null,null,null,null,"",null,null,null,null,"",null,null,null,null,"",null,null,null,null,"",null,null,null,null,"",null,null,null,null,"",null,null,null,null,"",null,null,null,null,""]
["Chemicals: Rural and Agriculture",null,null,null,null,"",null,null,null,null,"",null,null,null,null,"",null,null,null,null,"",null,null,null,null,"",null,null,null,null,"",null,null,null,null,"",null,null,null,null,"",null,null,null,null,"",null,null,null,null,"",null,null,null,null,"",null,null,null,null,"",null,null,null,null,"",null,null,null,null,""]
["Nitrate",null,null,null,null,"",null,null,null,null,"",null,null,null,null,"",null,null,null,null,"",null,null,null,null,"",null,null,null,null,"",null,null,null,null,"",null,null,null,null,"",null,null,null,null,"",null,null,null,null,"",null,null,null,null,"",null,null,null,null,"",null,null,null,null,"",null,null,null,null,""]
["Nitrite",null,null,null,null,"",null,null,null,null,"",null,null,null,null,"",null,null,null,null,"",null,null,null,null,"",null,null,null,null,"",null,null,null,null,"",null,null,null,null,"",null,null,null,null,"",null,null,null,null,"",null,null,null,null,"",null,null,null,null,"",null,null,null,null,"",null,null,null,null,""]
["Pesticides: total",null,null,null,null,"",null,null,null,null,"",null,null,null,null,"",null,null,null,null,"",null,null,null,null,"",null,null,null,null,"",null,null,null,null,"",null,null,null,null,"",null,null,null,null,"",null,null,null,null,"",null,null,null,null,"",null,null,null,null,"",null,null,null,null,"",null,null,null,null,""]
["Pesticides ",null,null,null,null,"",null,null,null,null,"",null,null,null,null,"",null,null,null,null,"",null,null,null,null,"",null,null,null,null,"",null,null,null,null,"",null,null,null,null,"",null,null,null,null,"",null,null,null,null,"",null,null,null,null,"",null,null,null,null,"",null,null,null,null,"",null,null,null,null,""]
["Aldrin",null,null,null,null,"",null,null,null,null,"",null,null,null,null,"",null,null,null,null,"",null,null,null,null,"",null,null,null,null,"",null,null,null,null,"",null,null,null,null,"",null,null,null,null,"",null,null,null,null,"",null,null,null,null,"",null,null,null,null,"",null,null,null,null,"",null,null,null,null,""]
["Dieldrin ",null,null,null,null,"",null,null,null,null,"",null,null,null,null,"",null,null,null,null,"",null,null,null,null,"",null,null,null,null,"",null,null,null,null,"",null,null,null,null,"",null,null,null,null,"",null,null,null,null,"",null,null,null,null,"",null,null,null,null,"",null,null,null,null,"",null,null,null,null,""]
["Heptachlor",null,null,null,null,"",null,null,null,null,"",null,null,null,null,"",null,null,null,null,"",null,null,null,null,"",null,null,null,null,"",null,null,null,null,"",null,null,null,null,"",null,null,null,null,"",null,null,null,null,"",null,null,null,null,"",null,null,null,null,"",null,null,null,null,"",null,null,null,null,""]
["Heptachlor epoxide",null,null,null,null,"",null,null,null,null,"",null,null,null,null,"",null,null,null,null,"",null,null,null,null,"",null,null,null,null,"",null,null,null,null,"",null,null,null,null,"",null,null,null,null,"",null,null,null,null,"",null,null,null,null,"",null,null,null,null,"",null,null,null,null,"",null,null,null,null,""]
["Chemicals: Industrial",null,null,null,null,"",null,null,null,null,"",null,null,null,null,"",null,null,null,null,"",null,null,null,null,"",null,null,null,null,"",null,null,null,null,"",null,null,null,null,"",null,null,null,null,"",null,null,null,null,"",null,null,null,null,"",null,null,null,null,"",null,null,null,null,"",null,null,null,null,""]
["Benzene",null,null,null,null,"",null,null,null,null,"",null,null,null,null,"",null,null,null,null,"",null,null,null,null,"",null,null,null,null,"",null,null,null,null,"",null,null,null,null,"",null,null,null,null,"",null,null,null,null,"",null,null,null,null,"",null,null,null,null,"",null,null,null,null,"",null,null,null,null,""]
["Cadmium",null,null,null,null,"",null,null,null,null,"",null,null,null,null,"",null,null,null,null,"",null,null,null,null,"",null,null,null,null,"",null,null,null,null,"",null,null,null,null,"",null,null,null,null,"",null,null,null,null,"",null,null,null,null,"",null,null,null,null,"",null,null,null,null,"",null,null,null,null,""]
["Cyanide",null,null,null,null,"",null,null,null,null,"",null,null,null,null,"",null,null,null,null,"",null,null,null,null,"",null,null,null,null,"",null,null,null,null,"",null,null,null,null,"",null,null,null,null,"",null,null,null,null,"",null,null,null,null,"",null,null,null,null,"",null,null,null,null,"",null,null,null,null,""]
["Mercury",null,null,null,null,"",null,null,null,null,"",null,null,null,null,"",null,null,null,null,"",null,null,null,null,"",null,null,null,null,"",null,null,null,null,"",null,null,null,null,"",null,null,null,null,"",null,null,null,null,"",null,null,null,null,"",null,null,null,null,"",null,null,null,null,"",null,null,null,null,""]
["Tetrachloroethene and Trichloroethene",null,null,null,null,"",null,null,null,null,"",null,null,null,null,"",null,null,null,null,"",null,null,null,null,"",null,null,null,null,"",null,null,null,null,"",null,null,null,null,"",null,null,null,null,"",null,null,null,null,"",null,null,null,null,"",null,null,null,null,"",null,null,null,null,"",null,null,null,null,""]
["Polycyclic aromatic hydrocarbon:",null,null,null,null,"",null,null,null,null,"",null,null,null,null,"",null,null,null,null,"",null,null,null,null,"",null,null,null,null,"",null,null,null,null,"",null,null,null,null,"",null,null,null,null,"",null,null,null,null,"",null,null,null,null,"",null,null,null,null,"",null,null,null,null,"",null,null,null,null,""]
["benzo(b)fluoranthen ",null,null,null,null,"",null,null,null,null,"",null,null,null,null,"",null,null,null,null,"",null,null,null,null,"",null,null,null,null,"",null,null,null,null,"",null,null,null,null,"",null,null,null,null,"",null,null,null,null,"",null,null,null,null,"",null,null,null,null,"",null,null,null,null,"",null,null,null,null,""]
["benzo(k)fluoranthene",null,null,null,null,"",null,null,null,null,"",null,null,null,null,"",null,null,null,null,"",null,null,null,null,"",null,null,null,null,"",null,null,null,null,"",null,null,null,null,"",null,null,null,null,"",null,null,null,null,"",null,null,null,null,"",null,null,null,null,"",null,null,null,null,"",null,null,null,null,""]
["benzo(ghi)perylene ",null,null,null,null,"",null,null,null,null,"",null,null,null,null,"",null,null,null,null,"",null,null,null,null,"",null,null,null,null,"",null,null,null,null,"",null,null,null,null,"",null,null,null,null,"",null,null,null,null,"",null,null,null,null,"",null,null,null,null,"",null,null,null,null,"",null,null,null,null,""]
["indeno(1,2,3 -cd)pyrene",null,null,null,null,"",null,null,null,null,"",null,null,null,null,"",null,null,null,null,"",null,null,null,null,"",null,null,null,null,"",null,null,null,null,"",null,null,null,null,"",null,null,null,null,"",null,null,null,null,"",null,null,null,null,"",null,null,null,null,"",null,null,null,null,"",null,null,null,null,""]
["Benzo(a)pyrene",null,null,null,null,"",null,null,null,null,"",null,null,null,null,"",null,null,null,null,"",null,null,null,null,"",null,null,null,null,"",null,null,null,null,"",null,null,null,null,"",null,null,null,null,"",null,null,null,null,"",null,null,null,null,"",null,null,null,null,"",null,null,null,null,"",null,null,null,null,""]
["1,2 dichloroethane",null,null,null,null,"",null,null,null,null,"",null,null,null,null,"",null,null,null,null,"",null,null,null,null,"",null,null,null,null,"",null,null,null,null,"",null,null,null,null,"",null,null,null,null,"",null,null,null,null,"",null,null,null,null,"",null,null,null,null,"",null,null,null,null,"",null,null,null,null,""]
["Tetrachloromethane",null,null,null,null,"",null,null,null,null,"",null,null,null,null,"",null,null,null,null,"",null,null,null,null,"",null,null,null,null,"",null,null,null,null,"",null,null,null,null,"",null,null,null,null,"",null,null,null,null,"",null,null,null,null,"",null,null,null,null,"",null,null,null,null,"",null,null,null,null,""]
["Parameters affecting distribution and customer acceptability ",null,null,null,null,"",null,null,null,null,"",null,null,null,null,"",null,null,null,null,"",null,null,null,null,"",null,null,null,null,"",null,null,null,null,"",null,null,null,null,"",null,null,null,null,"",null,null,null,null,"",null,null,null,null,"",null,null,null,null,"",null,null,null,null,"",null,null,null,null,""]
["Corrosivity",null,null,null,null,"",null,null,null,null,"",null,null,null,null,"",null,null,null,null,"",null,null,null,null,"",null,null,null,null,"",null,null,null,null,"",null,null,null,null,"",null,null,null,null,"",null,null,null,null,"",null,null,null,null,"",null,null,null,null,"",null,null,null,null,"",null,null,null,null,""]
["Dirty/discoloured water ",null,null,null,null,"",null,null,null,null,"",null,null,null,null,"",null,null,null,null,"",null,null,null,null,"",null,null,null,null,"",null,null,null,null,"",null,null,null,null,"",null,null,null,null,"",null,null,null,null,"",null,null,null,null,"",null,null,null,null,"",null,null,null,null,"",null,null,null,null,""]
["Odour",null,null,null,null,"",null,null,null,null,"",null,null,null,null,"",null,null,null,null,"",null,null,null,null,"",null,null,null,null,"",null,null,null,null,"",null,null,null,null,"",null,null,null,null,"",null,null,null,null,"",null,null,null,null,"",null,null,null,null,"",null,null,null,null,"",null,null,null,null,""]
["Taste",null,null,null,null,"",null,null,null,null,"",null,null,null,null,"",null,null,null,null,"",null,null,null,null,"",null,null,null,null,"",null,null,null,null,"",null,null,null,null,"",null,null,null,null,"",null,null,null,null,"",null,null,null,null,"",null,null,null,null,"",null,null,null,null,"",null,null,null,null,""]
["Geosmin/2-Methylisoborneol (MIB)",null,null,null,null,"",null,null,null,null,"",null,null,null,null,"",null,null,null,null,"",null,null,null,null,"",null,null,null,null,"",null,null,null,null,"",null,null,null,null,"",null,null,null,null,"",null,null,null,null,"",null,null,null,null,"",null,null,null,null,"",null,null,null,null,"",null,null,null,null,""]
["Impact of operational changes",null,null,null,null,"",null,null,null,null,"",null,null,null,null,"",null,null,null,null,"",null,null,null,null,"",null,null,null,null,"",null,null,null,null,"",null,null,null,null,"",null,null,null,null,"",null,null,null,null,"",null,null,null,null,"",null,null,null,null,"",null,null,null,null,"",null,null,null,null,""]
["Change in hardness/Alkalinity",null,null,null,null,"",null,null,null,null,"",null,null,null,null,"",null,null,null,null,"",null,null,null,null,"",null,null,null,null,"",null,null,null,null,"",null,null,null,null,"",null,null,null,null,"",null,null,null,null,"",null,null,null,null,"",null,null,null,null,"",null,null,null,null,"",null,null,null,null,""]
["Change in source type (e.g. surface - groundwater)",null,null,null,null,"",null,null,null,null,"",null,null,null,null,"",null,null,null,null,"",null,null,null,null,"",null,null,null,null,"",null,null,null,null,"",null,null,null,null,"",null,null,null,null,"",null,null,null,null,"",null,null,null,null,"",null,null,null,null,"",null,null,null,null,"",null,null,null,null,""]
["Change to disinfection chemicals",null,null,null,null,"",null,null,null,null,"",null,null,null,null,"",null,null,null,null,"",null,null,null,null,"",null,null,null,null,"",null,null,null,null,"",null,null,null,null,"",null,null,null,null,"",null,null,null,null,"",null,null,null,null,"",null,null,null,null,"",null,null,null,null,"",null,null,null,null,""]
["Parameters used in design",null,null,null,null,"",null,null,null,null,"",null,null,null,null,"",null,null,null,null,"",null,null,null,null,"",null,null,null,null,"",null,null,null,null,"",null,null,null,null,"",null,null,null,null,"",null,null,null,null,"",null,null,null,null,"",null,null,null,null,"",null,null,null,null,"",null,null,null,null,""]
["1,4-dioxane",null,null,null,null,"",null,null,null,null,"",null,null,null,null,"",null,null,null,null,"",null,null,null,null,"",null,null,null,null,"",null,null,null,null,"",null,null,null,null,"",null,null,null,null,"",null,null,null,null,"",null,null,null,null,"",null,null,null,null,"",null,null,null,null,"",null,null,null,null,""]
["Alkalinity ",null,null,null,null,"",null,null,null,null,"",null,null,null,null,"",null,null,null,null,"",null,null,null,null,"",null,null,null,null,"",null,null,null,null,"",null,null,null,null,"",null,null,null,null,"",null,null,null,null,"",null,null,null,null,"",null,null,null,null,"",null,null,null,null,"",null,null,null,null,""]
["Pathogens - Bacteria, Viruses, Protozoa",null,null,null,null,"",null,null,null,null,"",null,null,null,null,"",null,null,null,null,"",null,null,null,null,"",null,null,null,null,"",null,null,null,null,"",null,null,null,null,"",null,null,null,null,"",null,null,null,null,"",null,null,null,null,"",null,null,null,null,"",null,null,null,null,"",null,null,null,null,""]
["Calcium ",null,null,null,null,"",null,null,null,null,"",null,null,null,null,"",null,null,null,null,"",null,null,null,null,"",null,null,null,null,"",null,null,null,null,"",null,null,null,null,"",null,null,null,null,"",null,null,null,null,"",null,null,null,null,"",null,null,null,null,"",null,null,null,null,"",null,null,null,null,""]
["Dissolved organic carbon ",null,null,null,null,"",null,null,null,null,"",null,null,null,null,"",null,null,null,null,"",null,null,null,null,"",null,null,null,null,"",null,null,null,null,"",null,null,null,null,"",null,null,null,null,"",null,null,null,null,"",null,null,null,null,"",null,null,null,null,"",null,null,null,null,"",null,null,null,null,""]
["Magnesium ",null,null,null,null,"",null,null,null,null,"",null,null,null,null,"",null,null,null,null,"",null,null,null,null,"",null,null,null,null,"",null,null,null,null,"",null,null,null,null,"",null,null,null,null,"",null,null,null,null,"",null,null,null,null,"",null,null,null,null,"",null,null,null,null,"",null,null,null,null,""]
["N-Nitrosodimethylamine (NDMA)",null,null,null,null,"",null,null,null,null,"",null,null,null,null,"",null,null,null,null,"",null,null,null,null,"",null,null,null,null,"",null,null,null,null,"",null,null,null,null,"",null,null,null,null,"",null,null,null,null,"",null,null,null,null,"",null,null,null,null,"",null,null,null,null,"",null,null,null,null,""]
["Nitrosamines",null,null,null,null,"",null,null,null,null,"",null,null,null,null,"",null,null,null,null,"",null,null,null,null,"",null,null,null,null,"",null,null,null,null,"",null,null,null,null,"",null,null,null,null,"",null,null,null,null,"",null,null,null,null,"",null,null,null,null,"",null,null,null,null,"",null,null,null,null,""]
["Orthophosphate ",null,null,null,null,"",null,null,null,null,"",null,null,null,null,"",null,null,null,null,"",null,null,null,null,"",null,null,null,null,"",null,null,null,null,"",null,null,null,null,"",null,null,null,null,"",null,null,null,null,"",null,null,null,null,"",null,null,null,null,"",null,null,null,null,"",null,null,null,null,""]
["Silica",null,null,null,null,"",null,null,null,null,"",null,null,null,null,"",null,null,null,null,"",null,null,null,null,"",null,null,null,null,"",null,null,null,null,"",null,null,null,null,"",null,null,null,null,"",null,null,null,null,"",null,null,null,null,"",null,null,null,null,"",null,null,null,null,"",null,null,null,null,""]
["Strontium ",null,null,null,null,"",null,null,null,null,"",null,null,null,null,"",null,null,null,null,"",null,null,null,null,"",null,null,null,null,"",null,null,null,null,"",null,null,null,null,"",null,null,null,null,"",null,null,null,null,"",null,null,null,null,"",null,null,null,null,"",null,null,null,null,"",null,null,null,null,""]
["Temperature ",null,null,null,null,"",null,null,null,null,"",null,null,null,null,"",null,null,null,null,"",null,null,null,null,"",null,null,null,null,"",null,null,null,null,"",null,null,null,null,"",null,null,null,null,"",null,null,null,null,"",null,null,null,null,"",null,null,null,null,"",null,null,null,null,"",null,null,null,null,""]
["Total Organic Carbon  (TOC) ",null,null,null,null,"",null,null,null,null,"",null,null,null,null,"",null,null,null,null,"",null,null,null,null,"",null,null,null,null,"",null,null,null,null,"",null,null,null,null,"",null,null,null,null,"",null,null,null,null,"",null,null,null,null,"",null,null,null,null,"",null,null,null,null,"",null,null,null,null,""]
["Total Suspended Solids (TSS)",null,null,null,null,"",null,null,null,null,"",null,null,null,null,"",null,null,null,null,"",null,null,null,null,"",null,null,null,null,"",null,null,null,null,"",null,null,null,null,"",null,null,null,null,"",null,null,null,null,"",null,null,null,null,"",null,null,null,null,"",null,null,null,null,"",null,null,null,null,""]
["Ultra violet UV254 ",null,null,null,null,"",null,null,null,null,"",null,null,null,null,"",null,null,null,null,"",null,null,null,null,"",null,null,null,null,"",null,null,null,null,"",null,null,null,null,"",null,null,null,null,"",null,null,null,null,"",null,null,null,null,"",null,null,null,null,"",null,null,null,null,"",null,null,null,null,""]
["Invasive non native species (INNS)",null,null,null,null,"",null,null,null,null,"",null,null,null,null,"",null,null,null,null,"",null,null,null,null,"",null,null,null,null,"",null,null,null,null,"",null,null,null,null,"",null,null,null,null,"",null,null,null,null,"",null,null,null,null,"",null,null,null,null,"",null,null,null,null,"",null,null,null,null,""]
["Remineralisation ",null,null,null,null,"",null,null,null,null,"",null,null,null,null,"",null,null,null,null,"",null,null,null,null,"",null,null,null,null,"",null,null,null,null,"",null,null,null,null,"",null,null,null,null,"",null,null,null,null,"",null,null,null,null,"",null,null,null,null,"",null,null,null,null,"",null,null,null,null,""]
["Indicator parameters",null,null,null,null,"",null,null,null,null,"",null,null,null,null,"",null,null,null,null,"",null,null,null,null,"",null,null,null,null,"",null,null,null,null,"",null,null,null,null,"",null,null,null,null,"",null,null,null,null,"",null,null,null,null,"",null,null,null,null,"",null,null,null,null,"",null,null,null,null,""]
["Ammonium ",null,null,null,null,"",null,null,null,null,"",null,null,null,null,"",null,null,null,null,"",null,null,null,null,"",null,null,null,null,"",null,null,null,null,"",null,null,null,null,"",null,null,null,null,"",null,null,null,null,"",null,null,null,null,"",null,null,null,null,"",null,null,null,null,"",null,null,null,null,""]
["Chloride",null,null,null,null,"",null,null,null,null,"",null,null,null,null,"",null,null,null,null,"",null,null,null,null,"",null,null,null,null,"",null,null,null,null,"",null,null,null,null,"",null,null,null,null,"",null,null,null,null,"",null,null,null,null,"",null,null,null,null,"",null,null,null,null,"",null,null,null,null,""]
["Conductivity ",null,null,null,null,"",null,null,null,null,"",null,null,null,null,"",null,null,null,null,"",null,null,null,null,"",null,null,null,null,"",null,null,null,null,"",null,null,null,null,"",null,null,null,null,"",null,null,null,null,"",null,null,null,null,"",null,null,null,null,"",null,null,null,null,"",null,null,null,null,""]
["Hydrogen ion ",null,null,null,null,"",null,null,null,null,"",null,null,null,null,"",null,null,null,null,"",null,null,null,null,"",null,null,null,null,"",null,null,null,null,"",null,null,null,null,"",null,null,null,null,"",null,null,null,null,"",null,null,null,null,"",null,null,null,null,"",null,null,null,null,"",null,null,null,null,""]
["Radioactivity(Alpha, Beta,Tritium)",null,null,null,null,"",null,null,null,null,"",null,null,null,null,"",null,null,null,null,"",null,null,null,null,"",null,null,null,null,"",null,null,null,null,"",null,null,null,null,"",null,null,null,null,"",null,null,null,null,"",null,null,null,null,"",null,null,null,null,"",null,null,null,null,"",null,null,null,null,""]
["Parameters of emerging concern",null,null,null,null,"",null,null,null,null,"",null,null,null,null,"",null,null,null,null,"",null,null,null,null,"",null,null,null,null,"",null,null,null,null,"",null,null,null,null,"",null,null,null,null,"",null,null,null,null,"",null,null,null,null,"",null,null,null,null,"",null,null,null,null,"",null,null,null,null,""]
["Chlorate",null,null,null,null,"",null,null,null,null,"",null,null,null,null,"",null,null,null,null,"",null,null,null,null,"",null,null,null,null,"",null,null,null,null,"",null,null,null,null,"",null,null,null,null,"",null,null,null,null,"",null,null,null,null,"",null,null,null,null,"",null,null,null,null,"",null,null,null,null,""]
["Chlorite",null,null,null,null,"",null,null,null,null,"",null,null,null,null,"",null,null,null,null,"",null,null,null,null,"",null,null,null,null,"",null,null,null,null,"",null,null,null,null,"",null,null,null,null,"",null,null,null,null,"",null,null,null,null,"",null,null,null,null,"",null,null,null,null,"",null,null,null,null,""]
["Chromium ",null,null,null,null,"",null,null,null,null,"",null,null,null,null,"",null,null,null,null,"",null,null,null,null,"",null,null,null,null,"",null,null,null,null,"",null,null,null,null,"",null,null,null,null,"",null,null,null,null,"",null,null,null,null,"",null,null,null,null,"",null,null,null,null,"",null,null,null,null,""]
["Clostridium perfringens",null,null,null,null,"",null,null,null,null,"",null,null,null,null,"",null,null,null,null,"",null,null,null,null,"",null,null,null,null,"",null,null,null,null,"",null,null,null,null,"",null,null,null,null,"",null,null,null,null,"",null,null,null,null,"",null,null,null,null,"",null,null,null,null,"",null,null,null,null,""]
["Endocrine disrupting compounds",null,null,null,null,"",null,null,null,null,"",null,null,null,null,"",null,null,null,null,"",null,null,null,null,"",null,null,null,null,"",null,null,null,null,"",null,null,null,null,"",null,null,null,null,"",null,null,null,null,"",null,null,null,null,"",null,null,null,null,"",null,null,null,null,"",null,null,null,null,""]
["beta - estradiol ",null,null,null,null,"",null,null,null,null,"",null,null,null,null,"",null,null,null,null,"",null,null,null,null,"",null,null,null,null,"",null,null,null,null,"",null,null,null,null,"",null,null,null,null,"",null,null,null,null,"",null,null,null,null,"",null,null,null,null,"",null,null,null,null,"",null,null,null,null,""]
["nonylphenol ",null,null,null,null,"",null,null,null,null,"",null,null,null,null,"",null,null,null,null,"",null,null,null,null,"",null,null,null,null,"",null,null,null,null,"",null,null,null,null,"",null,null,null,null,"",null,null,null,null,"",null,null,null,null,"",null,null,null,null,"",null,null,null,null,"",null,null,null,null,""]
["bisphenol ",null,null,null,null,"",null,null,null,null,"",null,null,null,null,"",null,null,null,null,"",null,null,null,null,"",null,null,null,null,"",null,null,null,null,"",null,null,null,null,"",null,null,null,null,"",null,null,null,null,"",null,null,null,null,"",null,null,null,null,"",null,null,null,null,"",null,null,null,null,""]
["Lead",null,null,null,null,"",null,null,null,null,"",null,null,null,null,"",null,null,null,null,"",null,null,null,null,"",null,null,null,null,"",null,null,null,null,"",null,null,null,null,"",null,null,null,null,"",null,null,null,null,"",null,null,null,null,"",null,null,null,null,"",null,null,null,null,"",null,null,null,null,""]
["Perfluorooctane sulfonate (PFOS)",null,null,null,null,"",null,null,null,null,"",null,null,null,null,"",null,null,null,null,"",null,null,null,null,"",null,null,null,null,"",null,null,null,null,"",null,null,null,null,"",null,null,null,null,"",null,null,null,null,"",null,null,null,null,"",null,null,null,null,"",null,null,null,null,"",null,null,null,null,""]
["Perfluorooctanoic acid (PFOA)",null,null,null,null,"",null,null,null,null,"",null,null,null,null,"",null,null,null,null,"",null,null,null,null,"",null,null,null,null,"",null,null,null,null,"",null,null,null,null,"",null,null,null,null,"",null,null,null,null,"",null,null,null,null,"",null,null,null,null,"",null,null,null,null,"",null,null,null,null,""]
["Somatic coliphage",null,null,null,null,"",null,null,null,null,"",null,null,null,null,"",null,null,null,null,"",null,null,null,null,"",null,null,null,null,"",null,null,null,null,"",null,null,null,null,"",null,null,null,null,"",null,null,null,null,"",null,null,null,null,"",null,null,null,null,"",null,null,null,null,"",null,null,null,null,""]
["General Parameters/Other",null,null,null,null,"",null,null,null,null,"",null,null,null,null,"",null,null,null,null,"",null,null,null,null,"",null,null,null,null,"",null,null,null,null,"",null,null,null,null,"",null,null,null,null,"",null,null,null,null,"",null,null,null,null,"",null,null,null,null,"",null,null,null,null,"",null,null,null,null,""]
["Turbidity ",null,null,null,null,"",null,null,null,null,"",null,null,null,null,"",null,null,null,null,"",null,null,null,null,"",null,null,null,null,"",null,null,null,null,"",null,null,null,null,"",null,null,null,null,"",null,null,null,null,"",null,null,null,null,"",null,null,null,null,"",null,null,null,null,"",null,null,null,null,""]
["Algae",null,null,null,null,"",null,null,null,null,"",null,null,null,null,"",null,null,null,null,"",null,null,null,null,"",null,null,null,null,"",null,null,null,null,"",null,null,null,null,"",null,null,null,null,"",null,null,null,null,"",null,null,null,null,"",null,null,null,null,"",null,null,null,null,"",null,null,null,null,""]
["Enter additional parameters",null,null,null,null,"",null,null,null,null,"",null,null,null,null,"",null,null,null,null,"",null,null,null,null,"",null,null,null,null,"",null,null,null,null,"",null,null,null,null,"",null,null,null,null,"",null,null,null,null,"",null,null,null,null,"",null,null,null,null,"",null,null,null,null,"",null,null,null,null,""]
["Enter additional parameters",null,null,null,null,"",null,null,null,null,"",null,null,null,null,"",null,null,null,null,"",null,null,null,null,"",null,null,null,null,"",null,null,null,null,"",null,null,null,null,"",null,null,null,null,"",null,null,null,null,"",null,null,null,null,"",null,null,null,null,"",null,null,null,null,"",null,null,null,null,""]
["Enter additional parameters",null,null,null,null,"",null,null,null,null,"",null,null,null,null,"",null,null,null,null,"",null,null,null,null,"",null,null,null,null,"",null,null,null,null,"",null,null,null,null,"",null,null,null,null,"",null,null,null,null,"",null,null,null,null,"",null,null,null,null,"",null,null,null,null,"",null,null,null,null,""]
["Enter additional parameters",null,null,null,null,"",null,null,null,null,"",null,null,null,null,"",null,null,null,null,"",null,null,null,null,"",null,null,null,null,"",null,null,null,null,"",null,null,null,null,"",null,null,null,null,"",null,null,null,null,"",null,null,null,null,"",null,null,null,null,"",null,null,null,null,"",null,null,null,null,""]
["Enter additional parameters",null,null,null,null,"",null,null,null,null,"",null,null,null,null,"",null,null,null,null,"",null,null,null,null,"",null,null,null,null,"",null,null,null,null,"",null,null,null,null,"",null,null,null,null,"",null,null,null,null,"",null,null,null,null,"",null,null,null,null,"",null,null,null,null,"",null,null,null,null,""]
[null,null,null,null,null,"",null,null,null,null,"",null,null,null,null,"",null,null,null,null,"",null,null,null,null,"",null,null,null,null,"",null,null,null,null,"",null,null,null,null,"",null,null,null,null,"",null,null,null,null,"",null,null,null,null,"",null,null,null,null,"",null,null,null,null,"",null,null,null,null,""]
[null,null,null,null,null,"",null,null,null,null,"",null,null,null,null,"",null,null,null,null,"",null,null,null,null,"",null,null,null,null,"",null,null,null,null,"",null,null,null,null,"",null,null,null,null,"",null,null,null,null,"",null,null,null,null,"",null,null,null,null,"",null,null,null,null,"",null,null,null,null,""]
[null,null,null,null,null,"",null,null,null,null,"",null,null,null,null,"",null,null,null,null,"",null,null,null,null,"",null,null,null,null,"",null,null,null,null,"",null,null,null,null,"",null,null,null,null,"",null,null,null,null,"",null,null,null,null,"",null,null,null,null,"",null,null,null,null,"",null,null,null,null,""]
[null,null,null,null,null,"",null,null,null,null,"",null,null,null,null,"",null,null,null,null,"",null,null,null,null,"",null,null,null,null,"",null,null,null,null,"",null,null,null,null,"",null,null,null,null,"",null,null,null,null,"",null,null,null,null,"",null,null,null,null,"",null,null,null,null,"",null,null,null,null,""]
[null,null,null,null,null,"",null,null,null,null,"",null,null,null,null,"",null,null,null,null,"",null,null,null,null,"",null,null,null,null,"",null,null,null,null,"",null,null,null,null,"",null,null,null,null,"",null,null,null,null,"",null,null,null,null,"",null,null,null,null,"",null,null,null,null,"",null,null,null,null,""]
[null,null,null,null,null,"",null,null,null,null,"",null,null,null,null,"",null,null,null,null,"",null,null,null,null,"",null,null,null,null,"",null,null,null,null,"",null,null,null,null,"",null,null,null,null,"",null,null,null,null,"",null,null,null,null,"",null,null,null,null,"",null,null,null,null,"",null,null,null,null,""]
[null,null,null,null,null,"",null,null,null,null,"",null,null,null,null,"",null,null,null,null,"",null,null,null,null,"",null,null,null,null,"",null,null,null,null,"",null,null,null,null,"",null,null,null,null,"",null,null,null,null,"",null,null,null,null,"",null,null,null,null,"",null,null,null,null,"",null,null,null,null,""]
[null,null,null,null,null,"",null,null,null,null,"",null,null,null,null,"",null,null,null,null,"",null,null,null,null,"",null,null,null,null,"",null,null,null,null,"",null,null,null,null,"",null,null,null,null,"",null,null,null,null,"",null,null,null,null,"",null,null,null,null,"",null,null,null,null,"",null,null,null,null,""]
[null,null,null,null,null,"",null,null,null,null,"",null,null,null,null,"",null,null,null,null,"",null,null,null,null,"",null,null,null,null,"",null,null,null,null,"",null,null,null,null,"",null,null,null,null,"",null,null,null,null,"",null,null,null,null,"",null,null,null,null,"",null,null,null,null,"",null,null,null,null,""]
[null,null,null,null,null,"",null,null,null,null,"",null,null,null,null,"",null,null,null,null,"",null,null,null,null,"",null,null,null,null,"",null,null,null,null,"",null,null,null,null,"",null,null,null,null,"",null,null,null,null,"",null,null,null,null,"",null,null,null,null,"",null,null,null,null,"",null,null,null,null,""]
[null,null,null,null,null,"",null,null,null,null,"",null,null,null,null,"",null,null,null,null,"",null,null,null,null,"",null,null,null,null,"",null,null,null,null,"",null,null,null,null,"",null,null,null,null,"",null,null,null,null,"",null,null,null,null,"",null,null,null,null,"",null,null,null,null,"",null,null,null,null,""]
[null,null,null,null,null,"",null,null,null,null,"",null,null,null,null,"",null,null,null,null,"",null,null,null,null,"",null,null,null,null,"",null,null,null,null,"",null,null,null,null,"",null,null,null,null,"",null,null,null,null,"",null,null,null,null,"",null,null,null,null,"",null,null,null,null,"",null,null,null,null,""]
[null,null,null,null,null,"",null,null,null,null,"",null,null,null,null,"",null,null,null,null,"",null,null,null,null,"",null,null,null,null,"",null,null,null,null,"",null,null,null,null,"",null,null,null,null,"",null,null,null,null,"",null,null,null,null,"",null,null,null,null,"",null,null,null,null,"",null,null,null,null,""]
[null,null,null,null,null,"",null,null,null,null,"",null,null,null,null,"",null,null,null,null,"",null,null,null,null,"",null,null,null,null,"",null,null,null,null,"",null,null,null,null,"",null,null,null,null,"",null,null,null,null,"",null,null,null,null,"",null,null,null,null,"",null,null,null,null,"",null,null,null,null,""]
[null,null,null,null,null,"",null,null,null,null,"",null,null,null,null,"",null,null,null,null,"",null,null,null,null,"",null,null,null,null,"",null,null,null,null,"",null,null,null,null,"",null,null,null,null,"",null,null,null,null,"",null,null,null,null,"",null,null,null,null,"",null,null,null,null,"",null,null,null,null,""]
[null,null,null,null,null,"",null,null,null,null,"",null,null,null,null,"",null,null,null,null,"",null,null,null,null,"",null,null,null,null,"",null,null,null,null,"",null,null,null,null,"",null,null,null,null,"",null,null,null,null,"",null,null,null,null,"",null,null,null,null,"",null,null,null,null,"",null,null,null,null,""]
[null,null,null,null,null,"",null,null,null,null,"",null,null,null,null,"",null,null,null,null,"",null,null,null,null,"",null,null,null,null,"",null,null,null,null,"",null,null,null,null,"",null,null,null,null,"",null,null,null,null,"",null,null,null,null,"",null,null,null,null,"",null,null,null,null,"",null,null,null,null,""]
[null,null,null,null,null,"",null,null,null,null,"",null,null,null,null,"",null,null,null,null,"",null,null,null,null,"",null,null,null,null,"",null,null,null,null,"",null,null,null,null,"",null,null,null,null,"",null,null,null,null,"",null,null,null,null,"",null,null,null,null,"",null,null,null,null,"",null,null,null,null,""]
[null,null,null,null,null,"",null,null,null,null,"",null,null,null,null,"",null,null,null,null,"",null,null,null,null,"",null,null,null,null,"",null,null,null,null,"",null,null,null,null,"",null,null,null,null,"",null,null,null,null,"",null,null,null,null,"",null,null,null,null,"",null,null,null,null,"",null,null,null,null,""]
[null,null,null,null,null,"",null,null,null,null,"",null,null,null,null,"",null,null,null,null,"",null,null,null,null,"",null,null,null,null,"",null,null,null,null,"",null,null,null,null,"",null,null,null,null,"",null,null,null,null,"",null,null,null,null,"",null,null,null,null,"",null,null,null,null,"",null,null,null,null,""]
[null,null,null,null,null,"",null,null,null,null,"",null,null,null,null,"",null,null,null,null,"",null,null,null,null,"",null,null,null,null,"",null,null,null,null,"",null,null,null,null,"",null,null,null,null,"",null,null,null,null,"",null,null,null,null,"",null,null,null,null,"",null,null,null,null,"",null,null,null,null,""]
[null,null,null,null,null,"",null,null,null,null,"",null,null,null,null,"",null,null,null,null,"",null,null,null,null,"",null,null,null,null,"",null,null,null,null,"",null,null,null,null,"",null,null,null,null,"",null,null,null,null,"",null,null,null,null,"",null,null,null,null,"",null,null,null,null,"",null,null,null,null,""]
[null,null,null,null,null,"",null,null,null,null,"",null,null,null,null,"",null,null,null,null,"",null,null,null,null,"",null,null,null,null,"",null,null,null,null,"",null,null,null,null,"",null,null,null,null,"",null,null,null,null,"",null,null,null,null,"",null,null,null,null,"",null,null,null,null,"",null,null,null,null,""]
[null,null,null,null,null,"",null,null,null,null,"",null,null,null,null,"",null,null,null,null,"",null,null,null,null,"",null,null,null,null,"",null,null,null,null,"",null,null,null,null,"",null,null,null,null,"",null,null,null,null,"",null,null,null,null,"",null,null,null,null,"",null,null,null,null,"",null,null,null,null,""]
[null,null,null,null,null,"",null,null,null,null,"",null,null,null,null,"",null,null,null,null,"",null,null,null,null,"",null,null,null,null,"",null,null,null,null,"",null,null,null,null,"",null,null,null,null,"",null,null,null,null,"",null,null,null,null,"",null,null,null,null,"",null,null,null,null,"",null,null,null,null,""]
[null,null,null,null,null,"",null,null,null,null,"",null,null,null,null,"",null,null,null,null,"",null,null,null,null,"",null,null,null,null,"",null,null,null,null,"",null,null,null,null,"",null,null,null,null,"",null,null,null,null,"",null,null,null,null,"",null,null,null,null,"",null,null,null,null,"",null,null,null,null,""]
[null,null,null,null,null,"",null,null,null,null,"",null,null,null,null,"",null,null,null,null,"",null,null,null,null,"",null,null,null,null,"",null,null,null,null,"",null,null,null,null,"",null,null,null,null,"",null,null,null,null,"",null,null,null,null,"",null,null,null,null,"",null,null,null,null,"",null,null,null,null,""]
[null,null,null,null,null,"",null,null,null,null,"",null,null,null,null,"",null,null,null,null,"",null,null,null,null,"",null,null,null,null,"",null,null,null,null,"",null,null,null,null,"",null,null,null,null,"",null,null,null,null,"",null,null,null,null,"",null,null,null,null,"",null,null,null,null,"",null,null,null,null,""]
[null,null,null,null,null,"",null,null,null,null,"",null,null,null,null,"",null,null,null,null,"",null,null,null,null,"",null,null,null,null,"",null,null,null,null,"",null,null,null,null,"",null,null,null,null,"",null,null,null,null,"",null,null,null,null,"",null,null,null,null,"",null,null,null,null,"",null,null,null,null,""]
[null,null,null,null,null,"",null,null,null,null,"",null,null,null,null,"",null,null,null,null,"",null,null,null,null,"",null,null,null,null,"",null,null,null,null,"",null,null,null,null,"",null,null,null,null,"",null,null,null,null,"",null,null,null,null,"",null,null,null,null,"",null,null,null,null,"",null,null,null,null,""]
[null,null,null,null,null,"",null,null,null,null,"",null,null,null,null,"",null,null,null,null,"",null,null,null,null,"",null,null,null,null,"",null,null,null,null,"",null,null,null,null,"",null,null,null,null,"",null,null,null,null,"",null,null,null,null,"",null,null,null,null,"",null,null,null,null,"",null,null,null,null,""]
[null,null,null,null,null,"",null,null,null,null,"",null,null,null,null,"",null,null,null,null,"",null,null,null,null,"",null,null,null,null,"",null,null,null,null,"",null,null,null,null,"",null,null,null,null,"",null,null,null,null,"",null,null,null,null,"",null,null,null,null,"",null,null,null,null,"",null,null,null,null,""]
[null,null,null,null,null,"",null,null,null,null,"",null,null,null,null,"",null,null,null,null,"",null,null,null,null,"",null,null,null,null,"",null,null,null,null,"",null,null,null,null,"",null,null,null,null,"",null,null,null,null,"",null,null,null,null,"",null,null,null,null,"",null,null,null,null,"",null,null,null,null,""]
[null,null,null,null,null,"",null,null,null,null,"",null,null,null,null,"",null,null,null,null,"",null,null,null,null,"",null,null,null,null,"",null,null,null,null,"",null,null,null,null,"",null,null,null,null,"",null,null,null,null,"",null,null,null,null,"",null,null,null,null,"",null,null,null,null,"",null,null,null,null,""]
[null,null,null,null,null,"",null,null,null,null,"",null,null,null,null,"",null,null,null,null,"",null,null,null,null,"",null,null,null,null,"",null,null,null,null,"",null,null,null,null,"",null,null,null,null,"",null,null,null,null,"",null,null,null,null,"",null,null,null,null,"",null,null,null,null,"",null,null,null,null,""]
[null,null,null,null,null,"",null,null,null,null,"",null,null,null,null,"",null,null,null,null,"",null,null,null,null,"",null,null,null,null,"",null,null,null,null,"",null,null,null,null,"",null,null,null,null,"",null,null,null,null,"",null,null,null,null,"",null,null,null,null,"",null,null,null,null,"",null,null,null,null,""]
[null,null,null,null,null,"",null,null,null,null,"",null,null,null,null,"",null,null,null,null,"",null,null,null,null,"",null,null,null,null,"",null,null,null,null,"",null,null,null,null,"",null,null,null,null,"",null,null,null,null,"",null,null,null,null,"",null,null,null,null,"",null,null,null,null,"",null,null,null,null,""]
[null,null,null,null,null,"",null,null,null,null,"",null,null,null,null,"",null,null,null,null,"",null,null,null,null,"",null,null,null,null,"",null,null,null,null,"",null,null,null,null,"",null,null,null,null,"",null,null,null,null,"",null,null,null,null,"",null,null,null,null,"",null,null,null,null,"",null,null,null,null,""]
[null,null,null,null,null,"",null,null,null,null,"",null,null,null,null,"",null,null,null,null,"",null,null,null,null,"",null,null,null,null,"",null,null,null,null,"",null,null,null,null,"",null,null,null,null,"",null,null,null,null,"",null,null,null,null,"",null,null,null,null,"",null,null,null,null,"",null,null,null,null,""]
[null,null,null,null,null,"",null,null,null,null,"",null,null,null,null,"",null,null,null,null,"",null,null,null,null,"",null,null,null,null,"",null,null,null,null,"",null,null,null,null,"",null,null,null,null,"",null,null,null,null,"",null,null,null,null,"",null,null,null,null,"",null,null,null,null,"",null,null,null,null,""]
[null,null,null,null,null,"",null,null,null,null,"",null,null,null,null,"",null,null,null,null,"",null,null,null,null,"",null,null,null,null,"",null,null,null,null,"",null,null,null,null,"",null,null,null,null,"",null,null,null,null,"",null,null,null,null,"",null,null,null,null,"",null,null,null,null,"",null,null,null,null,""]
[null,null,null,null,null,"",null,null,null,null,"",null,null,null,null,"",null,null,null,null,"",null,null,null,null,"",null,null,null,null,"",null,null,null,null,"",null,null,null,null,"",null,null,null,null,"",null,null,null,null,"",null,null,null,null,"",null,null,null,null,"",null,null,null,null,"",null,null,null,null,""]
[null,null,null,null,null,"",null,null,null,null,"",null,null,null,null,"",null,null,null,null,"",null,null,null,null,"",null,null,null,null,"",null,null,null,null,"",null,null,null,null,"",null,null,null,null,"",null,null,null,null,"",null,null,null,null,"",null,null,null,null,"",null,null,null,null,"",null,null,null,null,""]
[null,null,null,null,null,"",null,null,null,null,"",null,null,null,null,"",null,null,null,null,"",null,null,null,null,"",null,null,null,null,"",null,null,null,null,"",null,null,null,null,"",null,null,null,null,"",null,null,null,null,"",null,null,null,null,"",null,null,null,null,"",null,null,null,null,"",null,null,null,null,""]
[null,null,null,null,null,"",null,null,null,null,"",null,null,null,null,"",null,null,null,null,"",null,null,null,null,"",null,null,null,null,"",null,null,null,null,"",null,null,null,null,"",null,null,null,null,"",null,null,null,null,"",null,null,null,null,"",null,null,null,null,"",null,null,null,null,"",null,null,null,null,""]
[null,null,null,null,null,"",null,null,null,null,"",null,null,null,null,"",null,null,null,null,"",null,null,null,null,"",null,null,null,null,"",null,null,null,null,"",null,null,null,null,"",null,null,null,null,"",null,null,null,null,"",null,null,null,null,"",null,null,null,null,"",null,null,null,null,"",null,null,null,null,""]
[null,null,null,null,null,"",null,null,null,null,"",null,null,null,null,"",null,null,null,null,"",null,null,null,null,"",null,null,null,null,"",null,null,null,null,"",null,null,null,null,"",null,null,null,null,"",null,null,null,null,"",null,null,null,null,"",null,null,null,null,"",null,null,null,null,"",null,null,null,null,""]
[null,null,null,null,null,"",null,null,null,null,"",null,null,null,null,"",null,null,null,null,"",null,null,null,null,"",null,null,null,null,"",null,null,null,null,"",null,null,null,null,"",null,null,null,null,"",null,null,null,null,"",null,null,null,null,"",null,null,null,null,"",null,null,null,null,"",null,null,null,null,""]
[null,null,null,null,null,"",null,null,null,null,"",null,null,null,null,"",null,null,null,null,"",null,null,null,null,"",null,null,null,null,"",null,null,null,null,"",null,null,null,null,"",null,null,null,null,"",null,null,null,null,"",null,null,null,null,"",null,null,null,null,"",null,null,null,null,"",null,null,null,null,""]
[null,null,null,null,null,"",null,null,null,null,"",null,null,null,null,"",null,null,null,null,"",null,null,null,null,"",null,null,null,null,"",null,null,null,null,"",null,null,null,null,"",null,null,null,null,"",null,null,null,null,"",null,null,null,null,"",null,null,null,null,"",null,null,null,null,"",null,null,null,null,""]
[null,null,null,null,null,"",null,null,null,null,"",null,null,null,null,"",null,null,null,null,"",null,null,null,null,"",null,null,null,null,"",null,null,null,null,"",null,null,null,null,"",null,null,null,null,"",null,null,null,null,"",null,null,null,null,"",null,null,null,null,"",null,null,null,null,"",null,null,null,null,""]
[null,null,null,null,null,"",null,null,null,null,"",null,null,null,null,"",null,null,null,null,"",null,null,null,null,"",null,null,null,null,"",null,null,null,null,"",null,null,null,null,"",null,null,null,null,"",null,null,null,null,"",null,null,null,null,"",null,null,null,null,"",null,null,null,null,"",null,null,null,null,""]
[null,null,null,null,null,"",null,null,null,null,"",null,null,null,null,"",null,null,null,null,"",null,null,null,null,"",null,null,null,null,"",null,null,null,null,"",null,null,null,null,"",null,null,null,null,"",null,null,null,null,"",null,null,null,null,"",null,null,null,null,"",null,null,null,null,"",null,null,null,null,""]
[null,null,null,null,null,"",null,null,null,null,"",null,null,null,null,"",null,null,null,null,"",null,null,null,null,"",null,null,null,null,"",null,null,null,null,"",null,null,null,null,"",null,null,null,null,"",null,null,null,null,"",null,null,null,null,"",null,null,null,null,"",null,null,null,null,"",null,null,null,null,""]
[null,null,null,null,null,"",null,null,null,null,"",null,null,null,null,"",null,null,null,null,"",null,null,null,null,"",null,null,null,null,"",null,null,null,null,"",null,null,null,null,"",null,null,null,null,"",null,null,null,null,"",null,null,null,null,"",null,null,null,null,"",null,null,null,null,"",null,null,null,null,""]
[null,null,null,null,null,"",null,null,null,null,"",null,null,null,null,"",null,null,null,null,"",null,null,null,null,"",null,null,null,null,"",null,null,null,null,"",null,null,null,null,"",null,null,null,null,"",null,null,null,null,"",null,null,null,null,"",null,null,null,null,"",null,null,null,null,"",null,null,null,null,""]
[null,null,null,null,null,"",null,null,null,null,"",null,null,null,null,"",null,null,null,null,"",null,null,null,null,"",null,null,null,null,"",null,null,null,null,"",null,null,null,null,"",null,null,null,null,"",null,null,null,null,"",null,null,null,null,"",null,null,null,null,"",null,null,null,null,"",null,null,null,null,""]
[null,null,null,null,null,"",null,null,null,null,"",null,null,null,null,"",null,null,null,null,"",null,null,null,null,"",null,null,null,null,"",null,null,null,null,"",null,null,null,null,"",null,null,null,null,"",null,null,null,null,"",null,null,null,null,"",null,null,null,null,"",null,null,null,null,"",null,null,null,null,""]
[null,null,null,null,null,"",null,null,null,null,"",null,null,null,null,"",null,null,null,null,"",null,null,null,null,"",null,null,null,null,"",null,null,null,null,"",null,null,null,null,"",null,null,null,null,"",null,null,null,null,"",null,null,null,null,"",null,null,null,null,"",null,null,null,null,"",null,null,null,null,""]
[null,null,null,null,null,"",null,null,null,null,"",null,null,null,null,"",null,null,null,null,"",null,null,null,null,"",null,null,null,null,"",null,null,null,null,"",null,null,null,null,"",null,null,null,null,"",null,null,null,null,"",null,null,null,null,"",null,null,null,null,"",null,null,null,null,"",null,null,null,null,""]
[null,null,null,null,null,"",null,null,null,null,"",null,null,null,null,"",null,null,null,null,"",null,null,null,null,"",null,null,null,null,"",null,null,null,null,"",null,null,null,null,"",null,null,null,null,"",null,null,null,null,"",null,null,null,null,"",null,null,null,null,"",null,null,null,null,"",null,null,null,null,""]
[null,null,null,null,null,"",null,null,null,null,"",null,null,null,null,"",null,null,null,null,"",null,null,null,null,"",null,null,null,null,"",null,null,null,null,"",null,null,null,null,"",null,null,null,null,"",null,null,null,null,"",null,null,null,null,"",null,null,null,null,"",null,null,null,null,"",null,null,null,null,""]
[null,null,null,null,null,"",null,null,null,null,"",null,null,null,null,"",null,null,null,null,"",null,null,null,null,"",null,null,null,null,"",null,null,null,null,"",null,null,null,null,"",null,null,null,null,"",null,null,null,null,"",null,null,null,null,"",null,null,null,null,"",null,null,null,null,"",null,null,null,null,""]
[null,null,null,null,null,"",null,null,null,null,"",null,null,null,null,"",null,null,null,null,"",null,null,null,null,"",null,null,null,null,"",null,null,null,null,"",null,null,null,null,"",null,null,null,null,"",null,null,null,null,"",null,null,null,null,"",null,null,null,null,"",null,null,null,null,"",null,null,null,null,""]
[null,null,null,null,null,"",null,null,null,null,"",null,null,null,null,"",null,null,null,null,"",null,null,null,null,"",null,null,null,null,"",null,null,null,null,"",null,null,null,null,"",null,null,null,null,"",null,null,null,null,"",null,null,null,null,"",null,null,null,null,"",null,null,null,null,"",null,null,null,null,""]
[null,null,null,null,null,"",null,null,null,null,"",null,null,null,null,"",null,null,null,null,"",null,null,null,null,"",null,null,null,null,"",null,null,null,null,"",null,null,null,null,"",null,null,null,null,"",null,null,null,null,"",null,null,null,null,"",null,null,null,null,"",null,null,null,null,"",null,null,null,null,""]
[null,null,null,null,null,"",null,null,null,null,"",null,null,null,null,"",null,null,null,null,"",null,null,null,null,"",null,null,null,null,"",null,null,null,null,"",null,null,null,null,"",null,null,null,null,"",null,null,null,null,"",null,null,null,null,"",null,null,null,null,"",null,null,null,null,"",null,null,null,null,""]
[null,null,null,null,null,"",null,null,null,null,"",null,null,null,null,"",null,null,null,null,"",null,null,null,null,"",null,null,null,null,"",null,null,null,null,"",null,null,null,null,"",null,null,null,null,"",null,null,null,null,"",null,null,null,null,"",null,null,null,null,"",null,null,null,null,"",null,null,null,null,""]
[null,null,null,null,null,"",null,null,null,null,"",null,null,null,null,"",null,null,null,null,"",null,null,null,null,"",null,null,null,null,"",null,null,null,null,"",null,null,null,null,"",null,null,null,null,"",null,null,null,null,"",null,null,null,null,"",null,null,null,null,"",null,null,null,null,"",null,null,null,null,""]
[null,null,null,null,null,"",null,null,null,null,"",null,null,null,null,"",null,null,null,null,"",null,null,null,null,"",null,null,null,null,"",null,null,null,null,"",null,null,null,null,"",null,null,null,null,"",null,null,null,null,"",null,null,null,null,"",null,null,null,null,"",null,null,null,null,"",null,null,null,null,""]
[null,null,null,null,null,"",null,null,null,null,"",null,null,null,null,"",null,null,null,null,"",null,null,null,null,"",null,null,null,null,"",null,null,null,null,"",null,null,null,null,"",null,null,null,null,"",null,null,null,null,"",null,null,null,null,"",null,null,null,null,"",null,null,null,null,"",null,null,null,null,""]
[null,null,null,null,null,"",null,null,null,null,"",null,null,null,null,"",null,null,null,null,"",null,null,null,null,"",null,null,null,null,"",null,null,null,null,"",null,null,null,null,"",null,null,null,null,"",null,null,null,null,"",null,null,null,null,"",null,null,null,null,"",null,null,null,null,"",null,null,null,null,""]
[null,null,null,null,null,"",null,null,null,null,"",null,null,null,null,"",null,null,null,null,"",null,null,null,null,"",null,null,null,null,"",null,null,null,null,"",null,null,null,null,"",null,null,null,null,"",null,null,null,null,"",null,null,null,null,"",null,null,null,null,"",null,null,null,null,"",null,null,null,null,""]
[null,null,null,null,null,"",null,null,null,null,"",null,null,null,null,"",null,null,null,null,"",null,null,null,null,"",null,null,null,null,"",null,null,null,null,"",null,null,null,null,"",null,null,null,null,"",null,null,null,null,"",null,null,null,null,"",null,null,null,null,"",null,null,null,null,"",null,null,null,null,""]
[null,null,null,null,null,"",null,null,null,null,"",null,null,null,null,"",null,null,null,null,"",null,null,null,null,"",null,null,null,null,"",null,null,null,null,"",null,null,null,null,"",null,null,null,null,"",null,null,null,null,"",null,null,null,null,"",null,null,null,null,"",null,null,null,null,"",null,null,null,null,""]
[null,null,null,null,null,"",null,null,null,null,"",null,null,null,null,"",null,null,null,null,"",null,null,null,null,"",null,null,null,null,"",null,null,null,null,"",null,null,null,null,"",null,null,null,null,"",null,null,null,null,"",null,null,null,null,"",null,null,null,null,"",null,null,null,null,"",null,null,null,null,""]
[null,null,null,null,null,"",null,null,null,null,"",null,null,null,null,"",null,null,null,null,"",null,null,null,null,"",null,null,null,null,"",null,null,null,null,"",null,null,null,null,"",null,null,null,null,"",null,null,null,null,"",null,null,null,null,"",null,null,null,null,"",null,null,null,null,"",null,null,null,null,""]
[null,null,null,null,null,"",null,null,null,null,"",null,null,null,null,"",null,null,null,null,"",null,null,null,null,"",null,null,null,null,"",null,null,null,null,"",null,null,null,null,"",null,null,null,null,"",null,null,null,null,"",null,null,null,null,"",null,null,null,null,"",null,null,null,null,"",null,null,null,null,""]
[null,null,null,null,null,"",null,null,null,null,"",null,null,null,null,"",null,null,null,null,"",null,null,null,null,"",null,null,null,null,"",null,null,null,null,"",null,null,null,null,"",null,null,null,null,"",null,null,null,null,"",null,null,null,null,"",null,null,null,null,"",null,null,null,null,"",null,null,null,null,""]
[null,null,null,null,null,"",null,null,null,null,"",null,null,null,null,"",null,null,null,null,"",null,null,null,null,"",null,null,null,null,"",null,null,null,null,"",null,null,null,null,"",null,null,null,null,"",null,null,null,null,"",null,null,null,null,"",null,null,null,null,"",null,null,null,null,"",null,null,null,null,""]
[null,null,null,null,null,"",null,null,null,null,"",null,null,null,null,"",null,null,null,null,"",null,null,null,null,"",null,null,null,null,"",null,null,null,null,"",null,null,null,null,"",null,null,null,null,"",null,null,null,null,"",null,null,null,null,"",null,null,null,null,"",null,null,null,null,"",null,null,null,null,""]
[null,null,null,null,null,"",null,null,null,null,"",null,null,null,null,"",null,null,null,null,"",null,null,null,null,"",null,null,null,null,"",null,null,null,null,"",null,null,null,null,"",null,null,null,null,"",null,null,null,null,"",null,null,null,null,"",null,null,null,null,"",null,null,null,null,"",null,null,null,null,""]
[null,null,null,null,null,"",null,null,null,null,"",null,null,null,null,"",null,null,null,null,"",null,null,null,null,"",null,null,null,null,"",null,null,null,null,"",null,null,null,null,"",null,null,null,null,"",null,null,null,null,"",null,null,null,null,"",null,null,null,null,"",null,null,null,null,"",null,null,null,null,""]
[null,null,null,null,null,"",null,null,null,null,"",null,null,null,null,"",null,null,null,null,"",null,null,null,null,"",null,null,null,null,"",null,null,null,null,"",null,null,null,null,"",null,null,null,null,"",null,null,null,null,"",null,null,null,null,"",null,null,null,null,"",null,null,null,null,"",null,null,null,null,""]
[null,null,null,null,null,"",null,null,null,null,"",null,null,null,null,"",null,null,null,null,"",null,null,null,null,"",null,null,null,null,"",null,null,null,null,"",null,null,null,null,"",null,null,null,null,"",null,null,null,null,"",null,null,null,null,"",null,null,null,null,"",null,null,null,null,"",null,null,null,null,""]
[null,null,null,null,null,"",null,null,null,null,"",null,null,null,null,"",null,null,null,null,"",null,null,null,null,"",null,null,null,null,"",null,null,null,null,"",null,null,null,null,"",null,null,null,null,"",null,null,null,null,"",null,null,null,null,"",null,null,null,null,"",null,null,null,null,"",null,null,null,null,""]
[null,null,null,null,null,"",null,null,null,null,"",null,null,null,null,"",null,null,null,null,"",null,null,null,null,"",null,null,null,null,"",null,null,null,null,"",null,null,null,null,"",null,null,null,null,"",null,null,null,null,"",null,null,null,null,"",null,null,null,null,"",null,null,null,null,"",null,null,null,null,""]
[null,null,null,null,null,"",null,null,null,null,"",null,null,null,null,"",null,null,null,null,"",null,null,null,null,"",null,null,null,null,"",null,null,null,null,"",null,null,null,null,"",null,null,null,null,"",null,null,null,null,"",null,null,null,null,"",null,null,null,null,"",null,null,null,null,"",null,null,null,null,""]
[null,null,null,null,null,"",null,null,null,null,"",null,null,null,null,"",null,null,null,null,"",null,null,null,null,"",null,null,null,null,"",null,null,null,null,"",null,null,null,null,"",null,null,null,null,"",null,null,null,null,"",null,null,null,null,"",null,null,null,null,"",null,null,null,null,"",null,null,null,null,""]
[null,null,null,null,null,"",null,null,null,null,"",null,null,null,null,"",null,null,null,null,"",null,null,null,null,"",null,null,null,null,"",null,null,null,null,"",null,null,null,null,"",null,null,null,null,"",null,null,null,null,"",null,null,null,null,"",null,null,null,null,"",null,null,null,null,"",null,null,null,null,""]
[null,null,null,null,null,"",null,null,null,null,"",null,null,null,null,"",null,null,null,null,"",null,null,null,null,"",null,null,null,null,"",null,null,null,null,"",null,null,null,null,"",null,null,null,null,"",null,null,null,null,"",null,null,null,null,"",null,null,null,null,"",null,null,null,null,"",null,null,null,null,""]
[null,null,null,null,null,"",null,null,null,null,"",null,null,null,null,"",null,null,null,null,"",null,null,null,null,"",null,null,null,null,"",null,null,null,null,"",null,null,null,null,"",null,null,null,null,"",null,null,null,null,"",null,null,null,null,"",null,null,null,null,"",null,null,null,null,"",null,null,null,null,""]
[null,null,null,null,null,"",null,null,null,null,"",null,null,null,null,"",null,null,null,null,"",null,null,null,null,"",null,null,null,null,"",null,null,null,null,"",null,null,null,null,"",null,null,null,null,"",null,null,null,null,"",null,null,null,null,"",null,null,null,null,"",null,null,null,null,"",null,null,null,null,""]
[null,null,null,null,null,"",null,null,null,null,"",null,null,null,null,"",null,null,null,null,"",null,null,null,null,"",null,null,null,null,"",null,null,null,null,"",null,null,null,null,"",null,null,null,null,"",null,null,null,null,"",null,null,null,null,"",null,null,null,null,"",null,null,null,null,"",null,null,null,null,""]
[null,null,null,null,null,"",null,null,null,null,"",null,null,null,null,"",null,null,null,null,"",null,null,null,null,"",null,null,null,null,"",null,null,null,null,"",null,null,null,null,"",null,null,null,null,"",null,null,null,null,"",null,null,null,null,"",null,null,null,null,"",null,null,null,null,"",null,null,null,null,""]
[null,null,null,null,null,"",null,null,null,null,"",null,null,null,null,"",null,null,null,null,"",null,null,null,null,"",null,null,null,null,"",null,null,null,null,"",null,null,null,null,"",null,null,null,null,"",null,null,null,null,"",null,null,null,null,"",null,null,null,null,"",null,null,null,null,"",null,null,null,null,""]
[null,null,null,null,null,"",null,null,null,null,"",null,null,null,null,"",null,null,null,null,"",null,null,null,null,"",null,null,null,null,"",null,null,null,null,"",null,null,null,null,"",null,null,null,null,"",null,null,null,null,"",null,null,null,null,"",null,null,null,null,"",null,null,null,null,"",null,null,null,null,""]
[null,null,null,null,null,"",null,null,null,null,"",null,null,null,null,"",null,null,null,null,"",null,null,null,null,"",null,null,null,null,"",null,null,null,null,"",null,null,null,null,"",null,null,null,null,"",null,null,null,null,"",null,null,null,null,"",null,null,null,null,"",null,null,null,null,"",null,null,null,null,""]
[null,null,null,null,null,"",null,null,null,null,"",null,null,null,null,"",null,null,null,null,"",null,null,null,null,"",null,null,null,null,"",null,null,null,null,"",null,null,null,null,"",null,null,null,null,"",null,null,null,null,"",null,null,null,null,"",null,null,null,null,"",null,null,null,null,"",null,null,null,null,""]
[null,null,null,null,null,"",null,null,null,null,"",null,null,null,null,"",null,null,null,null,"",null,null,null,null,"",null,null,null,null,"",null,null,null,null,"",null,null,null,null,"",null,null,null,null,"",null,null,null,null,"",null,null,null,null,"",null,null,null,null,"",null,null,null,null,"",null,null,null,null,""]
[null,null,null,null,null,"",null,null,null,null,"",null,null,null,null,"",null,null,null,null,"",null,null,null,null,"",null,null,null,null,"",null,null,null,null,"",null,null,null,null,"",null,null,null,null,"",null,null,null,null,"",null,null,null,null,"",null,null,null,null,"",null,null,null,null,"",null,null,null,null,""]
[null,null,null,null,null,"",null,null,null,null,"",null,null,null,null,"",null,null,null,null,"",null,null,null,null,"",null,null,null,null,"",null,null,null,null,"",null,null,null,null,"",null,null,null,null,"",null,null,null,null,"",null,null,null,null,"",null,null,null,null,"",null,null,null,null,"",null,null,null,null,""]
[null,null,null,null,null,"",null,null,null,null,"",null,null,null,null,"",null,null,null,null,"",null,null,null,null,"",null,null,null,null,"",null,null,null,null,"",null,null,null,null,"",null,null,null,null,"",null,null,null,null,"",null,null,null,null,"",null,null,null,null,"",null,null,null,null,"",null,null,null,null,""]
[null,null,null,null,null,"",null,null,null,null,"",null,null,null,null,"",null,null,null,null,"",null,null,null,null,"",null,null,null,null,"",null,null,null,null,"",null,null,null,null,"",null,null,null,null,"",null,null,null,null,"",null,null,null,null,"",null,null,null,null,"",null,null,null,null,"",null,null,null,null,""]
[null,null,null,null,null,"",null,null,null,null,"",null,null,null,null,"",null,null,null,null,"",null,null,null,null,"",null,null,null,null,"",null,null,null,null,"",null,null,null,null,"",null,null,null,null,"",null,null,null,null,"",null,null,null,null,"",null,null,null,null,"",null,null,null,null,"",null,null,null,null,""]
[null,null,null,null,null,"",null,null,null,null,"",null,null,null,null,"",null,null,null,null,"",null,null,null,null,"",null,null,null,null,"",null,null,null,null,"",null,null,null,null,"",null,null,null,null,"",null,null,null,null,"",null,null,null,null,"",null,null,null,null,"",null,null,null,null,"",null,null,null,null,""]
[null,null,null,null,null,"",null,null,null,null,"",null,null,null,null,"",null,null,null,null,"",null,null,null,null,"",null,null,null,null,"",null,null,null,null,"",null,null,null,null,"",null,null,null,null,"",null,null,null,null,"",null,null,null,null,"",null,null,null,null,"",null,null,null,null,"",null,null,null,null,""]
[null,null,null,null,null,"",null,null,null,null,"",null,null,null,null,"",null,null,null,null,"",null,null,null,null,"",null,null,null,null,"",null,null,null,null,"",null,null,null,null,"",null,null,null,null,"",null,null,null,null,"",null,null,null,null,"",null,null,null,null,"",null,null,null,null,"",null,null,null,null,""]
[null,null,null,null,null,"",null,null,null,null,"",null,null,null,null,"",null,null,null,null,"",null,null,null,null,"",null,null,null,null,"",null,null,null,null,"",null,null,null,null,"",null,null,null,null,"",null,null,null,null,"",null,null,null,null,"",null,null,null,null,"",null,null,null,null,"",null,null,null,null,""]
[null,null,null,null,null,"",null,null,null,null,"",null,null,null,null,"",null,null,null,null,"",null,null,null,null,"",null,null,null,null,"",null,null,null,null,"",null,null,null,null,"",null,null,null,null,"",null,null,null,null,"",null,null,null,null,"",null,null,null,null,"",null,null,null,null,"",null,null,null,null,""]
[null,null,null,null,null,"",null,null,null,null,"",null,null,null,null,"",null,null,null,null,"",null,null,null,null,"",null,null,null,null,"",null,null,null,null,"",null,null,null,null,"",null,null,null,null,"",null,null,null,null,"",null,null,null,null,"",null,null,null,null,"",null,null,null,null,"",null,null,null,null,""]
[null,null,null,null,null,"",null,null,null,null,"",null,null,null,null,"",null,null,null,null,"",null,null,null,null,"",null,null,null,null,"",null,null,null,null,"",null,null,null,null,"",null,null,null,null,"",null,null,null,null,"",null,null,null,null,"",null,null,null,null,"",null,null,null,null,"",null,null,null,null,""]
[null,null,null,null,null,"",null,null,null,null,"",null,null,null,null,"",null,null,null,null,"",null,null,null,null,"",null,null,null,null,"",null,null,null,null,"",null,null,null,null,"",null,null,null,null,"",null,null,null,null,"",null,null,null,null,"",null,null,null,null,"",null,null,null,null,"",null,null,null,null,""]
[null,null,null,null,null,"",null,null,null,null,"",null,null,null,null,"",null,null,null,null,"",null,null,null,null,"",null,null,null,null,"",null,null,null,null,"",null,null,null,null,"",null,null,null,null,"",null,null,null,null,"",null,null,null,null,"",null,null,null,null,"",null,null,null,null,"",null,null,null,null,""]
[null,null,null,null,null,"",null,null,null,null,"",null,null,null,null,"",null,null,null,null,"",null,null,null,null,"",null,null,null,null,"",null,null,null,null,"",null,null,null,null,"",null,null,null,null,"",null,null,null,null,"",null,null,null,null,"",null,null,null,null,"",null,null,null,null,"",null,null,null,null,""]
["No data below this point ",null,null,null,null,null,null,null,null,null,null,null,null,null,null,null,null,null,null,null,null,null,null,null,null,"",null,null,null,null,"",null,null,null,null,"",null,null,null,null,"",null,null,null,null,null,null,null,null,null,"",null,null,null,null,null,null,null,null,null,null,null,null,null,null,null,null,null,null,null,""]

{"sheet":"WQ Risk Assessment","index":9,"n_rows":345,"n_cols":74,"rows_kept":345,"cut":false,"hidden":false,"merged":[[0,2,0,4],[9,66,9,73],[10,1,11,1],[9,6,9,13],[7,66,7,73],[8,6,8,13],[8,16,8,23],[8,26,8,33],[8,36,8,43],[8,46,8,53],[8,56,8,63],[8,66,8,73],[7,6,7,13],[7,16,7,23],[7,26,7,33],[7,36,7,43],[7,56,7,63],[5,66,5,73],[6,6,6,13],[6,16,6,23],[6,26,6,33],[6,36,6,43],[6,46,6,53],[6,66,6,73],[5,6,5,13],[5,16,5,23],[5,26,5,33],[5,36,5,43],[3,2,9,3],[1,64,1,73],[1,74,1,76],[2,4,2,13],[2,14,2,23],[2,24,2,33],[2,34,2,43],[2,44,2,53],[2,54,2,63],[2,64,2,73],[1,4,1,13],[1,14,1,23],[1,25,1,33],[1,34,1,43],[1,44,1,53],[1,54,1,63],[3,56,3,63],[3,66,3,73],[4,66,4,73],[3,46,3,53],[12,19,12,22],[12,69,12,72],[3,6,3,13],[3,16,3,23],[3,26,3,33],[7,46,7,53],[0,6,0,8],[11,54,11,55],[11,64,11,65],[11,34,11,35],[11,44,11,45],[11,24,11,25],[4,6,4,13],[4,16,4,23],[4,26,4,33],[4,36,4,43],[4,46,4,53],[4,56,4,63],[11,14,11,15],[3,36,3,43],[5,46,5,53],[5,56,5,63],[9,26,9,33],[6,56,6,63],[9,49,9,53],[9,56,9,63],[9,16,9,23],[11,51,11,52],[11,58,11,59],[11,61,11,62],[11,68,11,69],[11,71,11,72],[11,48,11,49],[9,36,9,43],[10,73,11,73],[12,2,12,3],[11,8,11,9],[11,11,11,12],[11,18,11,19],[11,21,11,22],[11,28,11,29],[11,31,11,32],[11,38,11,39],[11,41,11,42],[10,2,11,3],[11,4,11,5],[12,49,12,52],[12,54,12,57],[12,59,12,62],[12,64,12,67],[12,4,12,7],[12,14,12,17],[12,24,12,27],[12,9,12,12],[12,29,12,32],[12,34,12,37],[12,39,12,42],[12,44,12,47]]}
[{"$f":"'Doc Control'!F5","v":"Grand Union Canal"},{"$f":"'Doc Control'!F5","v":"Grand Union Canal"},{"$f":"'Doc Control'!F6 &\", \"&'Doc Control'!F7","v":"Leighton Buzzard Abstraction Location, Gate 2"}]
[null,null,null,null,"Catchment ",null,null,null,null,null,null,null,null,null,"Abstraction ",null,null,null,null,null,null,null,null,null,null,"Raw water conveyance",null,null,null,null,null,null,null,null,"Treatment ",null,null,null,null,null,null,null,null,null,"Storage ",null,null,null,null,null,null,null,null,null,"Distribution ",null,null,null,null,null,null,null,null,null,"Consumer"]
[null,null,"Data sources: Examples for likely source data required",null,"Environment Agency, Landmark Information Group Ltd, Kynetec i-map, \nBASIS, TW Sewer Flooding History database, TW GIS database (including OS \ndata), local knowledge. ",null,null,null,null,null,null,null,null,null,"WTW DWSPA, Risk Register, event/infringement notifications, local \nknowledge"]
[null,null,"Step 1: Input data sources used in the Assessment here",null,"DWSP","Yes ","e.g. Thames DWSP Farmoor Catchment v2.1 dated 21/3/19 (provided by A.Person); Severn Trent DWSP Shelton Catchment v 1.2 dated 19/2/19 (provided by B.Person). ",null,null,null,null,null,null,null,"DWSP",null,null,null,null,null,null,null,null,null,"DWSP",null,null,null,null,null,null,null,null,null,"DWSP",null,null,null,null,null,null,null,null,null,"DWSP",null,null,null,null,null,null,null,null,null,"DWSP",null,null,null,null,null,null,null,null,null,"DWSP"]
[null,null,null,null,"WwTW effluent",null,null,null,null,null,null,null,null,null,"WFD EQS",null,null,null,null,null,null,null,null,null,"WFD EQS",null,null,null,null,null,null,null,null,null,"WFD EQS",null,null,null,null,null,null,null,null,null,"WFD EQS",null,null,null,null,null,null,null,null,null,"WFD EQS",null,null,null,null,null,null,null,null,null,"WFD EQS"]
[null,null,null,null,"WFD EQS",null,null,null,null,null,null,null,null,null,"WQ monitoring",null,null,null,null,null,null,null,null,null,"WQ monitoring",null,null,null,null,null,null,null,null,null,"WQ monitoring",null,null,null,null,null,null,null,null,null,"WQ monitoring",null,null,null,null,null,null,null,null,null,"WQ monitoring",null,null,null,null,null,null,null,null,null,"WQ monitoring"]
[null,null,null,null,"WQ monitoring",null,null,null,null,null,null,null,null,null,"Surrogate data ",null,null,null,null,null,null,null,null,null,"Surrogate data ",null,null,null,null,null,null,null,null,null,"Surrogate data ",null,null,null,null,null,null,null,null,null,"Surrogate data ",null,null,null,null,null,null,null,null,null,"Surrogate data ",null,null,null,null,null,null,null,null,null,"Surrogate data "]
[null,null,null,null,"Catchment Survey ",null,null,null,null,null,null,null,null,null,"Other",null,null,null,null,null,null,null,null,null,"Other",null,null,null,null,null,null,null,null,null,"Other",null,null,null,null,null,null,null,null,null,"Other",null,null,null,null,null,null,null,null,null,"Customer Survey ",null,null,null,null,null,null,null,null,null,"Customer Survey "]
[null,null,null,null,"Enforcement Notices",null,null,null,null,null,null,null,null,null,null,null,null,null,null,null,null,null,null,null,null,null,null,null,null,null,null,null,null,null,null,null,null,null,null,null,null,null,null,null,null,null,null,null,null,null,null,null,null,null,"Customer complaints ",null,null,null,null,null,null,null,null,null,"Customer complaints "]
[null,null,null,null,"Surrogate data ",null,null,null,null,null,null,null,null,null,null,null,null,null,null,null,null,null,null,null,null,null,null,null,null,null,null,null,null,null,null,null,null,null,null,null,null,null,null,null,null,null,null,null,null,null,null,null,null,null,"Other",null,null,null,null,null,null,null,null,null,"Other"]
[null,"Hazards/Hazardous Events","Step 2: Enter data confidence here",null,"LOW","No",null,null,"MEDIUM","No",null,"HIGH","No",null,"LOW","No",null,null,"MEDIUM","No",null,"HIGH","No",null,"LOW","No",null,null,"MEDIUM","No",null,"HIGH","No",null,"LOW","No",null,null,"MEDIUM","No",null,"HIGH","No",null,"LOW","No",null,null,"MEDIUM","No",null,"HIGH","No",null,"LOW","No",null,null,"MEDIUM","No",null,"HIGH","No",null,"LOW","No",null,null,"MEDIUM","No",null,"HIGH","No"]
[null,null,null,null,"Limited data and evidence available, based mainly or completely on expert judgement with many assumptions. Preliminary design information only, detailed information on process selection, location/routes, construction methods etc not yet available.  \n",null,null,null,"Some data and evidence available, based partially on expert judgement with some assumptions. Concept basis of design evident with some assumptions. \n",null,null,"High quality data from industry standard sources, minimal assumptions. Design advanced, minimal assumptions required.   '",null,null,"Limited data and evidence available, based mainly or completely on expert judgement with many assumptions. Preliminary design information only, detailed information on process selection, location/routes, construction methods etc not yet available.  \n",null,null,null,"Some data and evidence available, based partially on expert judgement with some assumptions. Concept basis of design evident with some assumptions. \n",null,null,"High quality data from industry standard sources, minimal assumptions. Design advanced, minimal assumptions required.   '",null,null,"Limited data and evidence available, based mainly or completely on expert judgement with many assumptions. Preliminary design information only, detailed information on process selection, location/routes, construction methods etc not yet available.  \n",null,null,null,"Some data and evidence available, based partially on expert judgement with some assumptions. Concept basis of design evident with some assumptions. \n",null,null,"High quality data from industry standard sources, minimal assumptions. Design advanced, minimal assumptions required.   '",null,null,"Limited data and evidence available, based mainly or completely on expert judgement with many assumptions. Preliminary design information only, detailed information on process selection, location/routes, construction methods etc not yet available.  \n",null,null,null,"Some data and evidence available, based partially on expert judgement with some assumptions. Concept basis of design evident with some assumptions. \n",null,null,"High quality data from industry standard sources, minimal assumptions. Design advanced, minimal assumptions required.   '",null,null,"Limited data and evidence available, based mainly or completely on expert judgement with many assumptions. Preliminary design information only, detailed information on process selection, location/routes, construction methods etc not yet available.  \n",null,null,null,"Some data and evidence available, based partially on expert judgement with some assumptions. Concept basis of design evident with some assumptions. \n",null,null,"High quality data from industry standard sources, minimal assumptions. Design advanced, minimal assumptions required.   '",null,null,"Limited data and evidence available, based mainly or completely on expert judgement with many assumptions. Preliminary design information only, detailed information on process selection, location/routes, construction methods etc not yet available.  \n",null,null,null,"Some data and evidence available, based partially on expert judgement with some assumptions. Concept basis of design evident with some assumptions. ",null,null,"High quality data from industry standard sources, minimal assumptions. Design advanced, minimal assumptions required.   '",null,null,"Limited data and evidence available, based mainly or completely on expert judgement with many assumptions. Preliminary design information only, detailed information on process selection, location/routes, construction methods etc not yet available.  \n",null,null,null,"Some data and evidence available, based partially on expert judgement with some assumptions. Concept basis of design evident with some assumptions. ",null,null,"High quality data from industry standard sources, minimal assumptions. Design advanced, minimal assumptions required.   '"]
[null,null,null,null,"Pre-mitigated",null,null,null,null,"Post mitigated",null,null,null,null,"Pre-mitigated",null,null,null,null,"Post mitigated",null,null,null,null,"Pre-mitigated",null,null,null,null,"Post mitigated",null,null,null,null,"Pre-mitigated",null,null,null,null,"Post mitigated",null,null,null,null,"Pre-mitigated",null,null,null,null,"Post mitigated",null,null,null,null,"Pre-mitigated",null,null,null,null,"Post mitigated",null,null,null,null,"Pre-mitigated",null,null,null,null,"Post mitigated"]
[null,"Data source and certainty input ","Limiting Hazard","Parameter details and commentary ","Likelihood","Consequences","Risk ","Risk Commentary ","Control ","Likelihood","Consequences","Residual risk ","Residual risk considerations ","Actions","Likelihood","Consequences","Risk ","Risk Commentary ","Control ","Likelihood","Consequences","Residual risk ","Residual risk considerations ","Actions","Likelihood","Consequences","Risk ","Risk Commentary ","Control ","Likelihood","Consequences","Residual risk ","Residual risk considerations ","Actions","Likelihood","Consequences","Risk ","Risk Commentary ","Control ","Likelihood","Consequences","Residual risk ","Residual risk considerations ","Actions","Likelihood","Consequences","Risk ","Risk Commentary ","Control ","Likelihood","Consequences","Residual risk ","Residual risk considerations ","Actions","Likelihood","Consequences","Risk ","Risk Commentary ","Control ","Likelihood","Consequences","Residual risk ","Residual risk considerations ","Actions","Likelihood","Consequences","Risk ","Risk Commentary ","Control ","Likelihood","Consequences","Residual risk ","Residual risk considerations ","Actions"]
[null,"Parameters ","Filter","Column2","Column3","Column4","Column5","Column510","Column6","Column7","Column8","Catchment risk","Column10","Column11","Column12","Column13","Column14","Column142","Column15","Column16","Column17","Abstraction risk","Column19","Column20","Column21","Column22","Column23","Column232","Column24","Column25","Column26","Raw water risk","Column28","Column29","Column30","Column31","Column32","Column322","Column33","Column34","Column35","Treatment risk","Column37","Column38","Column39","Column40","Column41","Column412","Column42","Column43","Column44","Storage risk","Column46","Column47","Column48","Column49","Column50","Column502","Column51","Column52","Column53","Distribution risk","Column55","Column56","Column57","Column58","Column59","Column592","Column60","Column61","Column62","Consumer risk","Column64","Column65"]
[null,"MICROBIOLOGICAL "]
[1,"Enterococci ","Y","Faecal pathogens derived from sewage, livestock and wildlife in the catchment.",5,5,{"$f":"IF(OR(ISBLANK(Table1[[#This Row],[Column3]]),ISBLANK(Table1[[#This Row],[Column4]])), \"\",Table1[[#This Row],[Column3]]*Table1[[#This Row],[Column4]])","v":25},"Gate 2 Water Quality Monitoring Programme monitored for Enterococci only at Minworth WwTW effluent (Site 1) and at Grove Lock (Site 6). Monitoring data confirms levels of Enterococci at >100no/100 ml at Site 1 and at Site 6, in all bar two samples.","None",5,5,{"$f":"IF(OR(ISBLANK(Table1[[#This Row],[Column7]]),ISBLANK(Table1[[#This Row],[Column8]])), \"\",Table1[[#This Row],[Column7]]*Table1[[#This Row],[Column8]])","v":25},"Mitigated through treatment","None",5,5,{"$f":"IF(OR(ISBLANK(Table1[[#This Row],[Column12]]),ISBLANK(Table1[[#This Row],[Column13]])), \"\",Table1[[#This Row],[Column12]]*Table1[[#This Row],[Column13]])","v":25},"Risk profile unlikely to change during abstraction","None",5,5,{"$f":"IF(OR(ISBLANK(Table1[[#This Row],[Column16]]),ISBLANK(Table1[[#This Row],[Column17]])), \"\",Table1[[#This Row],[Column16]]*Table1[[#This Row],[Column17]])","v":25},"Mitigated through treatment.","None.",5,5,{"$f":"IF(OR(ISBLANK(Table1[[#This Row],[Column21]]),ISBLANK(Table1[[#This Row],[Column22]])), \"\",Table1[[#This Row],[Column21]]*Table1[[#This Row],[Column22]])","v":25},"Risk not likely to change through conveyance","None",5,5,{"$f":"IF(OR(ISBLANK(Table1[[#This Row],[Column25]]),ISBLANK(Table1[[#This Row],[Column26]])), \"\",Table1[[#This Row],[Column25]]*Table1[[#This Row],[Column26]])","v":25},"No control so scores are cascaded from pre- to post-mitigated.","None",5,5,{"$f":"IF(OR(ISBLANK(Table1[[#This Row],[Column30]]),ISBLANK(Table1[[#This Row],[Column31]])), \"\",Table1[[#This Row],[Column30]]*Table1[[#This Row],[Column31]])","v":25},"Risk requires mitigation during treatment.","Risk mitigated through proposed UF membrane filtration, UV Disinfection and Chlorination",1,5,{"$f":"IF(OR(ISBLANK(Table1[[#This Row],[Column34]]),ISBLANK(Table1[[#This Row],[Column35]])), \"\",Table1[[#This Row],[Column34]]*Table1[[#This Row],[Column35]])","v":5},"UF filtration and disinfection methods likely to provide sufficient layers of mitigation","None",1,5,{"$f":"IF(OR(ISBLANK(Table1[[#This Row],[Column39]]),ISBLANK(Table1[[#This Row],[Column40]])), \"\",Table1[[#This Row],[Column39]]*Table1[[#This Row],[Column40]])","v":5},"Risk unlikely to increase through to storage","Included in the Company's Reservoir inspection programme. A roof flood test is part of the inspection process. Full details of requirements of inspection included in AM309. The last internal inspection was carried out in December 2014. Chlorine residual",1,5,{"$f":"IF(OR(ISBLANK(Table1[[#This Row],[Column43]]),ISBLANK(Table1[[#This Row],[Column44]])), \"\",Table1[[#This Row],[Column43]]*Table1[[#This Row],[Column44]])","v":5},"Risk is reduced mostly by upstream processes.","Continue Inspection",1,5,{"$f":"IF(OR(ISBLANK(Table1[[#This Row],[Column48]]),ISBLANK(Table1[[#This Row],[Column49]])), \"\",Table1[[#This Row],[Column48]]*Table1[[#This Row],[Column49]])","v":5},"Risk unlikely to increase during distribution","None",1,5,{"$f":"IF(OR(ISBLANK(Table1[[#This Row],[Column52]]),ISBLANK(Table1[[#This Row],[Column53]])), \"\",Table1[[#This Row],[Column52]]*Table1[[#This Row],[Column53]])","v":5},"Risk is reduced during treatment. Due the change in source from ground water to surface water, there is an inherent change in the levels of risk of this hazard to the consumer, however there will be an active management process throughout the development of this scheme minimising the risk to the consumer.","None",1,5,{"$f":"IF(OR(ISBLANK(Table1[[#This Row],[Column57]]),ISBLANK(Table1[[#This Row],[Column58]])), \"\",Table1[[#This Row],[Column57]]*Table1[[#This Row],[Column58]])","v":5},"Risk unlikely to change through to customer taps","None",1,5,{"$f":"IF(OR(ISBLANK(Table1[[#This Row],[Column61]]),ISBLANK(Table1[[#This Row],[Column62]])), \"\",Table1[[#This Row],[Column61]]*Table1[[#This Row],[Column62]])","v":5},"Due the change in source from ground water to surface water, there is an inherent change in the levels of risk of this hazard to the consumer, however there will be an active management process throughout the development of this scheme minimising the risk to the consumer.","None"]
[2,"Escherida Coli","Y","Faecal pathogens derived from sewage, livestock and wildlife in the catchment.",5,5,{"$f":"IF(OR(ISBLANK(Table1[[#This Row],[Column3]]),ISBLANK(Table1[[#This Row],[Column4]])), \"\",Table1[[#This Row],[Column3]]*Table1[[#This Row],[Column4]])","v":25},"Gate 2 Water Quality Monitoring Programme monitored for E.Coli only at Minworth WwTW effluent (Site 1) and at Grove Lock (Site 6). Gate 2 Water Quality Monitoring Programme confirms levels of E.Coli at >2420MPN/100ml at Site 1 in all bar one sample. E.Coli at Site 6 sampled at >2420MPN/100ml in 4/7 samples.","None",5,5,{"$f":"IF(OR(ISBLANK(Table1[[#This Row],[Column7]]),ISBLANK(Table1[[#This Row],[Column8]])), \"\",Table1[[#This Row],[Column7]]*Table1[[#This Row],[Column8]])","v":25},"Mitigated through treatment","None",5,5,{"$f":"IF(OR(ISBLANK(Table1[[#This Row],[Column12]]),ISBLANK(Table1[[#This Row],[Column13]])), \"\",Table1[[#This Row],[Column12]]*Table1[[#This Row],[Column13]])","v":25},"Risk profile unlikely to change during abstraction","None",5,5,{"$f":"IF(OR(ISBLANK(Table1[[#This Row],[Column16]]),ISBLANK(Table1[[#This Row],[Column17]])), \"\",Table1[[#This Row],[Column16]]*Table1[[#This Row],[Column17]])","v":25},"Mitigated through treatment.","None.",5,5,{"$f":"IF(OR(ISBLANK(Table1[[#This Row],[Column21]]),ISBLANK(Table1[[#This Row],[Column22]])), \"\",Table1[[#This Row],[Column21]]*Table1[[#This Row],[Column22]])","v":25},"Risk not likely to change through conveyance","None",5,5,{"$f":"IF(OR(ISBLANK(Table1[[#This Row],[Column25]]),ISBLANK(Table1[[#This Row],[Column26]])), \"\",Table1[[#This Row],[Column25]]*Table1[[#This Row],[Column26]])","v":25},"No control so scores are cascaded from pre- to post-mitigated.","None",5,5,{"$f":"IF(OR(ISBLANK(Table1[[#This Row],[Column30]]),ISBLANK(Table1[[#This Row],[Column31]])), \"\",Table1[[#This Row],[Column30]]*Table1[[#This Row],[Column31]])","v":25},"Risk requires mitigation during treatment.","Risk mitigated through proposed UF membrane filtration, UV Disinfection and Chlorination",1,5,{"$f":"IF(OR(ISBLANK(Table1[[#This Row],[Column34]]),ISBLANK(Table1[[#This Row],[Column35]])), \"\",Table1[[#This Row],[Column34]]*Table1[[#This Row],[Column35]])","v":5},"UF filtration and disinfection methods likely to provide sufficient layers of mitigation","None",1,5,{"$f":"IF(OR(ISBLANK(Table1[[#This Row],[Column39]]),ISBLANK(Table1[[#This Row],[Column40]])), \"\",Table1[[#This Row],[Column39]]*Table1[[#This Row],[Column40]])","v":5},"Risk unlikely to increase through to storage","Included in the Company's Reservoir inspection programme. A roof flood test is part of the inspection process. Full details of requirements of inspection included in AM309. The last internal inspection was carried out in December 2014. Chlorine residual",1,5,{"$f":"IF(OR(ISBLANK(Table1[[#This Row],[Column43]]),ISBLANK(Table1[[#This Row],[Column44]])), \"\",Table1[[#This Row],[Column43]]*Table1[[#This Row],[Column44]])","v":5},"Risk is reduced mostly by upstream processes.","Continue Inspection",1,5,{"$f":"IF(OR(ISBLANK(Table1[[#This Row],[Column48]]),ISBLANK(Table1[[#This Row],[Column49]])), \"\",Table1[[#This Row],[Column48]]*Table1[[#This Row],[Column49]])","v":5},"Risk unlikely to increase during distribution","None",1,5,{"$f":"IF(OR(ISBLANK(Table1[[#This Row],[Column52]]),ISBLANK(Table1[[#This Row],[Column53]])), \"\",Table1[[#This Row],[Column52]]*Table1[[#This Row],[Column53]])","v":5},"Risk is reduced during treatment. Due the change in source from ground water to surface water, there is an inherent change in the levels of risk of this hazard to the consumer, however there will be an active management process throughout the development of this scheme minimising the risk to the consumer.","None",1,5,{"$f":"IF(OR(ISBLANK(Table1[[#This Row],[Column57]]),ISBLANK(Table1[[#This Row],[Column58]])), \"\",Table1[[#This Row],[Column57]]*Table1[[#This Row],[Column58]])","v":5},"Risk unlikely to change through to customer taps","None",1,5,{"$f":"IF(OR(ISBLANK(Table1[[#This Row],[Column61]]),ISBLANK(Table1[[#This Row],[Column62]])), \"\",Table1[[#This Row],[Column61]]*Table1[[#This Row],[Column62]])","v":5},"Due the change in source from ground water to surface water, there is an inherent change in the levels of risk of this hazard to the consumer, however there will be an active management process throughout the development of this scheme minimising the risk to the consumer.","None"]
[null,"Cryptosporidium ","Y","Derived from livestock and sewage in the catchment.",5,5,{"$f":"IF(OR(ISBLANK(Table1[[#This Row],[Column3]]),ISBLANK(Table1[[#This Row],[Column4]])), \"\",Table1[[#This Row],[Column3]]*Table1[[#This Row],[Column4]])","v":25},"Gate 2 Water Quality Monitoring Programme monitored for Cryptosporidium only at Minworth WwTW effluent (Site 1) and at Grove Lock (Site 6).\nGate 2 Water Quality Monitoring Programme notes that no Cryptosporidium (0 no/litre) has been found at site 1 in all  samples. At Site 6 there was one sample with 2no/litre. Difficult to monitor for but likely present in the runoff from the catchment to the canal. Risk likelihood kept at 5.","None",5,5,{"$f":"IF(OR(ISBLANK(Table1[[#This Row],[Column7]]),ISBLANK(Table1[[#This Row],[Column8]])), \"\",Table1[[#This Row],[Column7]]*Table1[[#This Row],[Column8]])","v":25},"Mitigated through treatment","None",5,5,{"$f":"IF(OR(ISBLANK(Table1[[#This Row],[Column12]]),ISBLANK(Table1[[#This Row],[Column13]])), \"\",Table1[[#This Row],[Column12]]*Table1[[#This Row],[Column13]])","v":25},"Risk profile unlikely to change during abstraction","None",5,5,{"$f":"IF(OR(ISBLANK(Table1[[#This Row],[Column16]]),ISBLANK(Table1[[#This Row],[Column17]])), \"\",Table1[[#This Row],[Column16]]*Table1[[#This Row],[Column17]])","v":25},"Mitigated through treatment.","None.",5,5,{"$f":"IF(OR(ISBLANK(Table1[[#This Row],[Column21]]),ISBLANK(Table1[[#This Row],[Column22]])), \"\",Table1[[#This Row],[Column21]]*Table1[[#This Row],[Column22]])","v":25},"Risk not likely to change through conveyance","None",5,5,{"$f":"IF(OR(ISBLANK(Table1[[#This Row],[Column25]]),ISBLANK(Table1[[#This Row],[Column26]])), \"\",Table1[[#This Row],[Column25]]*Table1[[#This Row],[Column26]])","v":25},"No control so scores are cascaded from pre- to post-mitigated.","None",5,5,{"$f":"IF(OR(ISBLANK(Table1[[#This Row],[Column30]]),ISBLANK(Table1[[#This Row],[Column31]])), \"\",Table1[[#This Row],[Column30]]*Table1[[#This Row],[Column31]])","v":25},"Risk requires mitigation during treatment.","Risk mitigated through proposed UF membrane filtration, UV Disinfection.",1,5,{"$f":"IF(OR(ISBLANK(Table1[[#This Row],[Column34]]),ISBLANK(Table1[[#This Row],[Column35]])), \"\",Table1[[#This Row],[Column34]]*Table1[[#This Row],[Column35]])","v":5},"UF filtration and disinfection methods likely to provide sufficient layers of mitigation. Ensure min 4 log reduction retained even if treatment evolves","None",1,5,{"$f":"IF(OR(ISBLANK(Table1[[#This Row],[Column39]]),ISBLANK(Table1[[#This Row],[Column40]])), \"\",Table1[[#This Row],[Column39]]*Table1[[#This Row],[Column40]])","v":5},"Risk unlikely to increase through to storage.","Reservoir integrity.",1,5,{"$f":"IF(OR(ISBLANK(Table1[[#This Row],[Column43]]),ISBLANK(Table1[[#This Row],[Column44]])), \"\",Table1[[#This Row],[Column43]]*Table1[[#This Row],[Column44]])","v":5},"Risk is reduced mostly by upstream processes.","Include in Inspections",1,5,{"$f":"IF(OR(ISBLANK(Table1[[#This Row],[Column48]]),ISBLANK(Table1[[#This Row],[Column49]])), \"\",Table1[[#This Row],[Column48]]*Table1[[#This Row],[Column49]])","v":5},"Risk unlikely to increase during distribution","None",1,5,{"$f":"IF(OR(ISBLANK(Table1[[#This Row],[Column52]]),ISBLANK(Table1[[#This Row],[Column53]])), \"\",Table1[[#This Row],[Column52]]*Table1[[#This Row],[Column53]])","v":5},"Risk is reduced during treatment. Due the change in source from ground water to surface water, there is an inherent change in the levels of risk of this hazard to the consumer, however there will be an active management process throughout the development of this scheme minimising the risk to the consumer.","None",1,5,{"$f":"IF(OR(ISBLANK(Table1[[#This Row],[Column57]]),ISBLANK(Table1[[#This Row],[Column58]])), \"\",Table1[[#This Row],[Column57]]*Table1[[#This Row],[Column58]])","v":5},"Risk unlikely to change through to customer taps","None",1,5,{"$f":"IF(OR(ISBLANK(Table1[[#This Row],[Column61]]),ISBLANK(Table1[[#This Row],[Column62]])), \"\",Table1[[#This Row],[Column61]]*Table1[[#This Row],[Column62]])","v":5},"Due the change in source from ground water to surface water, there is an inherent change in the levels of risk of this hazard to the consumer, however there will be an active management process throughout the development of this scheme minimising the risk to the consumer.","Affinity require at least 4 log reduction of crypto"]
[3,"Coliform bacteria ","N","Faecal pathogens derived from sewage, livestock and wildlife in the catchment. No sample data currently available but expected to be during new WQ monitoring programme.",null,null,{"$f":"IF(OR(ISBLANK(Table1[[#This Row],[Column3]]),ISBLANK(Table1[[#This Row],[Column4]])), \"\",Table1[[#This Row],[Column3]]*Table1[[#This Row],[Column4]])","v":""},null,null,null,null,{"$f":"IF(OR(ISBLANK(Table1[[#This Row],[Column7]]),ISBLANK(Table1[[#This Row],[Column8]])), \"\",Table1[[#This Row],[Column7]]*Table1[[#This Row],[Column8]])","v":""},null,null,null,null,{"$f":"IF(OR(ISBLANK(Table1[[#This Row],[Column12]]),ISBLANK(Table1[[#This Row],[Column13]])), \"\",Table1[[#This Row],[Column12]]*Table1[[#This Row],[Column13]])","v":""},null,null,null,null,{"$f":"IF(OR(ISBLANK(Table1[[#This Row],[Column16]]),ISBLANK(Table1[[#This Row],[Column17]])), \"\",Table1[[#This Row],[Column16]]*Table1[[#This Row],[Column17]])","v":""},null,null,null,null,{"$f":"IF(OR(ISBLANK(Table1[[#This Row],[Column21]]),ISBLANK(Table1[[#This Row],[Column22]])), \"\",Table1[[#This Row],[Column21]]*Table1[[#This Row],[Column22]])","v":""},null,null,null,null,{"$f":"IF(OR(ISBLANK(Table1[[#This Row],[Column25]]),ISBLANK(Table1[[#This Row],[Column26]])), \"\",Table1[[#This Row],[Column25]]*Table1[[#This Row],[Column26]])","v":""},null,null,null,null,{"$f":"IF(OR(ISBLANK(Table1[[#This Row],[Column30]]),ISBLANK(Table1[[#This Row],[Column31]])), \"\",Table1[[#This Row],[Column30]]*Table1[[#This Row],[Column31]])","v":""},null,null,null,null,{"$f":"IF(OR(ISBLANK(Table1[[#This Row],[Column34]]),ISBLANK(Table1[[#This Row],[Column35]])), \"\",Table1[[#This Row],[Column34]]*Table1[[#This Row],[Column35]])","v":""},null,null,null,null,{"$f":"IF(OR(ISBLANK(Table1[[#This Row],[Column39]]),ISBLANK(Table1[[#This Row],[Column40]])), \"\",Table1[[#This Row],[Column39]]*Table1[[#This Row],[Column40]])","v":""},null,null,null,null,{"$f":"IF(OR(ISBLANK(Table1[[#This Row],[Column43]]),ISBLANK(Table1[[#This Row],[Column44]])), \"\",Table1[[#This Row],[Column43]]*Table1[[#This Row],[Column44]])","v":""},null,null,null,null,{"$f":"IF(OR(ISBLANK(Table1[[#This Row],[Column48]]),ISBLANK(Table1[[#This Row],[Column49]])), \"\",Table1[[#This Row],[Column48]]*Table1[[#This Row],[Column49]])","v":""},null,null,null,null,{"$f":"IF(OR(ISBLANK(Table1[[#This Row],[Column52]]),ISBLANK(Table1[[#This Row],[Column53]])), \"\",Table1[[#This Row],[Column52]]*Table1[[#This Row],[Column53]])","v":""},null,null,null,null,{"$f":"IF(OR(ISBLANK(Table1[[#This Row],[Column57]]),ISBLANK(Table1[[#This Row],[Column58]])), \"\",Table1[[#This Row],[Column57]]*Table1[[#This Row],[Column58]])","v":""},null,null,null,null,{"$f":"IF(OR(ISBLANK(Table1[[#This Row],[Column61]]),ISBLANK(Table1[[#This Row],[Column62]])), \"\",Table1[[#This Row],[Column61]]*Table1[[#This Row],[Column62]])","v":""}]
[null,"Chemicals: naturally occurring",null,null,null,null,{"$f":"IF(OR(ISBLANK(Table1[[#This Row],[Column3]]),ISBLANK(Table1[[#This Row],[Column4]])), \"\",Table1[[#This Row],[Column3]]*Table1[[#This Row],[Column4]])","v":""},null,null,null,null,{"$f":"IF(OR(ISBLANK(Table1[[#This Row],[Column7]]),ISBLANK(Table1[[#This Row],[Column8]])), \"\",Table1[[#This Row],[Column7]]*Table1[[#This Row],[Column8]])","v":""},null,null,null,null,{"$f":"IF(OR(ISBLANK(Table1[[#This Row],[Column12]]),ISBLANK(Table1[[#This Row],[Column13]])), \"\",Table1[[#This Row],[Column12]]*Table1[[#This Row],[Column13]])","v":""},null,null,null,null,{"$f":"IF(OR(ISBLANK(Table1[[#This Row],[Column16]]),ISBLANK(Table1[[#This Row],[Column17]])), \"\",Table1[[#This Row],[Column16]]*Table1[[#This Row],[Column17]])","v":""},null,null,null,null,{"$f":"IF(OR(ISBLANK(Table1[[#This Row],[Column21]]),ISBLANK(Table1[[#This Row],[Column22]])), \"\",Table1[[#This Row],[Column21]]*Table1[[#This Row],[Column22]])","v":""},null,null,null,null,{"$f":"IF(OR(ISBLANK(Table1[[#This Row],[Column25]]),ISBLANK(Table1[[#This Row],[Column26]])), \"\",Table1[[#This Row],[Column25]]*Table1[[#This Row],[Column26]])","v":""},null,null,null,null,{"$f":"IF(OR(ISBLANK(Table1[[#This Row],[Column30]]),ISBLANK(Table1[[#This Row],[Column31]])), \"\",Table1[[#This Row],[Column30]]*Table1[[#This Row],[Column31]])","v":""},null,null,null,null,{"$f":"IF(OR(ISBLANK(Table1[[#This Row],[Column34]]),ISBLANK(Table1[[#This Row],[Column35]])), \"\",Table1[[#This Row],[Column34]]*Table1[[#This Row],[Column35]])","v":""},null,null,null,null,{"$f":"IF(OR(ISBLANK(Table1[[#This Row],[Column39]]),ISBLANK(Table1[[#This Row],[Column40]])), \"\",Table1[[#This Row],[Column39]]*Table1[[#This Row],[Column40]])","v":""},null,null,null,null,{"$f":"IF(OR(ISBLANK(Table1[[#This Row],[Column43]]),ISBLANK(Table1[[#This Row],[Column44]])), \"\",Table1[[#This Row],[Column43]]*Table1[[#This Row],[Column44]])","v":""},null,null,null,null,{"$f":"IF(OR(ISBLANK(Table1[[#This Row],[Column48]]),ISBLANK(Table1[[#This Row],[Column49]])), \"\",Table1[[#This Row],[Column48]]*Table1[[#This Row],[Column49]])","v":""},null,null,null,null,{"$f":"IF(OR(ISBLANK(Table1[[#This Row],[Column52]]),ISBLANK(Table1[[#This Row],[Column53]])), \"\",Table1[[#This Row],[Column52]]*Table1[[#This Row],[Column53]])","v":""},null,null,null,null,{"$f":"IF(OR(ISBLANK(Table1[[#This Row],[Column57]]),ISBLANK(Table1[[#This Row],[Column58]])), \"\",Table1[[#This Row],[Column57]]*Table1[[#This Row],[Column58]])","v":""},null,null,null,null,{"$f":"IF(OR(ISBLANK(Table1[[#This Row],[Column61]]),ISBLANK(Table1[[#This Row],[Column62]])), \"\",Table1[[#This Row],[Column61]]*Table1[[#This Row],[Column62]])","v":""}]
[4,"Arsenic","N","Derived from industry, mining and natural geological contamination.\n\nMax value measured was 7.2 μg/l (WSP)",null,null,{"$f":"IF(OR(ISBLANK(Table1[[#This Row],[Column3]]),ISBLANK(Table1[[#This Row],[Column4]])), \"\",Table1[[#This Row],[Column3]]*Table1[[#This Row],[Column4]])","v":""},null,null,null,null,{"$f":"IF(OR(ISBLANK(Table1[[#This Row],[Column7]]),ISBLANK(Table1[[#This Row],[Column8]])), \"\",Table1[[#This Row],[Column7]]*Table1[[#This Row],[Column8]])","v":""},null,null,null,null,{"$f":"IF(OR(ISBLANK(Table1[[#This Row],[Column12]]),ISBLANK(Table1[[#This Row],[Column13]])), \"\",Table1[[#This Row],[Column12]]*Table1[[#This Row],[Column13]])","v":""},null,null,null,null,{"$f":"IF(OR(ISBLANK(Table1[[#This Row],[Column16]]),ISBLANK(Table1[[#This Row],[Column17]])), \"\",Table1[[#This Row],[Column16]]*Table1[[#This Row],[Column17]])","v":""},null,null,null,null,{"$f":"IF(OR(ISBLANK(Table1[[#This Row],[Column21]]),ISBLANK(Table1[[#This Row],[Column22]])), \"\",Table1[[#This Row],[Column21]]*Table1[[#This Row],[Column22]])","v":""},null,null,null,null,{"$f":"IF(OR(ISBLANK(Table1[[#This Row],[Column25]]),ISBLANK(Table1[[#This Row],[Column26]])), \"\",Table1[[#This Row],[Column25]]*Table1[[#This Row],[Column26]])","v":""},null,null,null,null,{"$f":"IF(OR(ISBLANK(Table1[[#This Row],[Column30]]),ISBLANK(Table1[[#This Row],[Column31]])), \"\",Table1[[#This Row],[Column30]]*Table1[[#This Row],[Column31]])","v":""},null,null,null,null,{"$f":"IF(OR(ISBLANK(Table1[[#This Row],[Column34]]),ISBLANK(Table1[[#This Row],[Column35]])), \"\",Table1[[#This Row],[Column34]]*Table1[[#This Row],[Column35]])","v":""},null,null,null,null,{"$f":"IF(OR(ISBLANK(Table1[[#This Row],[Column39]]),ISBLANK(Table1[[#This Row],[Column40]])), \"\",Table1[[#This Row],[Column39]]*Table1[[#This Row],[Column40]])","v":""},null,null,null,null,{"$f":"IF(OR(ISBLANK(Table1[[#This Row],[Column43]]),ISBLANK(Table1[[#This Row],[Column44]])), \"\",Table1[[#This Row],[Column43]]*Table1[[#This Row],[Column44]])","v":""},null,null,null,null,{"$f":"IF(OR(ISBLANK(Table1[[#This Row],[Column48]]),ISBLANK(Table1[[#This Row],[Column49]])), \"\",Table1[[#This Row],[Column48]]*Table1[[#This Row],[Column49]])","v":""},null,null,null,null,{"$f":"IF(OR(ISBLANK(Table1[[#This Row],[Column52]]),ISBLANK(Table1[[#This Row],[Column53]])), \"\",Table1[[#This Row],[Column52]]*Table1[[#This Row],[Column53]])","v":""},null,null,null,null,{"$f":"IF(OR(ISBLANK(Table1[[#This Row],[Column57]]),ISBLANK(Table1[[#This Row],[Column58]])), \"\",Table1[[#This Row],[Column57]]*Table1[[#This Row],[Column58]])","v":""},null,null,null,null,{"$f":"IF(OR(ISBLANK(Table1[[#This Row],[Column61]]),ISBLANK(Table1[[#This Row],[Column62]])), \"\",Table1[[#This Row],[Column61]]*Table1[[#This Row],[Column62]])","v":""}]
[5,"Boron","N","Derived from industry and geology. No sample data currently available but expected to be during new WQ monitoring programme.",null,null,{"$f":"IF(OR(ISBLANK(Table1[[#This Row],[Column3]]),ISBLANK(Table1[[#This Row],[Column4]])), \"\",Table1[[#This Row],[Column3]]*Table1[[#This Row],[Column4]])","v":""},null,null,null,null,{"$f":"IF(OR(ISBLANK(Table1[[#This Row],[Column7]]),ISBLANK(Table1[[#This Row],[Column8]])), \"\",Table1[[#This Row],[Column7]]*Table1[[#This Row],[Column8]])","v":""},null,null,null,null,{"$f":"IF(OR(ISBLANK(Table1[[#This Row],[Column12]]),ISBLANK(Table1[[#This Row],[Column13]])), \"\",Table1[[#This Row],[Column12]]*Table1[[#This Row],[Column13]])","v":""},null,null,null,null,{"$f":"IF(OR(ISBLANK(Table1[[#This Row],[Column16]]),ISBLANK(Table1[[#This Row],[Column17]])), \"\",Table1[[#This Row],[Column16]]*Table1[[#This Row],[Column17]])","v":""},null,null,null,null,{"$f":"IF(OR(ISBLANK(Table1[[#This Row],[Column21]]),ISBLANK(Table1[[#This Row],[Column22]])), \"\",Table1[[#This Row],[Column21]]*Table1[[#This Row],[Column22]])","v":""},null,null,null,null,{"$f":"IF(OR(ISBLANK(Table1[[#This Row],[Column25]]),ISBLANK(Table1[[#This Row],[Column26]])), \"\",Table1[[#This Row],[Column25]]*Table1[[#This Row],[Column26]])","v":""},null,null,null,null,{"$f":"IF(OR(ISBLANK(Table1[[#This Row],[Column30]]),ISBLANK(Table1[[#This Row],[Column31]])), \"\",Table1[[#This Row],[Column30]]*Table1[[#This Row],[Column31]])","v":""},null,null,null,null,{"$f":"IF(OR(ISBLANK(Table1[[#This Row],[Column34]]),ISBLANK(Table1[[#This Row],[Column35]])), \"\",Table1[[#This Row],[Column34]]*Table1[[#This Row],[Column35]])","v":""},null,null,null,null,{"$f":"IF(OR(ISBLANK(Table1[[#This Row],[Column39]]),ISBLANK(Table1[[#This Row],[Column40]])), \"\",Table1[[#This Row],[Column39]]*Table1[[#This Row],[Column40]])","v":""},null,null,null,null,{"$f":"IF(OR(ISBLANK(Table1[[#This Row],[Column43]]),ISBLANK(Table1[[#This Row],[Column44]])), \"\",Table1[[#This Row],[Column43]]*Table1[[#This Row],[Column44]])","v":""},null,null,null,null,{"$f":"IF(OR(ISBLANK(Table1[[#This Row],[Column48]]),ISBLANK(Table1[[#This Row],[Column49]])), \"\",Table1[[#This Row],[Column48]]*Table1[[#This Row],[Column49]])","v":""},null,null,null,null,{"$f":"IF(OR(ISBLANK(Table1[[#This Row],[Column52]]),ISBLANK(Table1[[#This Row],[Column53]])), \"\",Table1[[#This Row],[Column52]]*Table1[[#This Row],[Column53]])","v":""},null,null,null,null,{"$f":"IF(OR(ISBLANK(Table1[[#This Row],[Column57]]),ISBLANK(Table1[[#This Row],[Column58]])), \"\",Table1[[#This Row],[Column57]]*Table1[[#This Row],[Column58]])","v":""},null,null,null,null,{"$f":"IF(OR(ISBLANK(Table1[[#This Row],[Column61]]),ISBLANK(Table1[[#This Row],[Column62]])), \"\",Table1[[#This Row],[Column61]]*Table1[[#This Row],[Column62]])","v":""}]
[6,"Chromium","N","Derived from industry and geology.\n\nMax value measured in GUC was 4.29μg/l (below PCV) (WSP).",null,null,{"$f":"IF(OR(ISBLANK(Table1[[#This Row],[Column3]]),ISBLANK(Table1[[#This Row],[Column4]])), \"\",Table1[[#This Row],[Column3]]*Table1[[#This Row],[Column4]])","v":""},null,null,null,null,{"$f":"IF(OR(ISBLANK(Table1[[#This Row],[Column7]]),ISBLANK(Table1[[#This Row],[Column8]])), \"\",Table1[[#This Row],[Column7]]*Table1[[#This Row],[Column8]])","v":""},null,null,null,null,{"$f":"IF(OR(ISBLANK(Table1[[#This Row],[Column12]]),ISBLANK(Table1[[#This Row],[Column13]])), \"\",Table1[[#This Row],[Column12]]*Table1[[#This Row],[Column13]])","v":""},null,null,null,null,{"$f":"IF(OR(ISBLANK(Table1[[#This Row],[Column16]]),ISBLANK(Table1[[#This Row],[Column17]])), \"\",Table1[[#This Row],[Column16]]*Table1[[#This Row],[Column17]])","v":""},null,null,null,null,{"$f":"IF(OR(ISBLANK(Table1[[#This Row],[Column21]]),ISBLANK(Table1[[#This Row],[Column22]])), \"\",Table1[[#This Row],[Column21]]*Table1[[#This Row],[Column22]])","v":""},null,null,null,null,{"$f":"IF(OR(ISBLANK(Table1[[#This Row],[Column25]]),ISBLANK(Table1[[#This Row],[Column26]])), \"\",Table1[[#This Row],[Column25]]*Table1[[#This Row],[Column26]])","v":""},null,null,null,null,{"$f":"IF(OR(ISBLANK(Table1[[#This Row],[Column30]]),ISBLANK(Table1[[#This Row],[Column31]])), \"\",Table1[[#This Row],[Column30]]*Table1[[#This Row],[Column31]])","v":""},null,null,null,null,{"$f":"IF(OR(ISBLANK(Table1[[#This Row],[Column34]]),ISBLANK(Table1[[#This Row],[Column35]])), \"\",Table1[[#This Row],[Column34]]*Table1[[#This Row],[Column35]])","v":""},null,null,null,null,{"$f":"IF(OR(ISBLANK(Table1[[#This Row],[Column39]]),ISBLANK(Table1[[#This Row],[Column40]])), \"\",Table1[[#This Row],[Column39]]*Table1[[#This Row],[Column40]])","v":""},null,null,null,null,{"$f":"IF(OR(ISBLANK(Table1[[#This Row],[Column43]]),ISBLANK(Table1[[#This Row],[Column44]])), \"\",Table1[[#This Row],[Column43]]*Table1[[#This Row],[Column44]])","v":""},null,null,null,null,{"$f":"IF(OR(ISBLANK(Table1[[#This Row],[Column48]]),ISBLANK(Table1[[#This Row],[Column49]])), \"\",Table1[[#This Row],[Column48]]*Table1[[#This Row],[Column49]])","v":""},null,null,null,null,{"$f":"IF(OR(ISBLANK(Table1[[#This Row],[Column52]]),ISBLANK(Table1[[#This Row],[Column53]])), \"\",Table1[[#This Row],[Column52]]*Table1[[#This Row],[Column53]])","v":""},null,null,null,null,{"$f":"IF(OR(ISBLANK(Table1[[#This Row],[Column57]]),ISBLANK(Table1[[#This Row],[Column58]])), \"\",Table1[[#This Row],[Column57]]*Table1[[#This Row],[Column58]])","v":""},null,null,null,null,{"$f":"IF(OR(ISBLANK(Table1[[#This Row],[Column61]]),ISBLANK(Table1[[#This Row],[Column62]])), \"\",Table1[[#This Row],[Column61]]*Table1[[#This Row],[Column62]])","v":""}]
[7,"Fluoride","N","Primarily derived from industry and geology. No sample data currently available but expected to be during new WQ monitoring programme.",null,null,{"$f":"IF(OR(ISBLANK(Table1[[#This Row],[Column3]]),ISBLANK(Table1[[#This Row],[Column4]])), \"\",Table1[[#This Row],[Column3]]*Table1[[#This Row],[Column4]])","v":""},null,null,null,null,{"$f":"IF(OR(ISBLANK(Table1[[#This Row],[Column7]]),ISBLANK(Table1[[#This Row],[Column8]])), \"\",Table1[[#This Row],[Column7]]*Table1[[#This Row],[Column8]])","v":""},null,null,null,null,{"$f":"IF(OR(ISBLANK(Table1[[#This Row],[Column12]]),ISBLANK(Table1[[#This Row],[Column13]])), \"\",Table1[[#This Row],[Column12]]*Table1[[#This Row],[Column13]])","v":""},null,null,null,null,{"$f":"IF(OR(ISBLANK(Table1[[#This Row],[Column16]]),ISBLANK(Table1[[#This Row],[Column17]])), \"\",Table1[[#This Row],[Column16]]*Table1[[#This Row],[Column17]])","v":""},null,null,null,null,{"$f":"IF(OR(ISBLANK(Table1[[#This Row],[Column21]]),ISBLANK(Table1[[#This Row],[Column22]])), \"\",Table1[[#This Row],[Column21]]*Table1[[#This Row],[Column22]])","v":""},null,null,null,null,{"$f":"IF(OR(ISBLANK(Table1[[#This Row],[Column25]]),ISBLANK(Table1[[#This Row],[Column26]])), \"\",Table1[[#This Row],[Column25]]*Table1[[#This Row],[Column26]])","v":""},null,null,null,null,{"$f":"IF(OR(ISBLANK(Table1[[#This Row],[Column30]]),ISBLANK(Table1[[#This Row],[Column31]])), \"\",Table1[[#This Row],[Column30]]*Table1[[#This Row],[Column31]])","v":""},null,null,null,null,{"$f":"IF(OR(ISBLANK(Table1[[#This Row],[Column34]]),ISBLANK(Table1[[#This Row],[Column35]])), \"\",Table1[[#This Row],[Column34]]*Table1[[#This Row],[Column35]])","v":""},null,null,null,null,{"$f":"IF(OR(ISBLANK(Table1[[#This Row],[Column39]]),ISBLANK(Table1[[#This Row],[Column40]])), \"\",Table1[[#This Row],[Column39]]*Table1[[#This Row],[Column40]])","v":""},null,null,null,null,{"$f":"IF(OR(ISBLANK(Table1[[#This Row],[Column43]]),ISBLANK(Table1[[#This Row],[Column44]])), \"\",Table1[[#This Row],[Column43]]*Table1[[#This Row],[Column44]])","v":""},null,null,null,null,{"$f":"IF(OR(ISBLANK(Table1[[#This Row],[Column48]]),ISBLANK(Table1[[#This Row],[Column49]])), \"\",Table1[[#This Row],[Column48]]*Table1[[#This Row],[Column49]])","v":""},null,null,null,null,{"$f":"IF(OR(ISBLANK(Table1[[#This Row],[Column52]]),ISBLANK(Table1[[#This Row],[Column53]])), \"\",Table1[[#This Row],[Column52]]*Table1[[#This Row],[Column53]])","v":""},null,null,null,null,{"$f":"IF(OR(ISBLANK(Table1[[#This Row],[Column57]]),ISBLANK(Table1[[#This Row],[Column58]])), \"\",Table1[[#This Row],[Column57]]*Table1[[#This Row],[Column58]])","v":""},null,null,null,null,{"$f":"IF(OR(ISBLANK(Table1[[#This Row],[Column61]]),ISBLANK(Table1[[#This Row],[Column62]])), \"\",Table1[[#This Row],[Column61]]*Table1[[#This Row],[Column62]])","v":""}]
[8,"Selenium","N","Primarily derived from geology. No sample data currently available but expected to be during new WQ monitoring programme.",null,null,{"$f":"IF(OR(ISBLANK(Table1[[#This Row],[Column3]]),ISBLANK(Table1[[#This Row],[Column4]])), \"\",Table1[[#This Row],[Column3]]*Table1[[#This Row],[Column4]])","v":""},null,null,null,null,{"$f":"IF(OR(ISBLANK(Table1[[#This Row],[Column7]]),ISBLANK(Table1[[#This Row],[Column8]])), \"\",Table1[[#This Row],[Column7]]*Table1[[#This Row],[Column8]])","v":""},null,null,null,null,{"$f":"IF(OR(ISBLANK(Table1[[#This Row],[Column12]]),ISBLANK(Table1[[#This Row],[Column13]])), \"\",Table1[[#This Row],[Column12]]*Table1[[#This Row],[Column13]])","v":""},null,null,null,null,{"$f":"IF(OR(ISBLANK(Table1[[#This Row],[Column16]]),ISBLANK(Table1[[#This Row],[Column17]])), \"\",Table1[[#This Row],[Column16]]*Table1[[#This Row],[Column17]])","v":""},null,null,null,null,{"$f":"IF(OR(ISBLANK(Table1[[#This Row],[Column21]]),ISBLANK(Table1[[#This Row],[Column22]])), \"\",Table1[[#This Row],[Column21]]*Table1[[#This Row],[Column22]])","v":""},null,null,null,null,{"$f":"IF(OR(ISBLANK(Table1[[#This Row],[Column25]]),ISBLANK(Table1[[#This Row],[Column26]])), \"\",Table1[[#This Row],[Column25]]*Table1[[#This Row],[Column26]])","v":""},null,null,null,null,{"$f":"IF(OR(ISBLANK(Table1[[#This Row],[Column30]]),ISBLANK(Table1[[#This Row],[Column31]])), \"\",Table1[[#This Row],[Column30]]*Table1[[#This Row],[Column31]])","v":""},null,null,null,null,{"$f":"IF(OR(ISBLANK(Table1[[#This Row],[Column34]]),ISBLANK(Table1[[#This Row],[Column35]])), \"\",Table1[[#This Row],[Column34]]*Table1[[#This Row],[Column35]])","v":""},null,null,null,null,{"$f":"IF(OR(ISBLANK(Table1[[#This Row],[Column39]]),ISBLANK(Table1[[#This Row],[Column40]])), \"\",Table1[[#This Row],[Column39]]*Table1[[#This Row],[Column40]])","v":""},null,null,null,null,{"$f":"IF(OR(ISBLANK(Table1[[#This Row],[Column43]]),ISBLANK(Table1[[#This Row],[Column44]])), \"\",Table1[[#This Row],[Column43]]*Table1[[#This Row],[Column44]])","v":""},null,null,null,null,{"$f":"IF(OR(ISBLANK(Table1[[#This Row],[Column48]]),ISBLANK(Table1[[#This Row],[Column49]])), \"\",Table1[[#This Row],[Column48]]*Table1[[#This Row],[Column49]])","v":""},null,null,null,null,{"$f":"IF(OR(ISBLANK(Table1[[#This Row],[Column52]]),ISBLANK(Table1[[#This Row],[Column53]])), \"\",Table1[[#This Row],[Column52]]*Table1[[#This Row],[Column53]])","v":""},null,null,null,null,{"$f":"IF(OR(ISBLANK(Table1[[#This Row],[Column57]]),ISBLANK(Table1[[#This Row],[Column58]])), \"\",Table1[[#This Row],[Column57]]*Table1[[#This Row],[Column58]])","v":""},null,null,null,null,{"$f":"IF(OR(ISBLANK(Table1[[#This Row],[Column61]]),ISBLANK(Table1[[#This Row],[Column62]])), \"\",Table1[[#This Row],[Column61]]*Table1[[#This Row],[Column62]])","v":""}]
[9,"Iron","Y","Primarily derived from geology.",5,3,{"$f":"IF(OR(ISBLANK(Table1[[#This Row],[Column3]]),ISBLANK(Table1[[#This Row],[Column4]])), \"\",Table1[[#This Row],[Column3]]*Table1[[#This Row],[Column4]])","v":15},"Gate 1: Iron maximum concentrations noted at 1100 ug/l (WSP)\n\nGate 2 Water Quality Monitoring Programme provides Iron samples at Site 1 (Minworth WwTW Effluent); Site 3 (Coventry Canal); Site 5 (Welton Lane, Daventry) and Site 6 (Grove Lock, Leighton Buzzard). Max value 2600ug/l (site 6) with mean sample values at all sites (bar Minworth FE) above the PCV of 200ug/l.\n\nIncreased risk likelihood during treatment if a Ferric coagulant is used","None",5,3,{"$f":"IF(OR(ISBLANK(Table1[[#This Row],[Column7]]),ISBLANK(Table1[[#This Row],[Column8]])), \"\",Table1[[#This Row],[Column7]]*Table1[[#This Row],[Column8]])","v":15},"Mitigated through treatment.","None",5,3,{"$f":"IF(OR(ISBLANK(Table1[[#This Row],[Column12]]),ISBLANK(Table1[[#This Row],[Column13]])), \"\",Table1[[#This Row],[Column12]]*Table1[[#This Row],[Column13]])","v":15},"Risk profile unlikely to change during abstraction","None",5,3,{"$f":"IF(OR(ISBLANK(Table1[[#This Row],[Column16]]),ISBLANK(Table1[[#This Row],[Column17]])), \"\",Table1[[#This Row],[Column16]]*Table1[[#This Row],[Column17]])","v":15},"Mitigated through treatment.","None.",5,3,{"$f":"IF(OR(ISBLANK(Table1[[#This Row],[Column21]]),ISBLANK(Table1[[#This Row],[Column22]])), \"\",Table1[[#This Row],[Column21]]*Table1[[#This Row],[Column22]])","v":15},"Risk not likely to change through conveyance","None",5,3,{"$f":"IF(OR(ISBLANK(Table1[[#This Row],[Column25]]),ISBLANK(Table1[[#This Row],[Column26]])), \"\",Table1[[#This Row],[Column25]]*Table1[[#This Row],[Column26]])","v":15},"No control so scores are cascaded from pre- to post-mitigated.","None",5,3,{"$f":"IF(OR(ISBLANK(Table1[[#This Row],[Column30]]),ISBLANK(Table1[[#This Row],[Column31]])), \"\",Table1[[#This Row],[Column30]]*Table1[[#This Row],[Column31]])","v":15},"Risk expected to come from both soluble and insoluble Iron. Risk could increase during treatment if an Iron based coagulant is used.","Mitigated through proposed Oxidation, Coagulation flocculation and Clarification. Optimised coagulant dose to reduce increased risk during treatment.",1,3,{"$f":"IF(OR(ISBLANK(Table1[[#This Row],[Column34]]),ISBLANK(Table1[[#This Row],[Column35]])), \"\",Table1[[#This Row],[Column34]]*Table1[[#This Row],[Column35]])","v":3},"Residual Iron can influence aesthetic water quality (taste & odour) and discoloured water. Treatment to be sufficient to reduce risk.","Continue monitoring",1,3,{"$f":"IF(OR(ISBLANK(Table1[[#This Row],[Column39]]),ISBLANK(Table1[[#This Row],[Column40]])), \"\",Table1[[#This Row],[Column39]]*Table1[[#This Row],[Column40]])","v":3},"Risk unlikely to increase through to storage","No control measure required",1,3,{"$f":"IF(OR(ISBLANK(Table1[[#This Row],[Column43]]),ISBLANK(Table1[[#This Row],[Column44]])), \"\",Table1[[#This Row],[Column43]]*Table1[[#This Row],[Column44]])","v":3},"Risk is reduced by upstream processes.","None",3,3,{"$f":"IF(OR(ISBLANK(Table1[[#This Row],[Column48]]),ISBLANK(Table1[[#This Row],[Column49]])), \"\",Table1[[#This Row],[Column48]]*Table1[[#This Row],[Column49]])","v":9},"Corrosion - Larson Skold index - may result in increasing iron","Conditioning will be in place as required",1,3,{"$f":"IF(OR(ISBLANK(Table1[[#This Row],[Column52]]),ISBLANK(Table1[[#This Row],[Column53]])), \"\",Table1[[#This Row],[Column52]]*Table1[[#This Row],[Column53]])","v":3},"if deemed necessary, conditioning may be required at the WTW","None",1,3,{"$f":"IF(OR(ISBLANK(Table1[[#This Row],[Column57]]),ISBLANK(Table1[[#This Row],[Column58]])), \"\",Table1[[#This Row],[Column57]]*Table1[[#This Row],[Column58]])","v":3},"Risk unlikely to change through to customer taps","None",1,3,{"$f":"IF(OR(ISBLANK(Table1[[#This Row],[Column61]]),ISBLANK(Table1[[#This Row],[Column62]])), \"\",Table1[[#This Row],[Column61]]*Table1[[#This Row],[Column62]])","v":3},"None","None"]
[10,"Manganese","Y","Primarily derived from geology. May also come form industrial discharges.",4,3,{"$f":"IF(OR(ISBLANK(Table1[[#This Row],[Column3]]),ISBLANK(Table1[[#This Row],[Column4]])), \"\",Table1[[#This Row],[Column3]]*Table1[[#This Row],[Column4]])","v":12},"Gate 2 Water quality Monitoring Programme records max value at 15,000ug/l at Site 3, well above 50ug/l PCV. Sampling shows Manganese is mostly in dissolved form at Site 3. Samples at Site 1 show Max value 160ug/l, average value 99.6ug/l and mostly in dissolved form. Site 6 show Max value 150ug/l, average value 35ug/l and mostly in dissolved form.\n\nAdded as a new Limiting Hazard during Gate 2 ACWG Workshop.","None",4,3,{"$f":"IF(OR(ISBLANK(Table1[[#This Row],[Column7]]),ISBLANK(Table1[[#This Row],[Column8]])), \"\",Table1[[#This Row],[Column7]]*Table1[[#This Row],[Column8]])","v":12},"Mitigated through treatment.","None",4,3,{"$f":"IF(OR(ISBLANK(Table1[[#This Row],[Column12]]),ISBLANK(Table1[[#This Row],[Column13]])), \"\",Table1[[#This Row],[Column12]]*Table1[[#This Row],[Column13]])","v":12},"Risk profile unlikely to change during abstraction","None",4,3,{"$f":"IF(OR(ISBLANK(Table1[[#This Row],[Column16]]),ISBLANK(Table1[[#This Row],[Column17]])), \"\",Table1[[#This Row],[Column16]]*Table1[[#This Row],[Column17]])","v":12},"To be mitigated through treatment.","None.",4,3,{"$f":"IF(OR(ISBLANK(Table1[[#This Row],[Column21]]),ISBLANK(Table1[[#This Row],[Column22]])), \"\",Table1[[#This Row],[Column21]]*Table1[[#This Row],[Column22]])","v":12},"Risk not likely to change through conveyance","None",4,3,{"$f":"IF(OR(ISBLANK(Table1[[#This Row],[Column25]]),ISBLANK(Table1[[#This Row],[Column26]])), \"\",Table1[[#This Row],[Column25]]*Table1[[#This Row],[Column26]])","v":12},"No control so scores are cascaded from pre- to post-mitigated.","None",4,3,{"$f":"IF(OR(ISBLANK(Table1[[#This Row],[Column30]]),ISBLANK(Table1[[#This Row],[Column31]])), \"\",Table1[[#This Row],[Column30]]*Table1[[#This Row],[Column31]])","v":12},"Risk expected to come from both soluble and insoluble Manganese.","Mitigated through proposed Oxidation, Coagulation flocculation and Clarification. ",1,3,{"$f":"IF(OR(ISBLANK(Table1[[#This Row],[Column34]]),ISBLANK(Table1[[#This Row],[Column35]])), \"\",Table1[[#This Row],[Column34]]*Table1[[#This Row],[Column35]])","v":3},"Residual Manganese can influence aesthetic water quality and discolour water. Treatment to be sufficient to reduce risk","Continue monitoring",1,3,{"$f":"IF(OR(ISBLANK(Table1[[#This Row],[Column39]]),ISBLANK(Table1[[#This Row],[Column40]])), \"\",Table1[[#This Row],[Column39]]*Table1[[#This Row],[Column40]])","v":3},"Risk unlikely to increase through to storage","No control measure required",1,3,{"$f":"IF(OR(ISBLANK(Table1[[#This Row],[Column43]]),ISBLANK(Table1[[#This Row],[Column44]])), \"\",Table1[[#This Row],[Column43]]*Table1[[#This Row],[Column44]])","v":3},"Risk is reduced by upstream processes.","None",1,3,{"$f":"IF(OR(ISBLANK(Table1[[#This Row],[Column48]]),ISBLANK(Table1[[#This Row],[Column49]])), \"\",Table1[[#This Row],[Column48]]*Table1[[#This Row],[Column49]])","v":3},"Risk unlikely to increase during distribution","None",1,3,{"$f":"IF(OR(ISBLANK(Table1[[#This Row],[Column52]]),ISBLANK(Table1[[#This Row],[Column53]])), \"\",Table1[[#This Row],[Column52]]*Table1[[#This Row],[Column53]])","v":3},"None","None",1,3,{"$f":"IF(OR(ISBLANK(Table1[[#This Row],[Column57]]),ISBLANK(Table1[[#This Row],[Column58]])), \"\",Table1[[#This Row],[Column57]]*Table1[[#This Row],[Column58]])","v":3},"Risk unlikely to change through to customer taps","None",1,3,{"$f":"IF(OR(ISBLANK(Table1[[#This Row],[Column61]]),ISBLANK(Table1[[#This Row],[Column62]])), \"\",Table1[[#This Row],[Column61]]*Table1[[#This Row],[Column62]])","v":3},"None","None"]
[11,"Sodium","N","Primarily derived from geology. No sample data currently available but expected to be during new WQ monitoring programme.",null,null,{"$f":"IF(OR(ISBLANK(Table1[[#This Row],[Column3]]),ISBLANK(Table1[[#This Row],[Column4]])), \"\",Table1[[#This Row],[Column3]]*Table1[[#This Row],[Column4]])","v":""},null,null,null,null,{"$f":"IF(OR(ISBLANK(Table1[[#This Row],[Column7]]),ISBLANK(Table1[[#This Row],[Column8]])), \"\",Table1[[#This Row],[Column7]]*Table1[[#This Row],[Column8]])","v":""},null,null,null,null,{"$f":"IF(OR(ISBLANK(Table1[[#This Row],[Column12]]),ISBLANK(Table1[[#This Row],[Column13]])), \"\",Table1[[#This Row],[Column12]]*Table1[[#This Row],[Column13]])","v":""},null,null,null,null,{"$f":"IF(OR(ISBLANK(Table1[[#This Row],[Column16]]),ISBLANK(Table1[[#This Row],[Column17]])), \"\",Table1[[#This Row],[Column16]]*Table1[[#This Row],[Column17]])","v":""},null,null,null,null,{"$f":"IF(OR(ISBLANK(Table1[[#This Row],[Column21]]),ISBLANK(Table1[[#This Row],[Column22]])), \"\",Table1[[#This Row],[Column21]]*Table1[[#This Row],[Column22]])","v":""},null,null,null,null,{"$f":"IF(OR(ISBLANK(Table1[[#This Row],[Column25]]),ISBLANK(Table1[[#This Row],[Column26]])), \"\",Table1[[#This Row],[Column25]]*Table1[[#This Row],[Column26]])","v":""},null,null,null,null,{"$f":"IF(OR(ISBLANK(Table1[[#This Row],[Column30]]),ISBLANK(Table1[[#This Row],[Column31]])), \"\",Table1[[#This Row],[Column30]]*Table1[[#This Row],[Column31]])","v":""},null,null,null,null,{"$f":"IF(OR(ISBLANK(Table1[[#This Row],[Column34]]),ISBLANK(Table1[[#This Row],[Column35]])), \"\",Table1[[#This Row],[Column34]]*Table1[[#This Row],[Column35]])","v":""},null,null,null,null,{"$f":"IF(OR(ISBLANK(Table1[[#This Row],[Column39]]),ISBLANK(Table1[[#This Row],[Column40]])), \"\",Table1[[#This Row],[Column39]]*Table1[[#This Row],[Column40]])","v":""},null,null,null,null,{"$f":"IF(OR(ISBLANK(Table1[[#This Row],[Column43]]),ISBLANK(Table1[[#This Row],[Column44]])), \"\",Table1[[#This Row],[Column43]]*Table1[[#This Row],[Column44]])","v":""},null,null,null,null,{"$f":"IF(OR(ISBLANK(Table1[[#This Row],[Column48]]),ISBLANK(Table1[[#This Row],[Column49]])), \"\",Table1[[#This Row],[Column48]]*Table1[[#This Row],[Column49]])","v":""},null,null,null,null,{"$f":"IF(OR(ISBLANK(Table1[[#This Row],[Column52]]),ISBLANK(Table1[[#This Row],[Column53]])), \"\",Table1[[#This Row],[Column52]]*Table1[[#This Row],[Column53]])","v":""},null,null,null,null,{"$f":"IF(OR(ISBLANK(Table1[[#This Row],[Column57]]),ISBLANK(Table1[[#This Row],[Column58]])), \"\",Table1[[#This Row],[Column57]]*Table1[[#This Row],[Column58]])","v":""},null,null,null,null,{"$f":"IF(OR(ISBLANK(Table1[[#This Row],[Column61]]),ISBLANK(Table1[[#This Row],[Column62]])), \"\",Table1[[#This Row],[Column61]]*Table1[[#This Row],[Column62]])","v":""}]
[12,"Barium","N","Primarily derived from geology. No sample data currently available but expected to be during new WQ monitoring programme.",null,null,{"$f":"IF(OR(ISBLANK(Table1[[#This Row],[Column3]]),ISBLANK(Table1[[#This Row],[Column4]])), \"\",Table1[[#This Row],[Column3]]*Table1[[#This Row],[Column4]])","v":""},null,null,null,null,{"$f":"IF(OR(ISBLANK(Table1[[#This Row],[Column7]]),ISBLANK(Table1[[#This Row],[Column8]])), \"\",Table1[[#This Row],[Column7]]*Table1[[#This Row],[Column8]])","v":""},null,null,null,null,{"$f":"IF(OR(ISBLANK(Table1[[#This Row],[Column12]]),ISBLANK(Table1[[#This Row],[Column13]])), \"\",Table1[[#This Row],[Column12]]*Table1[[#This Row],[Column13]])","v":""},null,null,null,null,{"$f":"IF(OR(ISBLANK(Table1[[#This Row],[Column16]]),ISBLANK(Table1[[#This Row],[Column17]])), \"\",Table1[[#This Row],[Column16]]*Table1[[#This Row],[Column17]])","v":""},null,null,null,null,{"$f":"IF(OR(ISBLANK(Table1[[#This Row],[Column21]]),ISBLANK(Table1[[#This Row],[Column22]])), \"\",Table1[[#This Row],[Column21]]*Table1[[#This Row],[Column22]])","v":""},null,null,null,null,{"$f":"IF(OR(ISBLANK(Table1[[#This Row],[Column25]]),ISBLANK(Table1[[#This Row],[Column26]])), \"\",Table1[[#This Row],[Column25]]*Table1[[#This Row],[Column26]])","v":""},null,null,null,null,{"$f":"IF(OR(ISBLANK(Table1[[#This Row],[Column30]]),ISBLANK(Table1[[#This Row],[Column31]])), \"\",Table1[[#This Row],[Column30]]*Table1[[#This Row],[Column31]])","v":""},null,null,null,null,{"$f":"IF(OR(ISBLANK(Table1[[#This Row],[Column34]]),ISBLANK(Table1[[#This Row],[Column35]])), \"\",Table1[[#This Row],[Column34]]*Table1[[#This Row],[Column35]])","v":""},null,null,null,null,{"$f":"IF(OR(ISBLANK(Table1[[#This Row],[Column39]]),ISBLANK(Table1[[#This Row],[Column40]])), \"\",Table1[[#This Row],[Column39]]*Table1[[#This Row],[Column40]])","v":""},null,null,null,null,{"$f":"IF(OR(ISBLANK(Table1[[#This Row],[Column43]]),ISBLANK(Table1[[#This Row],[Column44]])), \"\",Table1[[#This Row],[Column43]]*Table1[[#This Row],[Column44]])","v":""},null,null,null,null,{"$f":"IF(OR(ISBLANK(Table1[[#This Row],[Column48]]),ISBLANK(Table1[[#This Row],[Column49]])), \"\",Table1[[#This Row],[Column48]]*Table1[[#This Row],[Column49]])","v":""},null,null,null,null,{"$f":"IF(OR(ISBLANK(Table1[[#This Row],[Column52]]),ISBLANK(Table1[[#This Row],[Column53]])), \"\",Table1[[#This Row],[Column52]]*Table1[[#This Row],[Column53]])","v":""},null,null,null,null,{"$f":"IF(OR(ISBLANK(Table1[[#This Row],[Column57]]),ISBLANK(Table1[[#This Row],[Column58]])), \"\",Table1[[#This Row],[Column57]]*Table1[[#This Row],[Column58]])","v":""},null,null,null,null,{"$f":"IF(OR(ISBLANK(Table1[[#This Row],[Column61]]),ISBLANK(Table1[[#This Row],[Column62]])), \"\",Table1[[#This Row],[Column61]]*Table1[[#This Row],[Column62]])","v":""}]
[13,"Bromide","N","Potentially from Industrial contamination\n\nMinworth Final effluent contains significant concentration of bromide > 300μg/l (AECOM).",null,null,{"$f":"IF(OR(ISBLANK(Table1[[#This Row],[Column3]]),ISBLANK(Table1[[#This Row],[Column4]])), \"\",Table1[[#This Row],[Column3]]*Table1[[#This Row],[Column4]])","v":""},null,null,null,null,{"$f":"IF(OR(ISBLANK(Table1[[#This Row],[Column7]]),ISBLANK(Table1[[#This Row],[Column8]])), \"\",Table1[[#This Row],[Column7]]*Table1[[#This Row],[Column8]])","v":""},null,null,null,null,{"$f":"IF(OR(ISBLANK(Table1[[#This Row],[Column12]]),ISBLANK(Table1[[#This Row],[Column13]])), \"\",Table1[[#This Row],[Column12]]*Table1[[#This Row],[Column13]])","v":""},null,null,null,null,{"$f":"IF(OR(ISBLANK(Table1[[#This Row],[Column16]]),ISBLANK(Table1[[#This Row],[Column17]])), \"\",Table1[[#This Row],[Column16]]*Table1[[#This Row],[Column17]])","v":""},null,null,null,null,{"$f":"IF(OR(ISBLANK(Table1[[#This Row],[Column21]]),ISBLANK(Table1[[#This Row],[Column22]])), \"\",Table1[[#This Row],[Column21]]*Table1[[#This Row],[Column22]])","v":""},null,null,null,null,{"$f":"IF(OR(ISBLANK(Table1[[#This Row],[Column25]]),ISBLANK(Table1[[#This Row],[Column26]])), \"\",Table1[[#This Row],[Column25]]*Table1[[#This Row],[Column26]])","v":""},null,null,null,null,{"$f":"IF(OR(ISBLANK(Table1[[#This Row],[Column30]]),ISBLANK(Table1[[#This Row],[Column31]])), \"\",Table1[[#This Row],[Column30]]*Table1[[#This Row],[Column31]])","v":""},null,null,null,null,{"$f":"IF(OR(ISBLANK(Table1[[#This Row],[Column34]]),ISBLANK(Table1[[#This Row],[Column35]])), \"\",Table1[[#This Row],[Column34]]*Table1[[#This Row],[Column35]])","v":""},null,null,null,null,{"$f":"IF(OR(ISBLANK(Table1[[#This Row],[Column39]]),ISBLANK(Table1[[#This Row],[Column40]])), \"\",Table1[[#This Row],[Column39]]*Table1[[#This Row],[Column40]])","v":""},null,null,null,null,{"$f":"IF(OR(ISBLANK(Table1[[#This Row],[Column43]]),ISBLANK(Table1[[#This Row],[Column44]])), \"\",Table1[[#This Row],[Column43]]*Table1[[#This Row],[Column44]])","v":""},null,null,null,null,{"$f":"IF(OR(ISBLANK(Table1[[#This Row],[Column48]]),ISBLANK(Table1[[#This Row],[Column49]])), \"\",Table1[[#This Row],[Column48]]*Table1[[#This Row],[Column49]])","v":""},null,null,null,null,{"$f":"IF(OR(ISBLANK(Table1[[#This Row],[Column52]]),ISBLANK(Table1[[#This Row],[Column53]])), \"\",Table1[[#This Row],[Column52]]*Table1[[#This Row],[Column53]])","v":""},null,null,null,null,{"$f":"IF(OR(ISBLANK(Table1[[#This Row],[Column57]]),ISBLANK(Table1[[#This Row],[Column58]])), \"\",Table1[[#This Row],[Column57]]*Table1[[#This Row],[Column58]])","v":""},null,null,null,null,{"$f":"IF(OR(ISBLANK(Table1[[#This Row],[Column61]]),ISBLANK(Table1[[#This Row],[Column62]])), \"\",Table1[[#This Row],[Column61]]*Table1[[#This Row],[Column62]])","v":""}]
[14,"Sulfate","Y","Primarily derived from geology.",3,3,{"$f":"IF(OR(ISBLANK(Table1[[#This Row],[Column3]]),ISBLANK(Table1[[#This Row],[Column4]])), \"\",Table1[[#This Row],[Column3]]*Table1[[#This Row],[Column4]])","v":9},"Gate 2 Water Quality monitoring programme max recorded value of 590 mg/l SO4 at Site 3 average value 383mg/l, above PCV of 250mg/l. Monitoring of Sulphate in the Minworth WwTW effluent (Site 1) has max value of 180mg/l, average reading 80mg/l, below the PCV.\n\nAdded as a new Limiting Hazard during Gate 2 ACWG Workshop. Consequence score based on risk to consumer acceptability.","None",3,3,{"$f":"IF(OR(ISBLANK(Table1[[#This Row],[Column7]]),ISBLANK(Table1[[#This Row],[Column8]])), \"\",Table1[[#This Row],[Column7]]*Table1[[#This Row],[Column8]])","v":9},"Flows from Minworth WwTW may reduce concentrations of Sulphate in the GUC. ","SRO flow modelling to advise how much water supplied from the scheme will be from Minworth WwTW effluent. Potential to include in future monitoring schemes along GUC.",3,3,{"$f":"IF(OR(ISBLANK(Table1[[#This Row],[Column12]]),ISBLANK(Table1[[#This Row],[Column13]])), \"\",Table1[[#This Row],[Column12]]*Table1[[#This Row],[Column13]])","v":9},"Risk profile unlikely to change during abstraction","None",3,3,{"$f":"IF(OR(ISBLANK(Table1[[#This Row],[Column16]]),ISBLANK(Table1[[#This Row],[Column17]])), \"\",Table1[[#This Row],[Column16]]*Table1[[#This Row],[Column17]])","v":9},"Mitigated through treatment.","None.",3,3,{"$f":"IF(OR(ISBLANK(Table1[[#This Row],[Column21]]),ISBLANK(Table1[[#This Row],[Column22]])), \"\",Table1[[#This Row],[Column21]]*Table1[[#This Row],[Column22]])","v":9},"Risk not likely to change through conveyance","None",3,3,{"$f":"IF(OR(ISBLANK(Table1[[#This Row],[Column25]]),ISBLANK(Table1[[#This Row],[Column26]])), \"\",Table1[[#This Row],[Column25]]*Table1[[#This Row],[Column26]])","v":9},"No control so scores are cascaded from pre- to post-mitigated.","None",3,3,{"$f":"IF(OR(ISBLANK(Table1[[#This Row],[Column30]]),ISBLANK(Table1[[#This Row],[Column31]])), \"\",Table1[[#This Row],[Column30]]*Table1[[#This Row],[Column31]])","v":9},"Sulphate measured at concentrations higher than the PCV in the Coventry Canal.","Treatment to be revised if necessary to control the risk from Sulphate.",1,3,{"$f":"IF(OR(ISBLANK(Table1[[#This Row],[Column34]]),ISBLANK(Table1[[#This Row],[Column35]])), \"\",Table1[[#This Row],[Column34]]*Table1[[#This Row],[Column35]])","v":3},"Treatment selection to be reviewed to ensure likelihood is reduced to acceptable levels","Ensure treatment will mitigate risk of Sulphate",1,3,{"$f":"IF(OR(ISBLANK(Table1[[#This Row],[Column39]]),ISBLANK(Table1[[#This Row],[Column40]])), \"\",Table1[[#This Row],[Column39]]*Table1[[#This Row],[Column40]])","v":3},"Risk unlikely to increase through to storage","No control measure required",1,3,{"$f":"IF(OR(ISBLANK(Table1[[#This Row],[Column43]]),ISBLANK(Table1[[#This Row],[Column44]])), \"\",Table1[[#This Row],[Column43]]*Table1[[#This Row],[Column44]])","v":3},"Risk to be reduced by upstream processes.","None",1,3,{"$f":"IF(OR(ISBLANK(Table1[[#This Row],[Column48]]),ISBLANK(Table1[[#This Row],[Column49]])), \"\",Table1[[#This Row],[Column48]]*Table1[[#This Row],[Column49]])","v":3},"Risk unlikely to increase during distribution","None",1,3,{"$f":"IF(OR(ISBLANK(Table1[[#This Row],[Column52]]),ISBLANK(Table1[[#This Row],[Column53]])), \"\",Table1[[#This Row],[Column52]]*Table1[[#This Row],[Column53]])","v":3},"None","None",1,3,{"$f":"IF(OR(ISBLANK(Table1[[#This Row],[Column57]]),ISBLANK(Table1[[#This Row],[Column58]])), \"\",Table1[[#This Row],[Column57]]*Table1[[#This Row],[Column58]])","v":3},"Risk unlikely to change through to customer taps","None",1,3,{"$f":"IF(OR(ISBLANK(Table1[[#This Row],[Column61]]),ISBLANK(Table1[[#This Row],[Column62]])), \"\",Table1[[#This Row],[Column61]]*Table1[[#This Row],[Column62]])","v":3},"None","None"]
[15,"Total dissolved solids","N","Primarily derived from geology. No sample data currently available but expected to be during new WQ monitoring programme.",null,null,{"$f":"IF(OR(ISBLANK(Table1[[#This Row],[Column3]]),ISBLANK(Table1[[#This Row],[Column4]])), \"\",Table1[[#This Row],[Column3]]*Table1[[#This Row],[Column4]])","v":""},null,null,null,null,{"$f":"IF(OR(ISBLANK(Table1[[#This Row],[Column7]]),ISBLANK(Table1[[#This Row],[Column8]])), \"\",Table1[[#This Row],[Column7]]*Table1[[#This Row],[Column8]])","v":""},null,null,null,null,{"$f":"IF(OR(ISBLANK(Table1[[#This Row],[Column12]]),ISBLANK(Table1[[#This Row],[Column13]])), \"\",Table1[[#This Row],[Column12]]*Table1[[#This Row],[Column13]])","v":""},null,null,null,null,{"$f":"IF(OR(ISBLANK(Table1[[#This Row],[Column16]]),ISBLANK(Table1[[#This Row],[Column17]])), \"\",Table1[[#This Row],[Column16]]*Table1[[#This Row],[Column17]])","v":""},null,null,null,null,{"$f":"IF(OR(ISBLANK(Table1[[#This Row],[Column21]]),ISBLANK(Table1[[#This Row],[Column22]])), \"\",Table1[[#This Row],[Column21]]*Table1[[#This Row],[Column22]])","v":""},null,null,null,null,{"$f":"IF(OR(ISBLANK(Table1[[#This Row],[Column25]]),ISBLANK(Table1[[#This Row],[Column26]])), \"\",Table1[[#This Row],[Column25]]*Table1[[#This Row],[Column26]])","v":""},null,null,null,null,{"$f":"IF(OR(ISBLANK(Table1[[#This Row],[Column30]]),ISBLANK(Table1[[#This Row],[Column31]])), \"\",Table1[[#This Row],[Column30]]*Table1[[#This Row],[Column31]])","v":""},null,null,null,null,{"$f":"IF(OR(ISBLANK(Table1[[#This Row],[Column34]]),ISBLANK(Table1[[#This Row],[Column35]])), \"\",Table1[[#This Row],[Column34]]*Table1[[#This Row],[Column35]])","v":""},null,null,null,null,{"$f":"IF(OR(ISBLANK(Table1[[#This Row],[Column39]]),ISBLANK(Table1[[#This Row],[Column40]])), \"\",Table1[[#This Row],[Column39]]*Table1[[#This Row],[Column40]])","v":""},null,null,null,null,{"$f":"IF(OR(ISBLANK(Table1[[#This Row],[Column43]]),ISBLANK(Table1[[#This Row],[Column44]])), \"\",Table1[[#This Row],[Column43]]*Table1[[#This Row],[Column44]])","v":""},null,null,null,null,{"$f":"IF(OR(ISBLANK(Table1[[#This Row],[Column48]]),ISBLANK(Table1[[#This Row],[Column49]])), \"\",Table1[[#This Row],[Column48]]*Table1[[#This Row],[Column49]])","v":""},null,null,null,null,{"$f":"IF(OR(ISBLANK(Table1[[#This Row],[Column52]]),ISBLANK(Table1[[#This Row],[Column53]])), \"\",Table1[[#This Row],[Column52]]*Table1[[#This Row],[Column53]])","v":""},null,null,null,null,{"$f":"IF(OR(ISBLANK(Table1[[#This Row],[Column57]]),ISBLANK(Table1[[#This Row],[Column58]])), \"\",Table1[[#This Row],[Column57]]*Table1[[#This Row],[Column58]])","v":""},null,null,null,null,{"$f":"IF(OR(ISBLANK(Table1[[#This Row],[Column61]]),ISBLANK(Table1[[#This Row],[Column62]])), \"\",Table1[[#This Row],[Column61]]*Table1[[#This Row],[Column62]])","v":""}]
[null,"Chemicals: Drinking Water",null,null,null,null,{"$f":"IF(OR(ISBLANK(Table1[[#This Row],[Column3]]),ISBLANK(Table1[[#This Row],[Column4]])), \"\",Table1[[#This Row],[Column3]]*Table1[[#This Row],[Column4]])","v":""},null,null,null,null,{"$f":"IF(OR(ISBLANK(Table1[[#This Row],[Column7]]),ISBLANK(Table1[[#This Row],[Column8]])), \"\",Table1[[#This Row],[Column7]]*Table1[[#This Row],[Column8]])","v":""},null,null,null,null,{"$f":"IF(OR(ISBLANK(Table1[[#This Row],[Column12]]),ISBLANK(Table1[[#This Row],[Column13]])), \"\",Table1[[#This Row],[Column12]]*Table1[[#This Row],[Column13]])","v":""},null,null,null,null,{"$f":"IF(OR(ISBLANK(Table1[[#This Row],[Column16]]),ISBLANK(Table1[[#This Row],[Column17]])), \"\",Table1[[#This Row],[Column16]]*Table1[[#This Row],[Column17]])","v":""},null,null,null,null,{"$f":"IF(OR(ISBLANK(Table1[[#This Row],[Column21]]),ISBLANK(Table1[[#This Row],[Column22]])), \"\",Table1[[#This Row],[Column21]]*Table1[[#This Row],[Column22]])","v":""},null,null,null,null,{"$f":"IF(OR(ISBLANK(Table1[[#This Row],[Column25]]),ISBLANK(Table1[[#This Row],[Column26]])), \"\",Table1[[#This Row],[Column25]]*Table1[[#This Row],[Column26]])","v":""},null,null,null,null,{"$f":"IF(OR(ISBLANK(Table1[[#This Row],[Column30]]),ISBLANK(Table1[[#This Row],[Column31]])), \"\",Table1[[#This Row],[Column30]]*Table1[[#This Row],[Column31]])","v":""},null,null,null,null,{"$f":"IF(OR(ISBLANK(Table1[[#This Row],[Column34]]),ISBLANK(Table1[[#This Row],[Column35]])), \"\",Table1[[#This Row],[Column34]]*Table1[[#This Row],[Column35]])","v":""},null,null,null,null,{"$f":"IF(OR(ISBLANK(Table1[[#This Row],[Column39]]),ISBLANK(Table1[[#This Row],[Column40]])), \"\",Table1[[#This Row],[Column39]]*Table1[[#This Row],[Column40]])","v":""},null,null,null,null,{"$f":"IF(OR(ISBLANK(Table1[[#This Row],[Column43]]),ISBLANK(Table1[[#This Row],[Column44]])), \"\",Table1[[#This Row],[Column43]]*Table1[[#This Row],[Column44]])","v":""},null,null,null,null,{"$f":"IF(OR(ISBLANK(Table1[[#This Row],[Column48]]),ISBLANK(Table1[[#This Row],[Column49]])), \"\",Table1[[#This Row],[Column48]]*Table1[[#This Row],[Column49]])","v":""},null,null,null,null,{"$f":"IF(OR(ISBLANK(Table1[[#This Row],[Column52]]),ISBLANK(Table1[[#This Row],[Column53]])), \"\",Table1[[#This Row],[Column52]]*Table1[[#This Row],[Column53]])","v":""},null,null,null,null,{"$f":"IF(OR(ISBLANK(Table1[[#This Row],[Column57]]),ISBLANK(Table1[[#This Row],[Column58]])), \"\",Table1[[#This Row],[Column57]]*Table1[[#This Row],[Column58]])","v":""},null,null,null,null,{"$f":"IF(OR(ISBLANK(Table1[[#This Row],[Column61]]),ISBLANK(Table1[[#This Row],[Column62]])), \"\",Table1[[#This Row],[Column61]]*Table1[[#This Row],[Column62]])","v":""}]
[22,"Acrylamide","N","Risk mainly from industrial use and derived from water treatment. No sample data currently available but expected to be during new WQ monitoring programme.",null,null,{"$f":"IF(OR(ISBLANK(Table1[[#This Row],[Column3]]),ISBLANK(Table1[[#This Row],[Column4]])), \"\",Table1[[#This Row],[Column3]]*Table1[[#This Row],[Column4]])","v":""},null,null,null,null,{"$f":"IF(OR(ISBLANK(Table1[[#This Row],[Column7]]),ISBLANK(Table1[[#This Row],[Column8]])), \"\",Table1[[#This Row],[Column7]]*Table1[[#This Row],[Column8]])","v":""},null,null,null,null,{"$f":"IF(OR(ISBLANK(Table1[[#This Row],[Column12]]),ISBLANK(Table1[[#This Row],[Column13]])), \"\",Table1[[#This Row],[Column12]]*Table1[[#This Row],[Column13]])","v":""},null,null,null,null,{"$f":"IF(OR(ISBLANK(Table1[[#This Row],[Column16]]),ISBLANK(Table1[[#This Row],[Column17]])), \"\",Table1[[#This Row],[Column16]]*Table1[[#This Row],[Column17]])","v":""},null,null,null,null,{"$f":"IF(OR(ISBLANK(Table1[[#This Row],[Column21]]),ISBLANK(Table1[[#This Row],[Column22]])), \"\",Table1[[#This Row],[Column21]]*Table1[[#This Row],[Column22]])","v":""},null,null,null,null,{"$f":"IF(OR(ISBLANK(Table1[[#This Row],[Column25]]),ISBLANK(Table1[[#This Row],[Column26]])), \"\",Table1[[#This Row],[Column25]]*Table1[[#This Row],[Column26]])","v":""},null,null,null,null,{"$f":"IF(OR(ISBLANK(Table1[[#This Row],[Column30]]),ISBLANK(Table1[[#This Row],[Column31]])), \"\",Table1[[#This Row],[Column30]]*Table1[[#This Row],[Column31]])","v":""},null,null,null,null,{"$f":"IF(OR(ISBLANK(Table1[[#This Row],[Column34]]),ISBLANK(Table1[[#This Row],[Column35]])), \"\",Table1[[#This Row],[Column34]]*Table1[[#This Row],[Column35]])","v":""},null,null,null,null,{"$f":"IF(OR(ISBLANK(Table1[[#This Row],[Column39]]),ISBLANK(Table1[[#This Row],[Column40]])), \"\",Table1[[#This Row],[Column39]]*Table1[[#This Row],[Column40]])","v":""},null,null,null,null,{"$f":"IF(OR(ISBLANK(Table1[[#This Row],[Column43]]),ISBLANK(Table1[[#This Row],[Column44]])), \"\",Table1[[#This Row],[Column43]]*Table1[[#This Row],[Column44]])","v":""},null,null,null,null,{"$f":"IF(OR(ISBLANK(Table1[[#This Row],[Column48]]),ISBLANK(Table1[[#This Row],[Column49]])), \"\",Table1[[#This Row],[Column48]]*Table1[[#This Row],[Column49]])","v":""},null,null,null,null,{"$f":"IF(OR(ISBLANK(Table1[[#This Row],[Column52]]),ISBLANK(Table1[[#This Row],[Column53]])), \"\",Table1[[#This Row],[Column52]]*Table1[[#This Row],[Column53]])","v":""},null,null,null,null,{"$f":"IF(OR(ISBLANK(Table1[[#This Row],[Column57]]),ISBLANK(Table1[[#This Row],[Column58]])), \"\",Table1[[#This Row],[Column57]]*Table1[[#This Row],[Column58]])","v":""},null,null,null,null,{"$f":"IF(OR(ISBLANK(Table1[[#This Row],[Column61]]),ISBLANK(Table1[[#This Row],[Column62]])), \"\",Table1[[#This Row],[Column61]]*Table1[[#This Row],[Column62]])","v":""}]
[23,"Antimony","N","Derived from geology and industry.\n\nMax concentration measured was 2.3μg/l (WSP)",null,null,{"$f":"IF(OR(ISBLANK(Table1[[#This Row],[Column3]]),ISBLANK(Table1[[#This Row],[Column4]])), \"\",Table1[[#This Row],[Column3]]*Table1[[#This Row],[Column4]])","v":""},null,null,null,null,{"$f":"IF(OR(ISBLANK(Table1[[#This Row],[Column7]]),ISBLANK(Table1[[#This Row],[Column8]])), \"\",Table1[[#This Row],[Column7]]*Table1[[#This Row],[Column8]])","v":""},null,null,null,null,{"$f":"IF(OR(ISBLANK(Table1[[#This Row],[Column12]]),ISBLANK(Table1[[#This Row],[Column13]])), \"\",Table1[[#This Row],[Column12]]*Table1[[#This Row],[Column13]])","v":""},null,null,null,null,{"$f":"IF(OR(ISBLANK(Table1[[#This Row],[Column16]]),ISBLANK(Table1[[#This Row],[Column17]])), \"\",Table1[[#This Row],[Column16]]*Table1[[#This Row],[Column17]])","v":""},null,null,null,null,{"$f":"IF(OR(ISBLANK(Table1[[#This Row],[Column21]]),ISBLANK(Table1[[#This Row],[Column22]])), \"\",Table1[[#This Row],[Column21]]*Table1[[#This Row],[Column22]])","v":""},null,null,null,null,{"$f":"IF(OR(ISBLANK(Table1[[#This Row],[Column25]]),ISBLANK(Table1[[#This Row],[Column26]])), \"\",Table1[[#This Row],[Column25]]*Table1[[#This Row],[Column26]])","v":""},null,null,null,null,{"$f":"IF(OR(ISBLANK(Table1[[#This Row],[Column30]]),ISBLANK(Table1[[#This Row],[Column31]])), \"\",Table1[[#This Row],[Column30]]*Table1[[#This Row],[Column31]])","v":""},null,null,null,null,{"$f":"IF(OR(ISBLANK(Table1[[#This Row],[Column34]]),ISBLANK(Table1[[#This Row],[Column35]])), \"\",Table1[[#This Row],[Column34]]*Table1[[#This Row],[Column35]])","v":""},null,null,null,null,{"$f":"IF(OR(ISBLANK(Table1[[#This Row],[Column39]]),ISBLANK(Table1[[#This Row],[Column40]])), \"\",Table1[[#This Row],[Column39]]*Table1[[#This Row],[Column40]])","v":""},null,null,null,null,{"$f":"IF(OR(ISBLANK(Table1[[#This Row],[Column43]]),ISBLANK(Table1[[#This Row],[Column44]])), \"\",Table1[[#This Row],[Column43]]*Table1[[#This Row],[Column44]])","v":""},null,null,null,null,{"$f":"IF(OR(ISBLANK(Table1[[#This Row],[Column48]]),ISBLANK(Table1[[#This Row],[Column49]])), \"\",Table1[[#This Row],[Column48]]*Table1[[#This Row],[Column49]])","v":""},null,null,null,null,{"$f":"IF(OR(ISBLANK(Table1[[#This Row],[Column52]]),ISBLANK(Table1[[#This Row],[Column53]])), \"\",Table1[[#This Row],[Column52]]*Table1[[#This Row],[Column53]])","v":""},null,null,null,null,{"$f":"IF(OR(ISBLANK(Table1[[#This Row],[Column57]]),ISBLANK(Table1[[#This Row],[Column58]])), \"\",Table1[[#This Row],[Column57]]*Table1[[#This Row],[Column58]])","v":""},null,null,null,null,{"$f":"IF(OR(ISBLANK(Table1[[#This Row],[Column61]]),ISBLANK(Table1[[#This Row],[Column62]])), \"\",Table1[[#This Row],[Column61]]*Table1[[#This Row],[Column62]])","v":""}]
[24,"Bromate","Y","DBP and industry. Risk may increase post-treatment due to formation of Bromate from Bromide, which has been noted as present in the raw water.",3,5,{"$f":"IF(OR(ISBLANK(Table1[[#This Row],[Column3]]),ISBLANK(Table1[[#This Row],[Column4]])), \"\",Table1[[#This Row],[Column3]]*Table1[[#This Row],[Column4]])","v":15},"Gate 2 Water Quality Monitoring Programme found that Bromate in the Minworth WwTW Final Effluent is <2ug/l in all samples, bar one sample at 7ug/l. \n\nBromide in the Minworth Effluent had a maximum value of 0.61mg/l, and average of 0.3mg/l.\n\nBromide in the Coventry Canal (Site 3) has a maximum recorded value of 0.4mg/l.","None",3,5,{"$f":"IF(OR(ISBLANK(Table1[[#This Row],[Column7]]),ISBLANK(Table1[[#This Row],[Column8]])), \"\",Table1[[#This Row],[Column7]]*Table1[[#This Row],[Column8]])","v":15},"Bromate formation as a by-product is mitigated through treatment measures-","None",3,5,{"$f":"IF(OR(ISBLANK(Table1[[#This Row],[Column12]]),ISBLANK(Table1[[#This Row],[Column13]])), \"\",Table1[[#This Row],[Column12]]*Table1[[#This Row],[Column13]])","v":15},"Risk profile unlikely to change during abstraction","None",3,5,{"$f":"IF(OR(ISBLANK(Table1[[#This Row],[Column16]]),ISBLANK(Table1[[#This Row],[Column17]])), \"\",Table1[[#This Row],[Column16]]*Table1[[#This Row],[Column17]])","v":15},"Bromate formation as a by-product is mitigated through treatment measures","None.",3,5,{"$f":"IF(OR(ISBLANK(Table1[[#This Row],[Column21]]),ISBLANK(Table1[[#This Row],[Column22]])), \"\",Table1[[#This Row],[Column21]]*Table1[[#This Row],[Column22]])","v":15},"Risk not likely to change through conveyance","None",3,5,{"$f":"IF(OR(ISBLANK(Table1[[#This Row],[Column25]]),ISBLANK(Table1[[#This Row],[Column26]])), \"\",Table1[[#This Row],[Column25]]*Table1[[#This Row],[Column26]])","v":15},"No control so scores are cascaded from pre- to post-mitigated.","None",4,5,{"$f":"IF(OR(ISBLANK(Table1[[#This Row],[Column30]]),ISBLANK(Table1[[#This Row],[Column31]])), \"\",Table1[[#This Row],[Column30]]*Table1[[#This Row],[Column31]])","v":20},"Bromate formation risk managed by careful oxidation process design (ozonation may not be possible), due to high concentrations of Bromide being present in the Minworth WwTW effluent. ","Treatment process to be reviewed- Additional treatment may be required to remove Bromate. Careful control philosophy and management of Ozone dosage will prevent Bromate formation.",1,5,{"$f":"IF(OR(ISBLANK(Table1[[#This Row],[Column34]]),ISBLANK(Table1[[#This Row],[Column35]])), \"\",Table1[[#This Row],[Column34]]*Table1[[#This Row],[Column35]])","v":5},"Treatment selection to be reviewed to reduce this likelihood to acceptable levels (including removal of raw water bromate)","Ensure treatment strategies are in place to reduce Bromate formation.",1,5,{"$f":"IF(OR(ISBLANK(Table1[[#This Row],[Column39]]),ISBLANK(Table1[[#This Row],[Column40]])), \"\",Table1[[#This Row],[Column39]]*Table1[[#This Row],[Column40]])","v":5},"Risk unlikely to increase through to storage","No control measure required",1,5,{"$f":"IF(OR(ISBLANK(Table1[[#This Row],[Column43]]),ISBLANK(Table1[[#This Row],[Column44]])), \"\",Table1[[#This Row],[Column43]]*Table1[[#This Row],[Column44]])","v":5},"None","None",1,5,{"$f":"IF(OR(ISBLANK(Table1[[#This Row],[Column48]]),ISBLANK(Table1[[#This Row],[Column49]])), \"\",Table1[[#This Row],[Column48]]*Table1[[#This Row],[Column49]])","v":5},"Risk unlikely to increase during distribution","None",1,5,{"$f":"IF(OR(ISBLANK(Table1[[#This Row],[Column52]]),ISBLANK(Table1[[#This Row],[Column53]])), \"\",Table1[[#This Row],[Column52]]*Table1[[#This Row],[Column53]])","v":5},"None","None",1,5,{"$f":"IF(OR(ISBLANK(Table1[[#This Row],[Column57]]),ISBLANK(Table1[[#This Row],[Column58]])), \"\",Table1[[#This Row],[Column57]]*Table1[[#This Row],[Column58]])","v":5},"Risk unlikely to change through to customer taps","None",1,5,{"$f":"IF(OR(ISBLANK(Table1[[#This Row],[Column61]]),ISBLANK(Table1[[#This Row],[Column62]])), \"\",Table1[[#This Row],[Column61]]*Table1[[#This Row],[Column62]])","v":5},"None","Monitoring and treatment management"]
[25,"bromodichloromethane","N","Can be an issue from chlorination downstream, possible industrial contaminant. No sample data currently available but expected to be during new WQ monitoring programme.",null,null,{"$f":"IF(OR(ISBLANK(Table1[[#This Row],[Column3]]),ISBLANK(Table1[[#This Row],[Column4]])), \"\",Table1[[#This Row],[Column3]]*Table1[[#This Row],[Column4]])","v":""},null,null,null,null,{"$f":"IF(OR(ISBLANK(Table1[[#This Row],[Column7]]),ISBLANK(Table1[[#This Row],[Column8]])), \"\",Table1[[#This Row],[Column7]]*Table1[[#This Row],[Column8]])","v":""},null,null,null,null,{"$f":"IF(OR(ISBLANK(Table1[[#This Row],[Column12]]),ISBLANK(Table1[[#This Row],[Column13]])), \"\",Table1[[#This Row],[Column12]]*Table1[[#This Row],[Column13]])","v":""},null,null,null,null,{"$f":"IF(OR(ISBLANK(Table1[[#This Row],[Column16]]),ISBLANK(Table1[[#This Row],[Column17]])), \"\",Table1[[#This Row],[Column16]]*Table1[[#This Row],[Column17]])","v":""},null,null,null,null,{"$f":"IF(OR(ISBLANK(Table1[[#This Row],[Column21]]),ISBLANK(Table1[[#This Row],[Column22]])), \"\",Table1[[#This Row],[Column21]]*Table1[[#This Row],[Column22]])","v":""},null,null,null,null,{"$f":"IF(OR(ISBLANK(Table1[[#This Row],[Column25]]),ISBLANK(Table1[[#This Row],[Column26]])), \"\",Table1[[#This Row],[Column25]]*Table1[[#This Row],[Column26]])","v":""},null,null,null,null,{"$f":"IF(OR(ISBLANK(Table1[[#This Row],[Column30]]),ISBLANK(Table1[[#This Row],[Column31]])), \"\",Table1[[#This Row],[Column30]]*Table1[[#This Row],[Column31]])","v":""},null,null,null,null,{"$f":"IF(OR(ISBLANK(Table1[[#This Row],[Column34]]),ISBLANK(Table1[[#This Row],[Column35]])), \"\",Table1[[#This Row],[Column34]]*Table1[[#This Row],[Column35]])","v":""},null,null,null,null,{"$f":"IF(OR(ISBLANK(Table1[[#This Row],[Column39]]),ISBLANK(Table1[[#This Row],[Column40]])), \"\",Table1[[#This Row],[Column39]]*Table1[[#This Row],[Column40]])","v":""},null,null,null,null,{"$f":"IF(OR(ISBLANK(Table1[[#This Row],[Column43]]),ISBLANK(Table1[[#This Row],[Column44]])), \"\",Table1[[#This Row],[Column43]]*Table1[[#This Row],[Column44]])","v":""},null,null,null,null,{"$f":"IF(OR(ISBLANK(Table1[[#This Row],[Column48]]),ISBLANK(Table1[[#This Row],[Column49]])), \"\",Table1[[#This Row],[Column48]]*Table1[[#This Row],[Column49]])","v":""},null,null,null,null,{"$f":"IF(OR(ISBLANK(Table1[[#This Row],[Column52]]),ISBLANK(Table1[[#This Row],[Column53]])), \"\",Table1[[#This Row],[Column52]]*Table1[[#This Row],[Column53]])","v":""},null,null,null,null,{"$f":"IF(OR(ISBLANK(Table1[[#This Row],[Column57]]),ISBLANK(Table1[[#This Row],[Column58]])), \"\",Table1[[#This Row],[Column57]]*Table1[[#This Row],[Column58]])","v":""},null,null,null,null,{"$f":"IF(OR(ISBLANK(Table1[[#This Row],[Column61]]),ISBLANK(Table1[[#This Row],[Column62]])), \"\",Table1[[#This Row],[Column61]]*Table1[[#This Row],[Column62]])","v":""}]
[26,"bromoform","N","Can be an issue from chlorination downstream, possible industrial contaminant. No sample data currently available but expected to be during new WQ monitoring programme.",null,null,{"$f":"IF(OR(ISBLANK(Table1[[#This Row],[Column3]]),ISBLANK(Table1[[#This Row],[Column4]])), \"\",Table1[[#This Row],[Column3]]*Table1[[#This Row],[Column4]])","v":""},null,null,null,null,{"$f":"IF(OR(ISBLANK(Table1[[#This Row],[Column7]]),ISBLANK(Table1[[#This Row],[Column8]])), \"\",Table1[[#This Row],[Column7]]*Table1[[#This Row],[Column8]])","v":""},null,null,null,null,{"$f":"IF(OR(ISBLANK(Table1[[#This Row],[Column12]]),ISBLANK(Table1[[#This Row],[Column13]])), \"\",Table1[[#This Row],[Column12]]*Table1[[#This Row],[Column13]])","v":""},null,null,null,null,{"$f":"IF(OR(ISBLANK(Table1[[#This Row],[Column16]]),ISBLANK(Table1[[#This Row],[Column17]])), \"\",Table1[[#This Row],[Column16]]*Table1[[#This Row],[Column17]])","v":""},null,null,null,null,{"$f":"IF(OR(ISBLANK(Table1[[#This Row],[Column21]]),ISBLANK(Table1[[#This Row],[Column22]])), \"\",Table1[[#This Row],[Column21]]*Table1[[#This Row],[Column22]])","v":""},null,null,null,null,{"$f":"IF(OR(ISBLANK(Table1[[#This Row],[Column25]]),ISBLANK(Table1[[#This Row],[Column26]])), \"\",Table1[[#This Row],[Column25]]*Table1[[#This Row],[Column26]])","v":""},null,null,null,null,{"$f":"IF(OR(ISBLANK(Table1[[#This Row],[Column30]]),ISBLANK(Table1[[#This Row],[Column31]])), \"\",Table1[[#This Row],[Column30]]*Table1[[#This Row],[Column31]])","v":""},null,null,null,null,{"$f":"IF(OR(ISBLANK(Table1[[#This Row],[Column34]]),ISBLANK(Table1[[#This Row],[Column35]])), \"\",Table1[[#This Row],[Column34]]*Table1[[#This Row],[Column35]])","v":""},null,null,null,null,{"$f":"IF(OR(ISBLANK(Table1[[#This Row],[Column39]]),ISBLANK(Table1[[#This Row],[Column40]])), \"\",Table1[[#This Row],[Column39]]*Table1[[#This Row],[Column40]])","v":""},null,null,null,null,{"$f":"IF(OR(ISBLANK(Table1[[#This Row],[Column43]]),ISBLANK(Table1[[#This Row],[Column44]])), \"\",Table1[[#This Row],[Column43]]*Table1[[#This Row],[Column44]])","v":""},null,null,null,null,{"$f":"IF(OR(ISBLANK(Table1[[#This Row],[Column48]]),ISBLANK(Table1[[#This Row],[Column49]])), \"\",Table1[[#This Row],[Column48]]*Table1[[#This Row],[Column49]])","v":""},null,null,null,null,{"$f":"IF(OR(ISBLANK(Table1[[#This Row],[Column52]]),ISBLANK(Table1[[#This Row],[Column53]])), \"\",Table1[[#This Row],[Column52]]*Table1[[#This Row],[Column53]])","v":""},null,null,null,null,{"$f":"IF(OR(ISBLANK(Table1[[#This Row],[Column57]]),ISBLANK(Table1[[#This Row],[Column58]])), \"\",Table1[[#This Row],[Column57]]*Table1[[#This Row],[Column58]])","v":""},null,null,null,null,{"$f":"IF(OR(ISBLANK(Table1[[#This Row],[Column61]]),ISBLANK(Table1[[#This Row],[Column62]])), \"\",Table1[[#This Row],[Column61]]*Table1[[#This Row],[Column62]])","v":""}]
[27,"chloroform","N","Can be an issue from chlorination downstream, possible industrial contaminant. No sample data currently available but expected to be during new WQ monitoring programme.",null,null,{"$f":"IF(OR(ISBLANK(Table1[[#This Row],[Column3]]),ISBLANK(Table1[[#This Row],[Column4]])), \"\",Table1[[#This Row],[Column3]]*Table1[[#This Row],[Column4]])","v":""},null,null,null,null,{"$f":"IF(OR(ISBLANK(Table1[[#This Row],[Column7]]),ISBLANK(Table1[[#This Row],[Column8]])), \"\",Table1[[#This Row],[Column7]]*Table1[[#This Row],[Column8]])","v":""},null,null,null,null,{"$f":"IF(OR(ISBLANK(Table1[[#This Row],[Column12]]),ISBLANK(Table1[[#This Row],[Column13]])), \"\",Table1[[#This Row],[Column12]]*Table1[[#This Row],[Column13]])","v":""},null,null,null,null,{"$f":"IF(OR(ISBLANK(Table1[[#This Row],[Column16]]),ISBLANK(Table1[[#This Row],[Column17]])), \"\",Table1[[#This Row],[Column16]]*Table1[[#This Row],[Column17]])","v":""},null,null,null,null,{"$f":"IF(OR(ISBLANK(Table1[[#This Row],[Column21]]),ISBLANK(Table1[[#This Row],[Column22]])), \"\",Table1[[#This Row],[Column21]]*Table1[[#This Row],[Column22]])","v":""},null,null,null,null,{"$f":"IF(OR(ISBLANK(Table1[[#This Row],[Column25]]),ISBLANK(Table1[[#This Row],[Column26]])), \"\",Table1[[#This Row],[Column25]]*Table1[[#This Row],[Column26]])","v":""},null,null,null,null,{"$f":"IF(OR(ISBLANK(Table1[[#This Row],[Column30]]),ISBLANK(Table1[[#This Row],[Column31]])), \"\",Table1[[#This Row],[Column30]]*Table1[[#This Row],[Column31]])","v":""},null,null,null,null,{"$f":"IF(OR(ISBLANK(Table1[[#This Row],[Column34]]),ISBLANK(Table1[[#This Row],[Column35]])), \"\",Table1[[#This Row],[Column34]]*Table1[[#This Row],[Column35]])","v":""},null,null,null,null,{"$f":"IF(OR(ISBLANK(Table1[[#This Row],[Column39]]),ISBLANK(Table1[[#This Row],[Column40]])), \"\",Table1[[#This Row],[Column39]]*Table1[[#This Row],[Column40]])","v":""},null,null,null,null,{"$f":"IF(OR(ISBLANK(Table1[[#This Row],[Column43]]),ISBLANK(Table1[[#This Row],[Column44]])), \"\",Table1[[#This Row],[Column43]]*Table1[[#This Row],[Column44]])","v":""},null,null,null,null,{"$f":"IF(OR(ISBLANK(Table1[[#This Row],[Column48]]),ISBLANK(Table1[[#This Row],[Column49]])), \"\",Table1[[#This Row],[Column48]]*Table1[[#This Row],[Column49]])","v":""},null,null,null,null,{"$f":"IF(OR(ISBLANK(Table1[[#This Row],[Column52]]),ISBLANK(Table1[[#This Row],[Column53]])), \"\",Table1[[#This Row],[Column52]]*Table1[[#This Row],[Column53]])","v":""},null,null,null,null,{"$f":"IF(OR(ISBLANK(Table1[[#This Row],[Column57]]),ISBLANK(Table1[[#This Row],[Column58]])), \"\",Table1[[#This Row],[Column57]]*Table1[[#This Row],[Column58]])","v":""},null,null,null,null,{"$f":"IF(OR(ISBLANK(Table1[[#This Row],[Column61]]),ISBLANK(Table1[[#This Row],[Column62]])), \"\",Table1[[#This Row],[Column61]]*Table1[[#This Row],[Column62]])","v":""}]
[28,"dibromochloromethane","N","Can be an issue from chlorination downstream, possible industrial contaminant. No sample data currently available but expected to be during new WQ monitoring programme.",null,null,{"$f":"IF(OR(ISBLANK(Table1[[#This Row],[Column3]]),ISBLANK(Table1[[#This Row],[Column4]])), \"\",Table1[[#This Row],[Column3]]*Table1[[#This Row],[Column4]])","v":""},null,null,null,null,{"$f":"IF(OR(ISBLANK(Table1[[#This Row],[Column7]]),ISBLANK(Table1[[#This Row],[Column8]])), \"\",Table1[[#This Row],[Column7]]*Table1[[#This Row],[Column8]])","v":""},null,null,null,null,{"$f":"IF(OR(ISBLANK(Table1[[#This Row],[Column12]]),ISBLANK(Table1[[#This Row],[Column13]])), \"\",Table1[[#This Row],[Column12]]*Table1[[#This Row],[Column13]])","v":""},null,null,null,null,{"$f":"IF(OR(ISBLANK(Table1[[#This Row],[Column16]]),ISBLANK(Table1[[#This Row],[Column17]])), \"\",Table1[[#This Row],[Column16]]*Table1[[#This Row],[Column17]])","v":""},null,null,null,null,{"$f":"IF(OR(ISBLANK(Table1[[#This Row],[Column21]]),ISBLANK(Table1[[#This Row],[Column22]])), \"\",Table1[[#This Row],[Column21]]*Table1[[#This Row],[Column22]])","v":""},null,null,null,null,{"$f":"IF(OR(ISBLANK(Table1[[#This Row],[Column25]]),ISBLANK(Table1[[#This Row],[Column26]])), \"\",Table1[[#This Row],[Column25]]*Table1[[#This Row],[Column26]])","v":""},null,null,null,null,{"$f":"IF(OR(ISBLANK(Table1[[#This Row],[Column30]]),ISBLANK(Table1[[#This Row],[Column31]])), \"\",Table1[[#This Row],[Column30]]*Table1[[#This Row],[Column31]])","v":""},null,null,null,null,{"$f":"IF(OR(ISBLANK(Table1[[#This Row],[Column34]]),ISBLANK(Table1[[#This Row],[Column35]])), \"\",Table1[[#This Row],[Column34]]*Table1[[#This Row],[Column35]])","v":""},null,null,null,null,{"$f":"IF(OR(ISBLANK(Table1[[#This Row],[Column39]]),ISBLANK(Table1[[#This Row],[Column40]])), \"\",Table1[[#This Row],[Column39]]*Table1[[#This Row],[Column40]])","v":""},null,null,null,null,{"$f":"IF(OR(ISBLANK(Table1[[#This Row],[Column43]]),ISBLANK(Table1[[#This Row],[Column44]])), \"\",Table1[[#This Row],[Column43]]*Table1[[#This Row],[Column44]])","v":""},null,null,null,null,{"$f":"IF(OR(ISBLANK(Table1[[#This Row],[Column48]]),ISBLANK(Table1[[#This Row],[Column49]])), \"\",Table1[[#This Row],[Column48]]*Table1[[#This Row],[Column49]])","v":""},null,null,null,null,{"$f":"IF(OR(ISBLANK(Table1[[#This Row],[Column52]]),ISBLANK(Table1[[#This Row],[Column53]])), \"\",Table1[[#This Row],[Column52]]*Table1[[#This Row],[Column53]])","v":""},null,null,null,null,{"$f":"IF(OR(ISBLANK(Table1[[#This Row],[Column57]]),ISBLANK(Table1[[#This Row],[Column58]])), \"\",Table1[[#This Row],[Column57]]*Table1[[#This Row],[Column58]])","v":""},null,null,null,null,{"$f":"IF(OR(ISBLANK(Table1[[#This Row],[Column61]]),ISBLANK(Table1[[#This Row],[Column62]])), \"\",Table1[[#This Row],[Column61]]*Table1[[#This Row],[Column62]])","v":""}]
[29,"Epichlorohydrin","N","Can be an issue from chlorination downstream, possible industrial contaminant. No sample data currently available but expected to be during new WQ monitoring programme.",null,null,{"$f":"IF(OR(ISBLANK(Table1[[#This Row],[Column3]]),ISBLANK(Table1[[#This Row],[Column4]])), \"\",Table1[[#This Row],[Column3]]*Table1[[#This Row],[Column4]])","v":""},null,null,null,null,{"$f":"IF(OR(ISBLANK(Table1[[#This Row],[Column7]]),ISBLANK(Table1[[#This Row],[Column8]])), \"\",Table1[[#This Row],[Column7]]*Table1[[#This Row],[Column8]])","v":""},null,null,null,null,{"$f":"IF(OR(ISBLANK(Table1[[#This Row],[Column12]]),ISBLANK(Table1[[#This Row],[Column13]])), \"\",Table1[[#This Row],[Column12]]*Table1[[#This Row],[Column13]])","v":""},null,null,null,null,{"$f":"IF(OR(ISBLANK(Table1[[#This Row],[Column16]]),ISBLANK(Table1[[#This Row],[Column17]])), \"\",Table1[[#This Row],[Column16]]*Table1[[#This Row],[Column17]])","v":""},null,null,null,null,{"$f":"IF(OR(ISBLANK(Table1[[#This Row],[Column21]]),ISBLANK(Table1[[#This Row],[Column22]])), \"\",Table1[[#This Row],[Column21]]*Table1[[#This Row],[Column22]])","v":""},null,null,null,null,{"$f":"IF(OR(ISBLANK(Table1[[#This Row],[Column25]]),ISBLANK(Table1[[#This Row],[Column26]])), \"\",Table1[[#This Row],[Column25]]*Table1[[#This Row],[Column26]])","v":""},null,null,null,null,{"$f":"IF(OR(ISBLANK(Table1[[#This Row],[Column30]]),ISBLANK(Table1[[#This Row],[Column31]])), \"\",Table1[[#This Row],[Column30]]*Table1[[#This Row],[Column31]])","v":""},null,null,null,null,{"$f":"IF(OR(ISBLANK(Table1[[#This Row],[Column34]]),ISBLANK(Table1[[#This Row],[Column35]])), \"\",Table1[[#This Row],[Column34]]*Table1[[#This Row],[Column35]])","v":""},null,null,null,null,{"$f":"IF(OR(ISBLANK(Table1[[#This Row],[Column39]]),ISBLANK(Table1[[#This Row],[Column40]])), \"\",Table1[[#This Row],[Column39]]*Table1[[#This Row],[Column40]])","v":""},null,null,null,null,{"$f":"IF(OR(ISBLANK(Table1[[#This Row],[Column43]]),ISBLANK(Table1[[#This Row],[Column44]])), \"\",Table1[[#This Row],[Column43]]*Table1[[#This Row],[Column44]])","v":""},null,null,null,null,{"$f":"IF(OR(ISBLANK(Table1[[#This Row],[Column48]]),ISBLANK(Table1[[#This Row],[Column49]])), \"\",Table1[[#This Row],[Column48]]*Table1[[#This Row],[Column49]])","v":""},null,null,null,null,{"$f":"IF(OR(ISBLANK(Table1[[#This Row],[Column52]]),ISBLANK(Table1[[#This Row],[Column53]])), \"\",Table1[[#This Row],[Column52]]*Table1[[#This Row],[Column53]])","v":""},null,null,null,null,{"$f":"IF(OR(ISBLANK(Table1[[#This Row],[Column57]]),ISBLANK(Table1[[#This Row],[Column58]])), \"\",Table1[[#This Row],[Column57]]*Table1[[#This Row],[Column58]])","v":""},null,null,null,null,{"$f":"IF(OR(ISBLANK(Table1[[#This Row],[Column61]]),ISBLANK(Table1[[#This Row],[Column62]])), \"\",Table1[[#This Row],[Column61]]*Table1[[#This Row],[Column62]])","v":""}]
[30,"Lead","Y","Risk mainly associated following distribution with customer lead service pipes and plumbing. Potential geological and industrial sources.",4,5,{"$f":"IF(OR(ISBLANK(Table1[[#This Row],[Column3]]),ISBLANK(Table1[[#This Row],[Column4]])), \"\",Table1[[#This Row],[Column3]]*Table1[[#This Row],[Column4]])","v":20},"Gate 1: Max. Lead concentrations of 8.9μg/l were measured in the GUC (WSP).\n\nGate 2 Water Quality Monitoring Programme found max recorded value to be 6.6ug/l at Site 3 (Coventry Canal),  with mean value 2.2ug/l. Site 6 (Grove Lock) had Max value of 6.1ug/l, mean value 1.5ug/l. These sites were noted as having Max values above the revised DWD limit.\n Max value at Daventry (Site 5) was 2.2ug/l, with other spot samples along the GUC recording a Max value of 1.3ug/l.\n\nCurrent limit 10ug/l. Revised DWD proposed new limit of 5ug/l.\nLikelihood score increased to 4 during the Gate 2 Workshop.","None",4,5,{"$f":"IF(OR(ISBLANK(Table1[[#This Row],[Column7]]),ISBLANK(Table1[[#This Row],[Column8]])), \"\",Table1[[#This Row],[Column7]]*Table1[[#This Row],[Column8]])","v":20},"Mitigated through treatment.","None",4,5,{"$f":"IF(OR(ISBLANK(Table1[[#This Row],[Column12]]),ISBLANK(Table1[[#This Row],[Column13]])), \"\",Table1[[#This Row],[Column12]]*Table1[[#This Row],[Column13]])","v":20},"Risk profile unlikely to change","None",4,5,{"$f":"IF(OR(ISBLANK(Table1[[#This Row],[Column16]]),ISBLANK(Table1[[#This Row],[Column17]])), \"\",Table1[[#This Row],[Column16]]*Table1[[#This Row],[Column17]])","v":20},"Mitigated through treatment.","None.",4,5,{"$f":"IF(OR(ISBLANK(Table1[[#This Row],[Column21]]),ISBLANK(Table1[[#This Row],[Column22]])), \"\",Table1[[#This Row],[Column21]]*Table1[[#This Row],[Column22]])","v":20},"Risk not likely to change through conveyance","None",4,5,{"$f":"IF(OR(ISBLANK(Table1[[#This Row],[Column25]]),ISBLANK(Table1[[#This Row],[Column26]])), \"\",Table1[[#This Row],[Column25]]*Table1[[#This Row],[Column26]])","v":20},"No control so scores are cascaded from pre- to post-mitigated.","None",4,5,{"$f":"IF(OR(ISBLANK(Table1[[#This Row],[Column30]]),ISBLANK(Table1[[#This Row],[Column31]])), \"\",Table1[[#This Row],[Column30]]*Table1[[#This Row],[Column31]])","v":20},"Concentrations sampled close to PCV in GUC.","Mitigated through Coagulation, flocculation and clarification, UF membrane Filtration.\nOrthophosphate dosing for plumbosolvency control.",1,5,{"$f":"IF(OR(ISBLANK(Table1[[#This Row],[Column34]]),ISBLANK(Table1[[#This Row],[Column35]])), \"\",Table1[[#This Row],[Column34]]*Table1[[#This Row],[Column35]])","v":5},"Risk of recontamination from service pipes.","Dosing Orthophosphate to control plumosolvency of service pipes.",1,5,{"$f":"IF(OR(ISBLANK(Table1[[#This Row],[Column39]]),ISBLANK(Table1[[#This Row],[Column40]])), \"\",Table1[[#This Row],[Column39]]*Table1[[#This Row],[Column40]])","v":5},"Risk unlikely to increase through to storage","Monitor along distribution network.",1,5,{"$f":"IF(OR(ISBLANK(Table1[[#This Row],[Column43]]),ISBLANK(Table1[[#This Row],[Column44]])), \"\",Table1[[#This Row],[Column43]]*Table1[[#This Row],[Column44]])","v":5},"None","Monitoring carried out elsewhere",1,5,{"$f":"IF(OR(ISBLANK(Table1[[#This Row],[Column48]]),ISBLANK(Table1[[#This Row],[Column49]])), \"\",Table1[[#This Row],[Column48]]*Table1[[#This Row],[Column49]])","v":5},"Risk to be mitigated due to ortho dosing.","None",1,5,{"$f":"IF(OR(ISBLANK(Table1[[#This Row],[Column52]]),ISBLANK(Table1[[#This Row],[Column53]])), \"\",Table1[[#This Row],[Column52]]*Table1[[#This Row],[Column53]])","v":5},"None","Monitoring at customer taps",1,5,{"$f":"IF(OR(ISBLANK(Table1[[#This Row],[Column57]]),ISBLANK(Table1[[#This Row],[Column58]])), \"\",Table1[[#This Row],[Column57]]*Table1[[#This Row],[Column58]])","v":5},"See Corrosivity risk below","None",1,5,{"$f":"IF(OR(ISBLANK(Table1[[#This Row],[Column61]]),ISBLANK(Table1[[#This Row],[Column62]])), \"\",Table1[[#This Row],[Column61]]*Table1[[#This Row],[Column62]])","v":5},"Can cause hazard to health if not controlled.","Monitoring at customer taps"]
[31,"Nickel","Y","Geological and Industrial sources. Recorded above PCV of 20ug/l",5,5,{"$f":"IF(OR(ISBLANK(Table1[[#This Row],[Column3]]),ISBLANK(Table1[[#This Row],[Column4]])), \"\",Table1[[#This Row],[Column3]]*Table1[[#This Row],[Column4]])","v":25},"Gate 1: Maximum value measured at GUC exceeds PCV (41μg/l) (WSP)\n\nGate 2 Water Quality Monitoring Programme records max value of 120ug/l and average value of 49ug/l at Site 3, with max value of 9.4ug/l and average value of 2.9ug/l at Site 6. Minworth WwTW effluent max value 61ug/l, mean value 19.5ug/l. Most of Nickel in dissolved form in Minworth effluent.\n\nMonitored values at Gate 2 are higher than samples in Gate 1, indicating a greater magnitude of risk than initially expected.","None",5,5,{"$f":"IF(OR(ISBLANK(Table1[[#This Row],[Column7]]),ISBLANK(Table1[[#This Row],[Column8]])), \"\",Table1[[#This Row],[Column7]]*Table1[[#This Row],[Column8]])","v":25},"Mitigated through treatment.","None",5,5,{"$f":"IF(OR(ISBLANK(Table1[[#This Row],[Column12]]),ISBLANK(Table1[[#This Row],[Column13]])), \"\",Table1[[#This Row],[Column12]]*Table1[[#This Row],[Column13]])","v":25},"Risk profile unlikely to change during abstraction","None",5,5,{"$f":"IF(OR(ISBLANK(Table1[[#This Row],[Column16]]),ISBLANK(Table1[[#This Row],[Column17]])), \"\",Table1[[#This Row],[Column16]]*Table1[[#This Row],[Column17]])","v":25},"Mitigated through treatment.","None.",5,5,{"$f":"IF(OR(ISBLANK(Table1[[#This Row],[Column21]]),ISBLANK(Table1[[#This Row],[Column22]])), \"\",Table1[[#This Row],[Column21]]*Table1[[#This Row],[Column22]])","v":25},"Risk not likely to change through conveyance","None",5,5,{"$f":"IF(OR(ISBLANK(Table1[[#This Row],[Column25]]),ISBLANK(Table1[[#This Row],[Column26]])), \"\",Table1[[#This Row],[Column25]]*Table1[[#This Row],[Column26]])","v":25},"No control so scores are cascaded from pre- to post-mitigated.","None",5,5,{"$f":"IF(OR(ISBLANK(Table1[[#This Row],[Column30]]),ISBLANK(Table1[[#This Row],[Column31]])), \"\",Table1[[#This Row],[Column30]]*Table1[[#This Row],[Column31]])","v":25},"High concentrations measured in the GUC. Can cause dermatitis.","Mitigated through proposed Coagulation, flocculation and clarification, UF membrane Filtration.",1,5,{"$f":"IF(OR(ISBLANK(Table1[[#This Row],[Column34]]),ISBLANK(Table1[[#This Row],[Column35]])), \"\",Table1[[#This Row],[Column34]]*Table1[[#This Row],[Column35]])","v":5},"None","WQ monitoring post treatment.",1,5,{"$f":"IF(OR(ISBLANK(Table1[[#This Row],[Column39]]),ISBLANK(Table1[[#This Row],[Column40]])), \"\",Table1[[#This Row],[Column39]]*Table1[[#This Row],[Column40]])","v":5},"Risk unlikely to increase through to storage","No control measure required",1,5,{"$f":"IF(OR(ISBLANK(Table1[[#This Row],[Column43]]),ISBLANK(Table1[[#This Row],[Column44]])), \"\",Table1[[#This Row],[Column43]]*Table1[[#This Row],[Column44]])","v":5},"None","None",1,5,{"$f":"IF(OR(ISBLANK(Table1[[#This Row],[Column48]]),ISBLANK(Table1[[#This Row],[Column49]])), \"\",Table1[[#This Row],[Column48]]*Table1[[#This Row],[Column49]])","v":5},"Risk unlikely to increase during distribution","None",1,5,{"$f":"IF(OR(ISBLANK(Table1[[#This Row],[Column52]]),ISBLANK(Table1[[#This Row],[Column53]])), \"\",Table1[[#This Row],[Column52]]*Table1[[#This Row],[Column53]])","v":5},"None","None",1,5,{"$f":"IF(OR(ISBLANK(Table1[[#This Row],[Column57]]),ISBLANK(Table1[[#This Row],[Column58]])), \"\",Table1[[#This Row],[Column57]]*Table1[[#This Row],[Column58]])","v":5},"Risk unlikely to change through to customer taps","None",1,5,{"$f":"IF(OR(ISBLANK(Table1[[#This Row],[Column61]]),ISBLANK(Table1[[#This Row],[Column62]])), \"\",Table1[[#This Row],[Column61]]*Table1[[#This Row],[Column62]])","v":5},"None","None"]
[32,"Trihalomethanes(THM)/THM Formation Potential ","Y","Risk associated with chlorination downstream. Possible industrial sources.",4,5,{"$f":"IF(OR(ISBLANK(Table1[[#This Row],[Column3]]),ISBLANK(Table1[[#This Row],[Column4]])), \"\",Table1[[#This Row],[Column3]]*Table1[[#This Row],[Column4]])","v":20},"Gate 2 Water Quality Monitoring Programme, All recorded values at Site 1 (Minworth WwTW Effluent) at LOD of <4ug/l.\n\nPre-cursors to THM formation likely to present due to the nature of the source (navigable canals).\n\nTotal organic carbon measured as high as 13mg/l in GUC, average 6.2mg/l at Grove lock (Site 6).\n\nLikelihood score increased to 4 during Gate 2 ACWG workshop.","None",4,5,{"$f":"IF(OR(ISBLANK(Table1[[#This Row],[Column7]]),ISBLANK(Table1[[#This Row],[Column8]])), \"\",Table1[[#This Row],[Column7]]*Table1[[#This Row],[Column8]])","v":20},"None- scores based on judgement.","None",4,5,{"$f":"IF(OR(ISBLANK(Table1[[#This Row],[Column12]]),ISBLANK(Table1[[#This Row],[Column13]])), \"\",Table1[[#This Row],[Column12]]*Table1[[#This Row],[Column13]])","v":20},"Risk profile unlikely to change during abstraction","None",4,5,{"$f":"IF(OR(ISBLANK(Table1[[#This Row],[Column16]]),ISBLANK(Table1[[#This Row],[Column17]])), \"\",Table1[[#This Row],[Column16]]*Table1[[#This Row],[Column17]])","v":20},"Risk to be controlled during treatment","None.",4,5,{"$f":"IF(OR(ISBLANK(Table1[[#This Row],[Column21]]),ISBLANK(Table1[[#This Row],[Column22]])), \"\",Table1[[#This Row],[Column21]]*Table1[[#This Row],[Column22]])","v":20},"Risk not likely to change through conveyance","None",4,5,{"$f":"IF(OR(ISBLANK(Table1[[#This Row],[Column25]]),ISBLANK(Table1[[#This Row],[Column26]])), \"\",Table1[[#This Row],[Column25]]*Table1[[#This Row],[Column26]])","v":20},"No control so scores are cascaded from pre- to post-mitigated.","None",4,5,{"$f":"IF(OR(ISBLANK(Table1[[#This Row],[Column30]]),ISBLANK(Table1[[#This Row],[Column31]])), \"\",Table1[[#This Row],[Column30]]*Table1[[#This Row],[Column31]])","v":20},"May be formed due to chlorination of organics. Therefore organics removed prior to chlorination","Mitigated through Coagulation, flocculation and clarification, Oxidation & GAC upstream of chlorination to reduce organics & reduce risk of DBP formation.",1,5,{"$f":"IF(OR(ISBLANK(Table1[[#This Row],[Column34]]),ISBLANK(Table1[[#This Row],[Column35]])), \"\",Table1[[#This Row],[Column34]]*Table1[[#This Row],[Column35]])","v":5},"Can cause risk to health if not mitigated","THMs (pre-existing from industrial sources) and THM formation potential from organics (on addition of chlorine) - investigate monitoring in source waters to establish risk",1,5,{"$f":"IF(OR(ISBLANK(Table1[[#This Row],[Column39]]),ISBLANK(Table1[[#This Row],[Column40]])), \"\",Table1[[#This Row],[Column39]]*Table1[[#This Row],[Column40]])","v":5},"THMs are slow forming and are likely to increase through storage. Careful selection of residual disinfectant is required to prevent this increasing over time.","No control measure required",1,5,{"$f":"IF(OR(ISBLANK(Table1[[#This Row],[Column43]]),ISBLANK(Table1[[#This Row],[Column44]])), \"\",Table1[[#This Row],[Column43]]*Table1[[#This Row],[Column44]])","v":5},"None","None",1,5,{"$f":"IF(OR(ISBLANK(Table1[[#This Row],[Column48]]),ISBLANK(Table1[[#This Row],[Column49]])), \"\",Table1[[#This Row],[Column48]]*Table1[[#This Row],[Column49]])","v":5},"THMs are slow forming and are likely to increase through distribution. Careful selection of residual disinfectant is required to prevent this increasing over time.","None",1,5,{"$f":"IF(OR(ISBLANK(Table1[[#This Row],[Column52]]),ISBLANK(Table1[[#This Row],[Column53]])), \"\",Table1[[#This Row],[Column52]]*Table1[[#This Row],[Column53]])","v":5},"Due the change in source from ground water to surface water, there is an inherent change in the levels of risk of this hazard to the consumer, however there will be an active management process throughout the development of this scheme minimising the risk to the consumer.","None",1,5,{"$f":"IF(OR(ISBLANK(Table1[[#This Row],[Column57]]),ISBLANK(Table1[[#This Row],[Column58]])), \"\",Table1[[#This Row],[Column57]]*Table1[[#This Row],[Column58]])","v":5},"THM formation is likely to increase through distribution to customer. Careful selection of residual disinfectant is required to prevent this increasing over time.","None",1,5,{"$f":"IF(OR(ISBLANK(Table1[[#This Row],[Column61]]),ISBLANK(Table1[[#This Row],[Column62]])), \"\",Table1[[#This Row],[Column61]]*Table1[[#This Row],[Column62]])","v":5},"May cause hazard to health.  Switching to a surface water source may represent a change to WQ risk","Monitoring and treatment management"]
[33,"Vinyl chloride","N","Risk associated with chlorination downstream. Possible industrial sources. No sample data currently available but expected to be during new WQ monitoring programme.",null,null,{"$f":"IF(OR(ISBLANK(Table1[[#This Row],[Column3]]),ISBLANK(Table1[[#This Row],[Column4]])), \"\",Table1[[#This Row],[Column3]]*Table1[[#This Row],[Column4]])","v":""},null,null,null,null,{"$f":"IF(OR(ISBLANK(Table1[[#This Row],[Column7]]),ISBLANK(Table1[[#This Row],[Column8]])), \"\",Table1[[#This Row],[Column7]]*Table1[[#This Row],[Column8]])","v":""},null,null,null,null,{"$f":"IF(OR(ISBLANK(Table1[[#This Row],[Column12]]),ISBLANK(Table1[[#This Row],[Column13]])), \"\",Table1[[#This Row],[Column12]]*Table1[[#This Row],[Column13]])","v":""},null,null,null,null,{"$f":"IF(OR(ISBLANK(Table1[[#This Row],[Column16]]),ISBLANK(Table1[[#This Row],[Column17]])), \"\",Table1[[#This Row],[Column16]]*Table1[[#This Row],[Column17]])","v":""},null,null,null,null,{"$f":"IF(OR(ISBLANK(Table1[[#This Row],[Column21]]),ISBLANK(Table1[[#This Row],[Column22]])), \"\",Table1[[#This Row],[Column21]]*Table1[[#This Row],[Column22]])","v":""},null,null,null,null,{"$f":"IF(OR(ISBLANK(Table1[[#This Row],[Column25]]),ISBLANK(Table1[[#This Row],[Column26]])), \"\",Table1[[#This Row],[Column25]]*Table1[[#This Row],[Column26]])","v":""},null,null,null,null,{"$f":"IF(OR(ISBLANK(Table1[[#This Row],[Column30]]),ISBLANK(Table1[[#This Row],[Column31]])), \"\",Table1[[#This Row],[Column30]]*Table1[[#This Row],[Column31]])","v":""},null,null,null,null,{"$f":"IF(OR(ISBLANK(Table1[[#This Row],[Column34]]),ISBLANK(Table1[[#This Row],[Column35]])), \"\",Table1[[#This Row],[Column34]]*Table1[[#This Row],[Column35]])","v":""},null,null,null,null,{"$f":"IF(OR(ISBLANK(Table1[[#This Row],[Column39]]),ISBLANK(Table1[[#This Row],[Column40]])), \"\",Table1[[#This Row],[Column39]]*Table1[[#This Row],[Column40]])","v":""},null,null,null,null,{"$f":"IF(OR(ISBLANK(Table1[[#This Row],[Column43]]),ISBLANK(Table1[[#This Row],[Column44]])), \"\",Table1[[#This Row],[Column43]]*Table1[[#This Row],[Column44]])","v":""},null,null,null,null,{"$f":"IF(OR(ISBLANK(Table1[[#This Row],[Column48]]),ISBLANK(Table1[[#This Row],[Column49]])), \"\",Table1[[#This Row],[Column48]]*Table1[[#This Row],[Column49]])","v":""},null,null,null,null,{"$f":"IF(OR(ISBLANK(Table1[[#This Row],[Column52]]),ISBLANK(Table1[[#This Row],[Column53]])), \"\",Table1[[#This Row],[Column52]]*Table1[[#This Row],[Column53]])","v":""},null,null,null,null,{"$f":"IF(OR(ISBLANK(Table1[[#This Row],[Column57]]),ISBLANK(Table1[[#This Row],[Column58]])), \"\",Table1[[#This Row],[Column57]]*Table1[[#This Row],[Column58]])","v":""},null,null,null,null,{"$f":"IF(OR(ISBLANK(Table1[[#This Row],[Column61]]),ISBLANK(Table1[[#This Row],[Column62]])), \"\",Table1[[#This Row],[Column61]]*Table1[[#This Row],[Column62]])","v":""}]
[34,"Chemicals: Rural and Agriculture",null,null,null,null,{"$f":"IF(OR(ISBLANK(Table1[[#This Row],[Column3]]),ISBLANK(Table1[[#This Row],[Column4]])), \"\",Table1[[#This Row],[Column3]]*Table1[[#This Row],[Column4]])","v":""},null,null,null,null,{"$f":"IF(OR(ISBLANK(Table1[[#This Row],[Column7]]),ISBLANK(Table1[[#This Row],[Column8]])), \"\",Table1[[#This Row],[Column7]]*Table1[[#This Row],[Column8]])","v":""},null,null,null,null,{"$f":"IF(OR(ISBLANK(Table1[[#This Row],[Column12]]),ISBLANK(Table1[[#This Row],[Column13]])), \"\",Table1[[#This Row],[Column12]]*Table1[[#This Row],[Column13]])","v":""},null,null,null,null,{"$f":"IF(OR(ISBLANK(Table1[[#This Row],[Column16]]),ISBLANK(Table1[[#This Row],[Column17]])), \"\",Table1[[#This Row],[Column16]]*Table1[[#This Row],[Column17]])","v":""},null,null,null,null,{"$f":"IF(OR(ISBLANK(Table1[[#This Row],[Column21]]),ISBLANK(Table1[[#This Row],[Column22]])), \"\",Table1[[#This Row],[Column21]]*Table1[[#This Row],[Column22]])","v":""},null,null,null,null,{"$f":"IF(OR(ISBLANK(Table1[[#This Row],[Column25]]),ISBLANK(Table1[[#This Row],[Column26]])), \"\",Table1[[#This Row],[Column25]]*Table1[[#This Row],[Column26]])","v":""},null,null,null,null,{"$f":"IF(OR(ISBLANK(Table1[[#This Row],[Column30]]),ISBLANK(Table1[[#This Row],[Column31]])), \"\",Table1[[#This Row],[Column30]]*Table1[[#This Row],[Column31]])","v":""},null,null,null,null,{"$f":"IF(OR(ISBLANK(Table1[[#This Row],[Column34]]),ISBLANK(Table1[[#This Row],[Column35]])), \"\",Table1[[#This Row],[Column34]]*Table1[[#This Row],[Column35]])","v":""},null,null,null,null,{"$f":"IF(OR(ISBLANK(Table1[[#This Row],[Column39]]),ISBLANK(Table1[[#This Row],[Column40]])), \"\",Table1[[#This Row],[Column39]]*Table1[[#This Row],[Column40]])","v":""},null,null,null,null,{"$f":"IF(OR(ISBLANK(Table1[[#This Row],[Column43]]),ISBLANK(Table1[[#This Row],[Column44]])), \"\",Table1[[#This Row],[Column43]]*Table1[[#This Row],[Column44]])","v":""},null,null,null,null,{"$f":"IF(OR(ISBLANK(Table1[[#This Row],[Column48]]),ISBLANK(Table1[[#This Row],[Column49]])), \"\",Table1[[#This Row],[Column48]]*Table1[[#This Row],[Column49]])","v":""},null,null,null,null,{"$f":"IF(OR(ISBLANK(Table1[[#This Row],[Column52]]),ISBLANK(Table1[[#This Row],[Column53]])), \"\",Table1[[#This Row],[Column52]]*Table1[[#This Row],[Column53]])","v":""},null,null,null,null,{"$f":"IF(OR(ISBLANK(Table1[[#This Row],[Column57]]),ISBLANK(Table1[[#This Row],[Column58]])), \"\",Table1[[#This Row],[Column57]]*Table1[[#This Row],[Column58]])","v":""},null,null,null,null,{"$f":"IF(OR(ISBLANK(Table1[[#This Row],[Column61]]),ISBLANK(Table1[[#This Row],[Column62]])), \"\",Table1[[#This Row],[Column61]]*Table1[[#This Row],[Column62]])","v":""}]
[35,"Nitrate","Y","Derived from agriculture, atmospheric deposition and sewage.",4,5,{"$f":"IF(OR(ISBLANK(Table1[[#This Row],[Column3]]),ISBLANK(Table1[[#This Row],[Column4]])), \"\",Table1[[#This Row],[Column3]]*Table1[[#This Row],[Column4]])","v":20},"Gate 1: Max concentration in GUC measured at 38 mg/l as NO3 (WSP).\n\nGate 2 Water Quality Monitoring Programme recorded Nitrate in Minworth WwTW effluent Max value 120 mg/l NO3, mean value 37 mg/l. Max value at Site 6 100mg/l, and average 18mg/l. These Max values exceed the PCV of Nitrate of 50mgNO3/l. Max values at other sampling sites along GUC 32mg/l.","None",4,5,{"$f":"IF(OR(ISBLANK(Table1[[#This Row],[Column7]]),ISBLANK(Table1[[#This Row],[Column8]])), \"\",Table1[[#This Row],[Column7]]*Table1[[#This Row],[Column8]])","v":20},"None.","None",4,5,{"$f":"IF(OR(ISBLANK(Table1[[#This Row],[Column12]]),ISBLANK(Table1[[#This Row],[Column13]])), \"\",Table1[[#This Row],[Column12]]*Table1[[#This Row],[Column13]])","v":20},"Risk profile unlikely to change during abstraction","None",4,5,{"$f":"IF(OR(ISBLANK(Table1[[#This Row],[Column16]]),ISBLANK(Table1[[#This Row],[Column17]])), \"\",Table1[[#This Row],[Column16]]*Table1[[#This Row],[Column17]])","v":20},"No planned control during abstraction, so scores are cascaded from pre- to post-mitigated.","None.",4,5,{"$f":"IF(OR(ISBLANK(Table1[[#This Row],[Column21]]),ISBLANK(Table1[[#This Row],[Column22]])), \"\",Table1[[#This Row],[Column21]]*Table1[[#This Row],[Column22]])","v":20},"Risk not likely to change through conveyance","None",4,5,{"$f":"IF(OR(ISBLANK(Table1[[#This Row],[Column25]]),ISBLANK(Table1[[#This Row],[Column26]])), \"\",Table1[[#This Row],[Column25]]*Table1[[#This Row],[Column26]])","v":20},"No control so scores are cascaded from pre- to post-mitigated.","None",4,5,{"$f":"IF(OR(ISBLANK(Table1[[#This Row],[Column30]]),ISBLANK(Table1[[#This Row],[Column31]])), \"\",Table1[[#This Row],[Column30]]*Table1[[#This Row],[Column31]])","v":20},"High concentrations measured in the GUC and Minworth WwTW effluent","Treatment as required",1,5,{"$f":"IF(OR(ISBLANK(Table1[[#This Row],[Column34]]),ISBLANK(Table1[[#This Row],[Column35]])), \"\",Table1[[#This Row],[Column34]]*Table1[[#This Row],[Column35]])","v":5},"None","Treatment to mitigate Nitrate risk, as well as potential blending of waters.",1,5,{"$f":"IF(OR(ISBLANK(Table1[[#This Row],[Column39]]),ISBLANK(Table1[[#This Row],[Column40]])), \"\",Table1[[#This Row],[Column39]]*Table1[[#This Row],[Column40]])","v":5},"Risk will decrease blending with another low Nitrate water source in Res.","No control measure required",1,5,{"$f":"IF(OR(ISBLANK(Table1[[#This Row],[Column43]]),ISBLANK(Table1[[#This Row],[Column44]])), \"\",Table1[[#This Row],[Column43]]*Table1[[#This Row],[Column44]])","v":5},"None","None",1,5,{"$f":"IF(OR(ISBLANK(Table1[[#This Row],[Column48]]),ISBLANK(Table1[[#This Row],[Column49]])), \"\",Table1[[#This Row],[Column48]]*Table1[[#This Row],[Column49]])","v":5},"Risk unlikely to increase during distribution","None",1,5,{"$f":"IF(OR(ISBLANK(Table1[[#This Row],[Column52]]),ISBLANK(Table1[[#This Row],[Column53]])), \"\",Table1[[#This Row],[Column52]]*Table1[[#This Row],[Column53]])","v":5},"None","None",1,5,{"$f":"IF(OR(ISBLANK(Table1[[#This Row],[Column57]]),ISBLANK(Table1[[#This Row],[Column58]])), \"\",Table1[[#This Row],[Column57]]*Table1[[#This Row],[Column58]])","v":5},"Risk unlikely to change through to customer taps","None",1,5,{"$f":"IF(OR(ISBLANK(Table1[[#This Row],[Column61]]),ISBLANK(Table1[[#This Row],[Column62]])), \"\",Table1[[#This Row],[Column61]]*Table1[[#This Row],[Column62]])","v":5},"None","Ensure treatment process is successfully mitigating Nitrate risks. If not, review current controls and treatment"]
[36,"Nitrite","N","Derived from Nitrogen sources in catchment and sewage, as well as low dissolved Oxygen and reducing conditions. No sample data currently available but expected to be during new WQ monitoring programme.",null,null,{"$f":"IF(OR(ISBLANK(Table1[[#This Row],[Column3]]),ISBLANK(Table1[[#This Row],[Column4]])), \"\",Table1[[#This Row],[Column3]]*Table1[[#This Row],[Column4]])","v":""},null,null,null,null,{"$f":"IF(OR(ISBLANK(Table1[[#This Row],[Column7]]),ISBLANK(Table1[[#This Row],[Column8]])), \"\",Table1[[#This Row],[Column7]]*Table1[[#This Row],[Column8]])","v":""},null,null,null,null,{"$f":"IF(OR(ISBLANK(Table1[[#This Row],[Column12]]),ISBLANK(Table1[[#This Row],[Column13]])), \"\",Table1[[#This Row],[Column12]]*Table1[[#This Row],[Column13]])","v":""},null,null,null,null,{"$f":"IF(OR(ISBLANK(Table1[[#This Row],[Column16]]),ISBLANK(Table1[[#This Row],[Column17]])), \"\",Table1[[#This Row],[Column16]]*Table1[[#This Row],[Column17]])","v":""},null,null,null,null,{"$f":"IF(OR(ISBLANK(Table1[[#This Row],[Column21]]),ISBLANK(Table1[[#This Row],[Column22]])), \"\",Table1[[#This Row],[Column21]]*Table1[[#This Row],[Column22]])","v":""},null,null,null,null,{"$f":"IF(OR(ISBLANK(Table1[[#This Row],[Column25]]),ISBLANK(Table1[[#This Row],[Column26]])), \"\",Table1[[#This Row],[Column25]]*Table1[[#This Row],[Column26]])","v":""},null,null,null,null,{"$f":"IF(OR(ISBLANK(Table1[[#This Row],[Column30]]),ISBLANK(Table1[[#This Row],[Column31]])), \"\",Table1[[#This Row],[Column30]]*Table1[[#This Row],[Column31]])","v":""},null,null,null,null,{"$f":"IF(OR(ISBLANK(Table1[[#This Row],[Column34]]),ISBLANK(Table1[[#This Row],[Column35]])), \"\",Table1[[#This Row],[Column34]]*Table1[[#This Row],[Column35]])","v":""},null,null,null,null,{"$f":"IF(OR(ISBLANK(Table1[[#This Row],[Column39]]),ISBLANK(Table1[[#This Row],[Column40]])), \"\",Table1[[#This Row],[Column39]]*Table1[[#This Row],[Column40]])","v":""},null,null,null,null,{"$f":"IF(OR(ISBLANK(Table1[[#This Row],[Column43]]),ISBLANK(Table1[[#This Row],[Column44]])), \"\",Table1[[#This Row],[Column43]]*Table1[[#This Row],[Column44]])","v":""},null,null,null,null,{"$f":"IF(OR(ISBLANK(Table1[[#This Row],[Column48]]),ISBLANK(Table1[[#This Row],[Column49]])), \"\",Table1[[#This Row],[Column48]]*Table1[[#This Row],[Column49]])","v":""},null,null,null,null,{"$f":"IF(OR(ISBLANK(Table1[[#This Row],[Column52]]),ISBLANK(Table1[[#This Row],[Column53]])), \"\",Table1[[#This Row],[Column52]]*Table1[[#This Row],[Column53]])","v":""},null,null,null,null,{"$f":"IF(OR(ISBLANK(Table1[[#This Row],[Column57]]),ISBLANK(Table1[[#This Row],[Column58]])), \"\",Table1[[#This Row],[Column57]]*Table1[[#This Row],[Column58]])","v":""},null,null,null,null,{"$f":"IF(OR(ISBLANK(Table1[[#This Row],[Column61]]),ISBLANK(Table1[[#This Row],[Column62]])), \"\",Table1[[#This Row],[Column61]]*Table1[[#This Row],[Column62]])","v":""}]
[37,"Pesticides: total","Y","Derived from agricultural and amenity applications of pesticides in the catchment.",3,2,{"$f":"IF(OR(ISBLANK(Table1[[#This Row],[Column3]]),ISBLANK(Table1[[#This Row],[Column4]])), \"\",Table1[[#This Row],[Column3]]*Table1[[#This Row],[Column4]])","v":6},"Gate 2 Water Quality Monitoring Programme confirms presence of pesticides in the Minworth WwTW Effluent, Coventry Canal and Grand Union Canal.\nExamples of Pesticides monitored in the Minworth WwTW effluent has recorded max values of 0.75ug/l for Glyphosate, 0.32ug/l for Propyzamide, 0.07ug/l for Mecoprop.\n\nExamples of Max recordings of Pesticides monitored at Grove Lock include Glyphosate: 0.5ug/l, Propyzamide: 0.1ug/l, Mecoprop: <0.02ug/l.\n\nMany pesticides measured below the LOD at Grove Lock including Dieldrin and Aldrin (<0.02ug/l). Heptachlor and Heptachlor Epoxide recorded below LOD (<0.001ug/l)","None",3,2,{"$f":"IF(OR(ISBLANK(Table1[[#This Row],[Column7]]),ISBLANK(Table1[[#This Row],[Column8]])), \"\",Table1[[#This Row],[Column7]]*Table1[[#This Row],[Column8]])","v":6},"Mitigated through treatment","None",3,2,{"$f":"IF(OR(ISBLANK(Table1[[#This Row],[Column12]]),ISBLANK(Table1[[#This Row],[Column13]])), \"\",Table1[[#This Row],[Column12]]*Table1[[#This Row],[Column13]])","v":6},"Risk profile unlikely to change during abstraction","None",3,2,{"$f":"IF(OR(ISBLANK(Table1[[#This Row],[Column16]]),ISBLANK(Table1[[#This Row],[Column17]])), \"\",Table1[[#This Row],[Column16]]*Table1[[#This Row],[Column17]])","v":6},"Mitigated through treatment","None.",3,2,{"$f":"IF(OR(ISBLANK(Table1[[#This Row],[Column21]]),ISBLANK(Table1[[#This Row],[Column22]])), \"\",Table1[[#This Row],[Column21]]*Table1[[#This Row],[Column22]])","v":6},"Risk not likely to change through conveyance","None",3,2,{"$f":"IF(OR(ISBLANK(Table1[[#This Row],[Column25]]),ISBLANK(Table1[[#This Row],[Column26]])), \"\",Table1[[#This Row],[Column25]]*Table1[[#This Row],[Column26]])","v":6},"No control so scores are cascaded from pre- to post-mitigated.","None",3,2,{"$f":"IF(OR(ISBLANK(Table1[[#This Row],[Column30]]),ISBLANK(Table1[[#This Row],[Column31]])), \"\",Table1[[#This Row],[Column30]]*Table1[[#This Row],[Column31]])","v":6},"Some pesticides measured at high concentrations in Minworth WwTW Effluent","Mitigated through Oxidation, GAC/BAC and PAC ",1,2,{"$f":"IF(OR(ISBLANK(Table1[[#This Row],[Column34]]),ISBLANK(Table1[[#This Row],[Column35]])), \"\",Table1[[#This Row],[Column34]]*Table1[[#This Row],[Column35]])","v":2},"Control methods likely to mitigate risk well.","Ensure PAC dosed to optimise pesticide removal.",1,2,{"$f":"IF(OR(ISBLANK(Table1[[#This Row],[Column39]]),ISBLANK(Table1[[#This Row],[Column40]])), \"\",Table1[[#This Row],[Column39]]*Table1[[#This Row],[Column40]])","v":2},"Risk unlikely to increase through to storage","No control measure required",1,2,{"$f":"IF(OR(ISBLANK(Table1[[#This Row],[Column43]]),ISBLANK(Table1[[#This Row],[Column44]])), \"\",Table1[[#This Row],[Column43]]*Table1[[#This Row],[Column44]])","v":2},"None","None",1,2,{"$f":"IF(OR(ISBLANK(Table1[[#This Row],[Column48]]),ISBLANK(Table1[[#This Row],[Column49]])), \"\",Table1[[#This Row],[Column48]]*Table1[[#This Row],[Column49]])","v":2},"Risk unlikely to increase during distribution","None",1,2,{"$f":"IF(OR(ISBLANK(Table1[[#This Row],[Column52]]),ISBLANK(Table1[[#This Row],[Column53]])), \"\",Table1[[#This Row],[Column52]]*Table1[[#This Row],[Column53]])","v":2},"Due the change in source from ground water to surface water, there is an inherent change in the levels of risk of this hazard to the consumer, however there will be an active management process throughout the development of this scheme minimising the risk to the consumer.","None",1,2,{"$f":"IF(OR(ISBLANK(Table1[[#This Row],[Column57]]),ISBLANK(Table1[[#This Row],[Column58]])), \"\",Table1[[#This Row],[Column57]]*Table1[[#This Row],[Column58]])","v":2},"Risk unlikely to change through to customer taps","None",1,2,{"$f":"IF(OR(ISBLANK(Table1[[#This Row],[Column61]]),ISBLANK(Table1[[#This Row],[Column62]])), \"\",Table1[[#This Row],[Column61]]*Table1[[#This Row],[Column62]])","v":2},"None","None"]
[38,"Pesticides ","N","Derived from agricultural and amenity applications of pesticides in the catchment. No sample data currently available but expected to be during new WQ monitoring programme.",null,null,{"$f":"IF(OR(ISBLANK(Table1[[#This Row],[Column3]]),ISBLANK(Table1[[#This Row],[Column4]])), \"\",Table1[[#This Row],[Column3]]*Table1[[#This Row],[Column4]])","v":""},null,null,null,null,{"$f":"IF(OR(ISBLANK(Table1[[#This Row],[Column7]]),ISBLANK(Table1[[#This Row],[Column8]])), \"\",Table1[[#This Row],[Column7]]*Table1[[#This Row],[Column8]])","v":""},null,null,null,null,{"$f":"IF(OR(ISBLANK(Table1[[#This Row],[Column12]]),ISBLANK(Table1[[#This Row],[Column13]])), \"\",Table1[[#This Row],[Column12]]*Table1[[#This Row],[Column13]])","v":""},null,null,null,null,{"$f":"IF(OR(ISBLANK(Table1[[#This Row],[Column16]]),ISBLANK(Table1[[#This Row],[Column17]])), \"\",Table1[[#This Row],[Column16]]*Table1[[#This Row],[Column17]])","v":""},null,null,null,null,{"$f":"IF(OR(ISBLANK(Table1[[#This Row],[Column21]]),ISBLANK(Table1[[#This Row],[Column22]])), \"\",Table1[[#This Row],[Column21]]*Table1[[#This Row],[Column22]])","v":""},null,null,null,null,{"$f":"IF(OR(ISBLANK(Table1[[#This Row],[Column25]]),ISBLANK(Table1[[#This Row],[Column26]])), \"\",Table1[[#This Row],[Column25]]*Table1[[#This Row],[Column26]])","v":""},null,null,null,null,{"$f":"IF(OR(ISBLANK(Table1[[#This Row],[Column30]]),ISBLANK(Table1[[#This Row],[Column31]])), \"\",Table1[[#This Row],[Column30]]*Table1[[#This Row],[Column31]])","v":""},null,null,null,null,{"$f":"IF(OR(ISBLANK(Table1[[#This Row],[Column34]]),ISBLANK(Table1[[#This Row],[Column35]])), \"\",Table1[[#This Row],[Column34]]*Table1[[#This Row],[Column35]])","v":""},null,null,null,null,{"$f":"IF(OR(ISBLANK(Table1[[#This Row],[Column39]]),ISBLANK(Table1[[#This Row],[Column40]])), \"\",Table1[[#This Row],[Column39]]*Table1[[#This Row],[Column40]])","v":""},null,null,null,null,{"$f":"IF(OR(ISBLANK(Table1[[#This Row],[Column43]]),ISBLANK(Table1[[#This Row],[Column44]])), \"\",Table1[[#This Row],[Column43]]*Table1[[#This Row],[Column44]])","v":""},null,null,null,null,{"$f":"IF(OR(ISBLANK(Table1[[#This Row],[Column48]]),ISBLANK(Table1[[#This Row],[Column49]])), \"\",Table1[[#This Row],[Column48]]*Table1[[#This Row],[Column49]])","v":""},null,null,null,null,{"$f":"IF(OR(ISBLANK(Table1[[#This Row],[Column52]]),ISBLANK(Table1[[#This Row],[Column53]])), \"\",Table1[[#This Row],[Column52]]*Table1[[#This Row],[Column53]])","v":""},null,null,null,null,{"$f":"IF(OR(ISBLANK(Table1[[#This Row],[Column57]]),ISBLANK(Table1[[#This Row],[Column58]])), \"\",Table1[[#This Row],[Column57]]*Table1[[#This Row],[Column58]])","v":""},null,null,null,null,{"$f":"IF(OR(ISBLANK(Table1[[#This Row],[Column61]]),ISBLANK(Table1[[#This Row],[Column62]])), \"\",Table1[[#This Row],[Column61]]*Table1[[#This Row],[Column62]])","v":""}]
[39,"Aldrin","N","Highly persistent insecticide. No sample data currently available but expected to be during new WQ monitoring programme.",null,null,{"$f":"IF(OR(ISBLANK(Table1[[#This Row],[Column3]]),ISBLANK(Table1[[#This Row],[Column4]])), \"\",Table1[[#This Row],[Column3]]*Table1[[#This Row],[Column4]])","v":""},null,null,null,null,{"$f":"IF(OR(ISBLANK(Table1[[#This Row],[Column7]]),ISBLANK(Table1[[#This Row],[Column8]])), \"\",Table1[[#This Row],[Column7]]*Table1[[#This Row],[Column8]])","v":""},null,null,null,null,{"$f":"IF(OR(ISBLANK(Table1[[#This Row],[Column12]]),ISBLANK(Table1[[#This Row],[Column13]])), \"\",Table1[[#This Row],[Column12]]*Table1[[#This Row],[Column13]])","v":""},null,null,null,null,{"$f":"IF(OR(ISBLANK(Table1[[#This Row],[Column16]]),ISBLANK(Table1[[#This Row],[Column17]])), \"\",Table1[[#This Row],[Column16]]*Table1[[#This Row],[Column17]])","v":""},null,null,null,null,{"$f":"IF(OR(ISBLANK(Table1[[#This Row],[Column21]]),ISBLANK(Table1[[#This Row],[Column22]])), \"\",Table1[[#This Row],[Column21]]*Table1[[#This Row],[Column22]])","v":""},null,null,null,null,{"$f":"IF(OR(ISBLANK(Table1[[#This Row],[Column25]]),ISBLANK(Table1[[#This Row],[Column26]])), \"\",Table1[[#This Row],[Column25]]*Table1[[#This Row],[Column26]])","v":""},null,null,null,null,{"$f":"IF(OR(ISBLANK(Table1[[#This Row],[Column30]]),ISBLANK(Table1[[#This Row],[Column31]])), \"\",Table1[[#This Row],[Column30]]*Table1[[#This Row],[Column31]])","v":""},null,null,null,null,{"$f":"IF(OR(ISBLANK(Table1[[#This Row],[Column34]]),ISBLANK(Table1[[#This Row],[Column35]])), \"\",Table1[[#This Row],[Column34]]*Table1[[#This Row],[Column35]])","v":""},null,null,null,null,{"$f":"IF(OR(ISBLANK(Table1[[#This Row],[Column39]]),ISBLANK(Table1[[#This Row],[Column40]])), \"\",Table1[[#This Row],[Column39]]*Table1[[#This Row],[Column40]])","v":""},null,null,null,null,{"$f":"IF(OR(ISBLANK(Table1[[#This Row],[Column43]]),ISBLANK(Table1[[#This Row],[Column44]])), \"\",Table1[[#This Row],[Column43]]*Table1[[#This Row],[Column44]])","v":""},null,null,null,null,{"$f":"IF(OR(ISBLANK(Table1[[#This Row],[Column48]]),ISBLANK(Table1[[#This Row],[Column49]])), \"\",Table1[[#This Row],[Column48]]*Table1[[#This Row],[Column49]])","v":""},null,null,null,null,{"$f":"IF(OR(ISBLANK(Table1[[#This Row],[Column52]]),ISBLANK(Table1[[#This Row],[Column53]])), \"\",Table1[[#This Row],[Column52]]*Table1[[#This Row],[Column53]])","v":""},null,null,null,null,{"$f":"IF(OR(ISBLANK(Table1[[#This Row],[Column57]]),ISBLANK(Table1[[#This Row],[Column58]])), \"\",Table1[[#This Row],[Column57]]*Table1[[#This Row],[Column58]])","v":""},null,null,null,null,{"$f":"IF(OR(ISBLANK(Table1[[#This Row],[Column61]]),ISBLANK(Table1[[#This Row],[Column62]])), \"\",Table1[[#This Row],[Column61]]*Table1[[#This Row],[Column62]])","v":""}]
[40,"Dieldrin ","N","Highly persistent insecticide. No sample data currently available but expected to be during new WQ monitoring programme.",null,null,{"$f":"IF(OR(ISBLANK(Table1[[#This Row],[Column3]]),ISBLANK(Table1[[#This Row],[Column4]])), \"\",Table1[[#This Row],[Column3]]*Table1[[#This Row],[Column4]])","v":""},null,null,null,null,{"$f":"IF(OR(ISBLANK(Table1[[#This Row],[Column7]]),ISBLANK(Table1[[#This Row],[Column8]])), \"\",Table1[[#This Row],[Column7]]*Table1[[#This Row],[Column8]])","v":""},null,null,null,null,{"$f":"IF(OR(ISBLANK(Table1[[#This Row],[Column12]]),ISBLANK(Table1[[#This Row],[Column13]])), \"\",Table1[[#This Row],[Column12]]*Table1[[#This Row],[Column13]])","v":""},null,null,null,null,{"$f":"IF(OR(ISBLANK(Table1[[#This Row],[Column16]]),ISBLANK(Table1[[#This Row],[Column17]])), \"\",Table1[[#This Row],[Column16]]*Table1[[#This Row],[Column17]])","v":""},null,null,null,null,{"$f":"IF(OR(ISBLANK(Table1[[#This Row],[Column21]]),ISBLANK(Table1[[#This Row],[Column22]])), \"\",Table1[[#This Row],[Column21]]*Table1[[#This Row],[Column22]])","v":""},null,null,null,null,{"$f":"IF(OR(ISBLANK(Table1[[#This Row],[Column25]]),ISBLANK(Table1[[#This Row],[Column26]])), \"\",Table1[[#This Row],[Column25]]*Table1[[#This Row],[Column26]])","v":""},null,null,null,null,{"$f":"IF(OR(ISBLANK(Table1[[#This Row],[Column30]]),ISBLANK(Table1[[#This Row],[Column31]])), \"\",Table1[[#This Row],[Column30]]*Table1[[#This Row],[Column31]])","v":""},null,null,null,null,{"$f":"IF(OR(ISBLANK(Table1[[#This Row],[Column34]]),ISBLANK(Table1[[#This Row],[Column35]])), \"\",Table1[[#This Row],[Column34]]*Table1[[#This Row],[Column35]])","v":""},null,null,null,null,{"$f":"IF(OR(ISBLANK(Table1[[#This Row],[Column39]]),ISBLANK(Table1[[#This Row],[Column40]])), \"\",Table1[[#This Row],[Column39]]*Table1[[#This Row],[Column40]])","v":""},null,null,null,null,{"$f":"IF(OR(ISBLANK(Table1[[#This Row],[Column43]]),ISBLANK(Table1[[#This Row],[Column44]])), \"\",Table1[[#This Row],[Column43]]*Table1[[#This Row],[Column44]])","v":""},null,null,null,null,{"$f":"IF(OR(ISBLANK(Table1[[#This Row],[Column48]]),ISBLANK(Table1[[#This Row],[Column49]])), \"\",Table1[[#This Row],[Column48]]*Table1[[#This Row],[Column49]])","v":""},null,null,null,null,{"$f":"IF(OR(ISBLANK(Table1[[#This Row],[Column52]]),ISBLANK(Table1[[#This Row],[Column53]])), \"\",Table1[[#This Row],[Column52]]*Table1[[#This Row],[Column53]])","v":""},null,null,null,null,{"$f":"IF(OR(ISBLANK(Table1[[#This Row],[Column57]]),ISBLANK(Table1[[#This Row],[Column58]])), \"\",Table1[[#This Row],[Column57]]*Table1[[#This Row],[Column58]])","v":""},null,null,null,null,{"$f":"IF(OR(ISBLANK(Table1[[#This Row],[Column61]]),ISBLANK(Table1[[#This Row],[Column62]])), \"\",Table1[[#This Row],[Column61]]*Table1[[#This Row],[Column62]])","v":""}]
[41,"Heptachlor","N","Insecticide. No sample data currently available but expected to be during new WQ monitoring programme.",null,null,{"$f":"IF(OR(ISBLANK(Table1[[#This Row],[Column3]]),ISBLANK(Table1[[#This Row],[Column4]])), \"\",Table1[[#This Row],[Column3]]*Table1[[#This Row],[Column4]])","v":""},null,null,null,null,{"$f":"IF(OR(ISBLANK(Table1[[#This Row],[Column7]]),ISBLANK(Table1[[#This Row],[Column8]])), \"\",Table1[[#This Row],[Column7]]*Table1[[#This Row],[Column8]])","v":""},null,null,null,null,{"$f":"IF(OR(ISBLANK(Table1[[#This Row],[Column12]]),ISBLANK(Table1[[#This Row],[Column13]])), \"\",Table1[[#This Row],[Column12]]*Table1[[#This Row],[Column13]])","v":""},null,null,null,null,{"$f":"IF(OR(ISBLANK(Table1[[#This Row],[Column16]]),ISBLANK(Table1[[#This Row],[Column17]])), \"\",Table1[[#This Row],[Column16]]*Table1[[#This Row],[Column17]])","v":""},null,null,null,null,{"$f":"IF(OR(ISBLANK(Table1[[#This Row],[Column21]]),ISBLANK(Table1[[#This Row],[Column22]])), \"\",Table1[[#This Row],[Column21]]*Table1[[#This Row],[Column22]])","v":""},null,null,null,null,{"$f":"IF(OR(ISBLANK(Table1[[#This Row],[Column25]]),ISBLANK(Table1[[#This Row],[Column26]])), \"\",Table1[[#This Row],[Column25]]*Table1[[#This Row],[Column26]])","v":""},null,null,null,null,{"$f":"IF(OR(ISBLANK(Table1[[#This Row],[Column30]]),ISBLANK(Table1[[#This Row],[Column31]])), \"\",Table1[[#This Row],[Column30]]*Table1[[#This Row],[Column31]])","v":""},null,null,null,null,{"$f":"IF(OR(ISBLANK(Table1[[#This Row],[Column34]]),ISBLANK(Table1[[#This Row],[Column35]])), \"\",Table1[[#This Row],[Column34]]*Table1[[#This Row],[Column35]])","v":""},null,null,null,null,{"$f":"IF(OR(ISBLANK(Table1[[#This Row],[Column39]]),ISBLANK(Table1[[#This Row],[Column40]])), \"\",Table1[[#This Row],[Column39]]*Table1[[#This Row],[Column40]])","v":""},null,null,null,null,{"$f":"IF(OR(ISBLANK(Table1[[#This Row],[Column43]]),ISBLANK(Table1[[#This Row],[Column44]])), \"\",Table1[[#This Row],[Column43]]*Table1[[#This Row],[Column44]])","v":""},null,null,null,null,{"$f":"IF(OR(ISBLANK(Table1[[#This Row],[Column48]]),ISBLANK(Table1[[#This Row],[Column49]])), \"\",Table1[[#This Row],[Column48]]*Table1[[#This Row],[Column49]])","v":""},null,null,null,null,{"$f":"IF(OR(ISBLANK(Table1[[#This Row],[Column52]]),ISBLANK(Table1[[#This Row],[Column53]])), \"\",Table1[[#This Row],[Column52]]*Table1[[#This Row],[Column53]])","v":""},null,null,null,null,{"$f":"IF(OR(ISBLANK(Table1[[#This Row],[Column57]]),ISBLANK(Table1[[#This Row],[Column58]])), \"\",Table1[[#This Row],[Column57]]*Table1[[#This Row],[Column58]])","v":""},null,null,null,null,{"$f":"IF(OR(ISBLANK(Table1[[#This Row],[Column61]]),ISBLANK(Table1[[#This Row],[Column62]])), \"\",Table1[[#This Row],[Column61]]*Table1[[#This Row],[Column62]])","v":""}]
[42,"Heptachlor epoxide","N","Environmental by-product of Heptachlor. No sample data currently available but expected to be during new WQ monitoring programme.",null,null,{"$f":"IF(OR(ISBLANK(Table1[[#This Row],[Column3]]),ISBLANK(Table1[[#This Row],[Column4]])), \"\",Table1[[#This Row],[Column3]]*Table1[[#This Row],[Column4]])","v":""},null,null,null,null,{"$f":"IF(OR(ISBLANK(Table1[[#This Row],[Column7]]),ISBLANK(Table1[[#This Row],[Column8]])), \"\",Table1[[#This Row],[Column7]]*Table1[[#This Row],[Column8]])","v":""},null,null,null,null,{"$f":"IF(OR(ISBLANK(Table1[[#This Row],[Column12]]),ISBLANK(Table1[[#This Row],[Column13]])), \"\",Table1[[#This Row],[Column12]]*Table1[[#This Row],[Column13]])","v":""},null,null,null,null,{"$f":"IF(OR(ISBLANK(Table1[[#This Row],[Column16]]),ISBLANK(Table1[[#This Row],[Column17]])), \"\",Table1[[#This Row],[Column16]]*Table1[[#This Row],[Column17]])","v":""},null,null,null,null,{"$f":"IF(OR(ISBLANK(Table1[[#This Row],[Column21]]),ISBLANK(Table1[[#This Row],[Column22]])), \"\",Table1[[#This Row],[Column21]]*Table1[[#This Row],[Column22]])","v":""},null,null,null,null,{"$f":"IF(OR(ISBLANK(Table1[[#This Row],[Column25]]),ISBLANK(Table1[[#This Row],[Column26]])), \"\",Table1[[#This Row],[Column25]]*Table1[[#This Row],[Column26]])","v":""},null,null,null,null,{"$f":"IF(OR(ISBLANK(Table1[[#This Row],[Column30]]),ISBLANK(Table1[[#This Row],[Column31]])), \"\",Table1[[#This Row],[Column30]]*Table1[[#This Row],[Column31]])","v":""},null,null,null,null,{"$f":"IF(OR(ISBLANK(Table1[[#This Row],[Column34]]),ISBLANK(Table1[[#This Row],[Column35]])), \"\",Table1[[#This Row],[Column34]]*Table1[[#This Row],[Column35]])","v":""},null,null,null,null,{"$f":"IF(OR(ISBLANK(Table1[[#This Row],[Column39]]),ISBLANK(Table1[[#This Row],[Column40]])), \"\",Table1[[#This Row],[Column39]]*Table1[[#This Row],[Column40]])","v":""},null,null,null,null,{"$f":"IF(OR(ISBLANK(Table1[[#This Row],[Column43]]),ISBLANK(Table1[[#This Row],[Column44]])), \"\",Table1[[#This Row],[Column43]]*Table1[[#This Row],[Column44]])","v":""},null,null,null,null,{"$f":"IF(OR(ISBLANK(Table1[[#This Row],[Column48]]),ISBLANK(Table1[[#This Row],[Column49]])), \"\",Table1[[#This Row],[Column48]]*Table1[[#This Row],[Column49]])","v":""},null,null,null,null,{"$f":"IF(OR(ISBLANK(Table1[[#This Row],[Column52]]),ISBLANK(Table1[[#This Row],[Column53]])), \"\",Table1[[#This Row],[Column52]]*Table1[[#This Row],[Column53]])","v":""},null,null,null,null,{"$f":"IF(OR(ISBLANK(Table1[[#This Row],[Column57]]),ISBLANK(Table1[[#This Row],[Column58]])), \"\",Table1[[#This Row],[Column57]]*Table1[[#This Row],[Column58]])","v":""},null,null,null,null,{"$f":"IF(OR(ISBLANK(Table1[[#This Row],[Column61]]),ISBLANK(Table1[[#This Row],[Column62]])), \"\",Table1[[#This Row],[Column61]]*Table1[[#This Row],[Column62]])","v":""}]
[null,"Chemicals: Industrial",null,null,null,null,{"$f":"IF(OR(ISBLANK(Table1[[#This Row],[Column3]]),ISBLANK(Table1[[#This Row],[Column4]])), \"\",Table1[[#This Row],[Column3]]*Table1[[#This Row],[Column4]])","v":""},null,null,null,null,{"$f":"IF(OR(ISBLANK(Table1[[#This Row],[Column7]]),ISBLANK(Table1[[#This Row],[Column8]])), \"\",Table1[[#This Row],[Column7]]*Table1[[#This Row],[Column8]])","v":""},null,null,null,null,{"$f":"IF(OR(ISBLANK(Table1[[#This Row],[Column12]]),ISBLANK(Table1[[#This Row],[Column13]])), \"\",Table1[[#This Row],[Column12]]*Table1[[#This Row],[Column13]])","v":""},null,null,null,null,{"$f":"IF(OR(ISBLANK(Table1[[#This Row],[Column16]]),ISBLANK(Table1[[#This Row],[Column17]])), \"\",Table1[[#This Row],[Column16]]*Table1[[#This Row],[Column17]])","v":""},null,null,null,null,{"$f":"IF(OR(ISBLANK(Table1[[#This Row],[Column21]]),ISBLANK(Table1[[#This Row],[Column22]])), \"\",Table1[[#This Row],[Column21]]*Table1[[#This Row],[Column22]])","v":""},null,null,null,null,{"$f":"IF(OR(ISBLANK(Table1[[#This Row],[Column25]]),ISBLANK(Table1[[#This Row],[Column26]])), \"\",Table1[[#This Row],[Column25]]*Table1[[#This Row],[Column26]])","v":""},null,null,null,null,{"$f":"IF(OR(ISBLANK(Table1[[#This Row],[Column30]]),ISBLANK(Table1[[#This Row],[Column31]])), \"\",Table1[[#This Row],[Column30]]*Table1[[#This Row],[Column31]])","v":""},null,null,null,null,{"$f":"IF(OR(ISBLANK(Table1[[#This Row],[Column34]]),ISBLANK(Table1[[#This Row],[Column35]])), \"\",Table1[[#This Row],[Column34]]*Table1[[#This Row],[Column35]])","v":""},null,null,null,null,{"$f":"IF(OR(ISBLANK(Table1[[#This Row],[Column39]]),ISBLANK(Table1[[#This Row],[Column40]])), \"\",Table1[[#This Row],[Column39]]*Table1[[#This Row],[Column40]])","v":""},null,null,null,null,{"$f":"IF(OR(ISBLANK(Table1[[#This Row],[Column43]]),ISBLANK(Table1[[#This Row],[Column44]])), \"\",Table1[[#This Row],[Column43]]*Table1[[#This Row],[Column44]])","v":""},null,null,null,null,{"$f":"IF(OR(ISBLANK(Table1[[#This Row],[Column48]]),ISBLANK(Table1[[#This Row],[Column49]])), \"\",Table1[[#This Row],[Column48]]*Table1[[#This Row],[Column49]])","v":""},null,null,null,null,{"$f":"IF(OR(ISBLANK(Table1[[#This Row],[Column52]]),ISBLANK(Table1[[#This Row],[Column53]])), \"\",Table1[[#This Row],[Column52]]*Table1[[#This Row],[Column53]])","v":""},null,null,null,null,{"$f":"IF(OR(ISBLANK(Table1[[#This Row],[Column57]]),ISBLANK(Table1[[#This Row],[Column58]])), \"\",Table1[[#This Row],[Column57]]*Table1[[#This Row],[Column58]])","v":""},null,null,null,null,{"$f":"IF(OR(ISBLANK(Table1[[#This Row],[Column61]]),ISBLANK(Table1[[#This Row],[Column62]])), \"\",Table1[[#This Row],[Column61]]*Table1[[#This Row],[Column62]])","v":""}]
[17,"Benzene","N","Industry and transport associated with fossil fuel use. No sample data currently available but expected to be during new WQ monitoring programme.",null,null,{"$f":"IF(OR(ISBLANK(Table1[[#This Row],[Column3]]),ISBLANK(Table1[[#This Row],[Column4]])), \"\",Table1[[#This Row],[Column3]]*Table1[[#This Row],[Column4]])","v":""},null,null,null,null,{"$f":"IF(OR(ISBLANK(Table1[[#This Row],[Column7]]),ISBLANK(Table1[[#This Row],[Column8]])), \"\",Table1[[#This Row],[Column7]]*Table1[[#This Row],[Column8]])","v":""},null,null,null,null,{"$f":"IF(OR(ISBLANK(Table1[[#This Row],[Column12]]),ISBLANK(Table1[[#This Row],[Column13]])), \"\",Table1[[#This Row],[Column12]]*Table1[[#This Row],[Column13]])","v":""},null,null,null,null,{"$f":"IF(OR(ISBLANK(Table1[[#This Row],[Column16]]),ISBLANK(Table1[[#This Row],[Column17]])), \"\",Table1[[#This Row],[Column16]]*Table1[[#This Row],[Column17]])","v":""},null,null,null,null,{"$f":"IF(OR(ISBLANK(Table1[[#This Row],[Column21]]),ISBLANK(Table1[[#This Row],[Column22]])), \"\",Table1[[#This Row],[Column21]]*Table1[[#This Row],[Column22]])","v":""},null,null,null,null,{"$f":"IF(OR(ISBLANK(Table1[[#This Row],[Column25]]),ISBLANK(Table1[[#This Row],[Column26]])), \"\",Table1[[#This Row],[Column25]]*Table1[[#This Row],[Column26]])","v":""},null,null,null,null,{"$f":"IF(OR(ISBLANK(Table1[[#This Row],[Column30]]),ISBLANK(Table1[[#This Row],[Column31]])), \"\",Table1[[#This Row],[Column30]]*Table1[[#This Row],[Column31]])","v":""},null,null,null,null,{"$f":"IF(OR(ISBLANK(Table1[[#This Row],[Column34]]),ISBLANK(Table1[[#This Row],[Column35]])), \"\",Table1[[#This Row],[Column34]]*Table1[[#This Row],[Column35]])","v":""},null,null,null,null,{"$f":"IF(OR(ISBLANK(Table1[[#This Row],[Column39]]),ISBLANK(Table1[[#This Row],[Column40]])), \"\",Table1[[#This Row],[Column39]]*Table1[[#This Row],[Column40]])","v":""},null,null,null,null,{"$f":"IF(OR(ISBLANK(Table1[[#This Row],[Column43]]),ISBLANK(Table1[[#This Row],[Column44]])), \"\",Table1[[#This Row],[Column43]]*Table1[[#This Row],[Column44]])","v":""},null,null,null,null,{"$f":"IF(OR(ISBLANK(Table1[[#This Row],[Column48]]),ISBLANK(Table1[[#This Row],[Column49]])), \"\",Table1[[#This Row],[Column48]]*Table1[[#This Row],[Column49]])","v":""},null,null,null,null,{"$f":"IF(OR(ISBLANK(Table1[[#This Row],[Column52]]),ISBLANK(Table1[[#This Row],[Column53]])), \"\",Table1[[#This Row],[Column52]]*Table1[[#This Row],[Column53]])","v":""},null,null,null,null,{"$f":"IF(OR(ISBLANK(Table1[[#This Row],[Column57]]),ISBLANK(Table1[[#This Row],[Column58]])), \"\",Table1[[#This Row],[Column57]]*Table1[[#This Row],[Column58]])","v":""},null,null,null,null,{"$f":"IF(OR(ISBLANK(Table1[[#This Row],[Column61]]),ISBLANK(Table1[[#This Row],[Column62]])), \"\",Table1[[#This Row],[Column61]]*Table1[[#This Row],[Column62]])","v":""}]
[18,"Cadmium","N","Industry and domestic sources.\n\nMax value measured at 0.18μg/l in the GUC (WSP).",null,null,{"$f":"IF(OR(ISBLANK(Table1[[#This Row],[Column3]]),ISBLANK(Table1[[#This Row],[Column4]])), \"\",Table1[[#This Row],[Column3]]*Table1[[#This Row],[Column4]])","v":""},null,null,null,null,{"$f":"IF(OR(ISBLANK(Table1[[#This Row],[Column7]]),ISBLANK(Table1[[#This Row],[Column8]])), \"\",Table1[[#This Row],[Column7]]*Table1[[#This Row],[Column8]])","v":""},null,null,null,null,{"$f":"IF(OR(ISBLANK(Table1[[#This Row],[Column12]]),ISBLANK(Table1[[#This Row],[Column13]])), \"\",Table1[[#This Row],[Column12]]*Table1[[#This Row],[Column13]])","v":""},null,null,null,null,{"$f":"IF(OR(ISBLANK(Table1[[#This Row],[Column16]]),ISBLANK(Table1[[#This Row],[Column17]])), \"\",Table1[[#This Row],[Column16]]*Table1[[#This Row],[Column17]])","v":""},null,null,null,null,{"$f":"IF(OR(ISBLANK(Table1[[#This Row],[Column21]]),ISBLANK(Table1[[#This Row],[Column22]])), \"\",Table1[[#This Row],[Column21]]*Table1[[#This Row],[Column22]])","v":""},null,null,null,null,{"$f":"IF(OR(ISBLANK(Table1[[#This Row],[Column25]]),ISBLANK(Table1[[#This Row],[Column26]])), \"\",Table1[[#This Row],[Column25]]*Table1[[#This Row],[Column26]])","v":""},null,null,null,null,{"$f":"IF(OR(ISBLANK(Table1[[#This Row],[Column30]]),ISBLANK(Table1[[#This Row],[Column31]])), \"\",Table1[[#This Row],[Column30]]*Table1[[#This Row],[Column31]])","v":""},null,null,null,null,{"$f":"IF(OR(ISBLANK(Table1[[#This Row],[Column34]]),ISBLANK(Table1[[#This Row],[Column35]])), \"\",Table1[[#This Row],[Column34]]*Table1[[#This Row],[Column35]])","v":""},null,null,null,null,{"$f":"IF(OR(ISBLANK(Table1[[#This Row],[Column39]]),ISBLANK(Table1[[#This Row],[Column40]])), \"\",Table1[[#This Row],[Column39]]*Table1[[#This Row],[Column40]])","v":""},null,null,null,null,{"$f":"IF(OR(ISBLANK(Table1[[#This Row],[Column43]]),ISBLANK(Table1[[#This Row],[Column44]])), \"\",Table1[[#This Row],[Column43]]*Table1[[#This Row],[Column44]])","v":""},null,null,null,null,{"$f":"IF(OR(ISBLANK(Table1[[#This Row],[Column48]]),ISBLANK(Table1[[#This Row],[Column49]])), \"\",Table1[[#This Row],[Column48]]*Table1[[#This Row],[Column49]])","v":""},null,null,null,null,{"$f":"IF(OR(ISBLANK(Table1[[#This Row],[Column52]]),ISBLANK(Table1[[#This Row],[Column53]])), \"\",Table1[[#This Row],[Column52]]*Table1[[#This Row],[Column53]])","v":""},null,null,null,null,{"$f":"IF(OR(ISBLANK(Table1[[#This Row],[Column57]]),ISBLANK(Table1[[#This Row],[Column58]])), \"\",Table1[[#This Row],[Column57]]*Table1[[#This Row],[Column58]])","v":""},null,null,null,null,{"$f":"IF(OR(ISBLANK(Table1[[#This Row],[Column61]]),ISBLANK(Table1[[#This Row],[Column62]])), \"\",Table1[[#This Row],[Column61]]*Table1[[#This Row],[Column62]])","v":""}]
[19,"Cyanide","N","Highly toxic substance associated with pollution events (failure of industrial processes). No sample data currently available but expected to be during new WQ monitoring programme.",null,null,{"$f":"IF(OR(ISBLANK(Table1[[#This Row],[Column3]]),ISBLANK(Table1[[#This Row],[Column4]])), \"\",Table1[[#This Row],[Column3]]*Table1[[#This Row],[Column4]])","v":""},null,null,null,null,{"$f":"IF(OR(ISBLANK(Table1[[#This Row],[Column7]]),ISBLANK(Table1[[#This Row],[Column8]])), \"\",Table1[[#This Row],[Column7]]*Table1[[#This Row],[Column8]])","v":""},null,null,null,null,{"$f":"IF(OR(ISBLANK(Table1[[#This Row],[Column12]]),ISBLANK(Table1[[#This Row],[Column13]])), \"\",Table1[[#This Row],[Column12]]*Table1[[#This Row],[Column13]])","v":""},null,null,null,null,{"$f":"IF(OR(ISBLANK(Table1[[#This Row],[Column16]]),ISBLANK(Table1[[#This Row],[Column17]])), \"\",Table1[[#This Row],[Column16]]*Table1[[#This Row],[Column17]])","v":""},null,null,null,null,{"$f":"IF(OR(ISBLANK(Table1[[#This Row],[Column21]]),ISBLANK(Table1[[#This Row],[Column22]])), \"\",Table1[[#This Row],[Column21]]*Table1[[#This Row],[Column22]])","v":""},null,null,null,null,{"$f":"IF(OR(ISBLANK(Table1[[#This Row],[Column25]]),ISBLANK(Table1[[#This Row],[Column26]])), \"\",Table1[[#This Row],[Column25]]*Table1[[#This Row],[Column26]])","v":""},null,null,null,null,{"$f":"IF(OR(ISBLANK(Table1[[#This Row],[Column30]]),ISBLANK(Table1[[#This Row],[Column31]])), \"\",Table1[[#This Row],[Column30]]*Table1[[#This Row],[Column31]])","v":""},null,null,null,null,{"$f":"IF(OR(ISBLANK(Table1[[#This Row],[Column34]]),ISBLANK(Table1[[#This Row],[Column35]])), \"\",Table1[[#This Row],[Column34]]*Table1[[#This Row],[Column35]])","v":""},null,null,null,null,{"$f":"IF(OR(ISBLANK(Table1[[#This Row],[Column39]]),ISBLANK(Table1[[#This Row],[Column40]])), \"\",Table1[[#This Row],[Column39]]*Table1[[#This Row],[Column40]])","v":""},null,null,null,null,{"$f":"IF(OR(ISBLANK(Table1[[#This Row],[Column43]]),ISBLANK(Table1[[#This Row],[Column44]])), \"\",Table1[[#This Row],[Column43]]*Table1[[#This Row],[Column44]])","v":""},null,null,null,null,{"$f":"IF(OR(ISBLANK(Table1[[#This Row],[Column48]]),ISBLANK(Table1[[#This Row],[Column49]])), \"\",Table1[[#This Row],[Column48]]*Table1[[#This Row],[Column49]])","v":""},null,null,null,null,{"$f":"IF(OR(ISBLANK(Table1[[#This Row],[Column52]]),ISBLANK(Table1[[#This Row],[Column53]])), \"\",Table1[[#This Row],[Column52]]*Table1[[#This Row],[Column53]])","v":""},null,null,null,null,{"$f":"IF(OR(ISBLANK(Table1[[#This Row],[Column57]]),ISBLANK(Table1[[#This Row],[Column58]])), \"\",Table1[[#This Row],[Column57]]*Table1[[#This Row],[Column58]])","v":""},null,null,null,null,{"$f":"IF(OR(ISBLANK(Table1[[#This Row],[Column61]]),ISBLANK(Table1[[#This Row],[Column62]])), \"\",Table1[[#This Row],[Column61]]*Table1[[#This Row],[Column62]])","v":""}]
[20,"Mercury","Y","Industrial and legacy sources. Mainly legacy sources.",3,5,{"$f":"IF(OR(ISBLANK(Table1[[#This Row],[Column3]]),ISBLANK(Table1[[#This Row],[Column4]])), \"\",Table1[[#This Row],[Column3]]*Table1[[#This Row],[Column4]])","v":15},"Gate 1: Low concentrations measured during WSP sampling in GUC (0.13μg/l), but previously sampled to  be high in Rivers and Canals (AECOM report).\n\nGate 2 Water Quality Monitoring Programme recorded max value of Mercury at 0.037ug/l in the Minworth WwTW effluent. Max value in GUC 0.031ug/l (Site 6), Below PCV of 1ug/l.","None",3,5,{"$f":"IF(OR(ISBLANK(Table1[[#This Row],[Column7]]),ISBLANK(Table1[[#This Row],[Column8]])), \"\",Table1[[#This Row],[Column7]]*Table1[[#This Row],[Column8]])","v":15},"Mitigated through treatment.","Concentrations are sampled at lower than initially seen during Gate 1. Continue monitoring and to be kept under review.",3,5,{"$f":"IF(OR(ISBLANK(Table1[[#This Row],[Column12]]),ISBLANK(Table1[[#This Row],[Column13]])), \"\",Table1[[#This Row],[Column12]]*Table1[[#This Row],[Column13]])","v":15},"Risk profile unlikely to change during abstraction","Monitoring and abstraction control during pollution events.",3,5,{"$f":"IF(OR(ISBLANK(Table1[[#This Row],[Column16]]),ISBLANK(Table1[[#This Row],[Column17]])), \"\",Table1[[#This Row],[Column16]]*Table1[[#This Row],[Column17]])","v":15},"None","None.",3,5,{"$f":"IF(OR(ISBLANK(Table1[[#This Row],[Column21]]),ISBLANK(Table1[[#This Row],[Column22]])), \"\",Table1[[#This Row],[Column21]]*Table1[[#This Row],[Column22]])","v":15},"Risk not likely to change through conveyance","None",3,5,{"$f":"IF(OR(ISBLANK(Table1[[#This Row],[Column25]]),ISBLANK(Table1[[#This Row],[Column26]])), \"\",Table1[[#This Row],[Column25]]*Table1[[#This Row],[Column26]])","v":15},"No control so scores are cascaded from pre- to post-mitigated.","None",3,5,{"$f":"IF(OR(ISBLANK(Table1[[#This Row],[Column30]]),ISBLANK(Table1[[#This Row],[Column31]])), \"\",Table1[[#This Row],[Column30]]*Table1[[#This Row],[Column31]])","v":15},"Low concentrations measured during WSP sampling in GUC but previously known to be high (AECOM report). Gate 2 monitoring shows samples were low in Mercury concentrations."," Adequate removal through Coagulation, flocculation and clarification.",1,5,{"$f":"IF(OR(ISBLANK(Table1[[#This Row],[Column34]]),ISBLANK(Table1[[#This Row],[Column35]])), \"\",Table1[[#This Row],[Column34]]*Table1[[#This Row],[Column35]])","v":5},"Mercury presents human health risks, however treatment is sufficient to mitigate risk.","Continued monitoring",1,5,{"$f":"IF(OR(ISBLANK(Table1[[#This Row],[Column39]]),ISBLANK(Table1[[#This Row],[Column40]])), \"\",Table1[[#This Row],[Column39]]*Table1[[#This Row],[Column40]])","v":5},"Risk unlikely to increase through to storage","No control measure required",1,5,{"$f":"IF(OR(ISBLANK(Table1[[#This Row],[Column43]]),ISBLANK(Table1[[#This Row],[Column44]])), \"\",Table1[[#This Row],[Column43]]*Table1[[#This Row],[Column44]])","v":5},"None","None",1,5,{"$f":"IF(OR(ISBLANK(Table1[[#This Row],[Column48]]),ISBLANK(Table1[[#This Row],[Column49]])), \"\",Table1[[#This Row],[Column48]]*Table1[[#This Row],[Column49]])","v":5},"Risk unlikely to increase during distribution","None",1,5,{"$f":"IF(OR(ISBLANK(Table1[[#This Row],[Column52]]),ISBLANK(Table1[[#This Row],[Column53]])), \"\",Table1[[#This Row],[Column52]]*Table1[[#This Row],[Column53]])","v":5},"None","None",1,5,{"$f":"IF(OR(ISBLANK(Table1[[#This Row],[Column57]]),ISBLANK(Table1[[#This Row],[Column58]])), \"\",Table1[[#This Row],[Column57]]*Table1[[#This Row],[Column58]])","v":5},"Risk unlikely to change through to customer taps","None",1,5,{"$f":"IF(OR(ISBLANK(Table1[[#This Row],[Column61]]),ISBLANK(Table1[[#This Row],[Column62]])), \"\",Table1[[#This Row],[Column61]]*Table1[[#This Row],[Column62]])","v":5},"None","None"]
[21,"Tetrachloroethene and Trichloroethene","N","Industrial Solvents. No sample data currently available but expected to be during new WQ monitoring programme.",null,null,{"$f":"IF(OR(ISBLANK(Table1[[#This Row],[Column3]]),ISBLANK(Table1[[#This Row],[Column4]])), \"\",Table1[[#This Row],[Column3]]*Table1[[#This Row],[Column4]])","v":""},null,null,null,null,{"$f":"IF(OR(ISBLANK(Table1[[#This Row],[Column7]]),ISBLANK(Table1[[#This Row],[Column8]])), \"\",Table1[[#This Row],[Column7]]*Table1[[#This Row],[Column8]])","v":""},null,null,null,null,{"$f":"IF(OR(ISBLANK(Table1[[#This Row],[Column12]]),ISBLANK(Table1[[#This Row],[Column13]])), \"\",Table1[[#This Row],[Column12]]*Table1[[#This Row],[Column13]])","v":""},null,null,null,null,{"$f":"IF(OR(ISBLANK(Table1[[#This Row],[Column16]]),ISBLANK(Table1[[#This Row],[Column17]])), \"\",Table1[[#This Row],[Column16]]*Table1[[#This Row],[Column17]])","v":""},null,null,null,null,{"$f":"IF(OR(ISBLANK(Table1[[#This Row],[Column21]]),ISBLANK(Table1[[#This Row],[Column22]])), \"\",Table1[[#This Row],[Column21]]*Table1[[#This Row],[Column22]])","v":""},null,null,null,null,{"$f":"IF(OR(ISBLANK(Table1[[#This Row],[Column25]]),ISBLANK(Table1[[#This Row],[Column26]])), \"\",Table1[[#This Row],[Column25]]*Table1[[#This Row],[Column26]])","v":""},null,null,null,null,{"$f":"IF(OR(ISBLANK(Table1[[#This Row],[Column30]]),ISBLANK(Table1[[#This Row],[Column31]])), \"\",Table1[[#This Row],[Column30]]*Table1[[#This Row],[Column31]])","v":""},null,null,null,null,{"$f":"IF(OR(ISBLANK(Table1[[#This Row],[Column34]]),ISBLANK(Table1[[#This Row],[Column35]])), \"\",Table1[[#This Row],[Column34]]*Table1[[#This Row],[Column35]])","v":""},null,null,null,null,{"$f":"IF(OR(ISBLANK(Table1[[#This Row],[Column39]]),ISBLANK(Table1[[#This Row],[Column40]])), \"\",Table1[[#This Row],[Column39]]*Table1[[#This Row],[Column40]])","v":""},null,null,null,null,{"$f":"IF(OR(ISBLANK(Table1[[#This Row],[Column43]]),ISBLANK(Table1[[#This Row],[Column44]])), \"\",Table1[[#This Row],[Column43]]*Table1[[#This Row],[Column44]])","v":""},null,null,null,null,{"$f":"IF(OR(ISBLANK(Table1[[#This Row],[Column48]]),ISBLANK(Table1[[#This Row],[Column49]])), \"\",Table1[[#This Row],[Column48]]*Table1[[#This Row],[Column49]])","v":""},null,null,null,null,{"$f":"IF(OR(ISBLANK(Table1[[#This Row],[Column52]]),ISBLANK(Table1[[#This Row],[Column53]])), \"\",Table1[[#This Row],[Column52]]*Table1[[#This Row],[Column53]])","v":""},null,null,null,null,{"$f":"IF(OR(ISBLANK(Table1[[#This Row],[Column57]]),ISBLANK(Table1[[#This Row],[Column58]])), \"\",Table1[[#This Row],[Column57]]*Table1[[#This Row],[Column58]])","v":""},null,null,null,null,{"$f":"IF(OR(ISBLANK(Table1[[#This Row],[Column61]]),ISBLANK(Table1[[#This Row],[Column62]])), \"\",Table1[[#This Row],[Column61]]*Table1[[#This Row],[Column62]])","v":""}]
[44,"Polycyclic aromatic hydrocarbon:","N","Associated with hydrocarbon and fossil fuel usage. No sample data currently available but expected to be during new WQ monitoring programme.",null,null,{"$f":"IF(OR(ISBLANK(Table1[[#This Row],[Column3]]),ISBLANK(Table1[[#This Row],[Column4]])), \"\",Table1[[#This Row],[Column3]]*Table1[[#This Row],[Column4]])","v":""},null,null,null,null,{"$f":"IF(OR(ISBLANK(Table1[[#This Row],[Column7]]),ISBLANK(Table1[[#This Row],[Column8]])), \"\",Table1[[#This Row],[Column7]]*Table1[[#This Row],[Column8]])","v":""},null,null,null,null,{"$f":"IF(OR(ISBLANK(Table1[[#This Row],[Column12]]),ISBLANK(Table1[[#This Row],[Column13]])), \"\",Table1[[#This Row],[Column12]]*Table1[[#This Row],[Column13]])","v":""},null,null,null,null,{"$f":"IF(OR(ISBLANK(Table1[[#This Row],[Column16]]),ISBLANK(Table1[[#This Row],[Column17]])), \"\",Table1[[#This Row],[Column16]]*Table1[[#This Row],[Column17]])","v":""},null,null,null,null,{"$f":"IF(OR(ISBLANK(Table1[[#This Row],[Column21]]),ISBLANK(Table1[[#This Row],[Column22]])), \"\",Table1[[#This Row],[Column21]]*Table1[[#This Row],[Column22]])","v":""},null,null,null,null,{"$f":"IF(OR(ISBLANK(Table1[[#This Row],[Column25]]),ISBLANK(Table1[[#This Row],[Column26]])), \"\",Table1[[#This Row],[Column25]]*Table1[[#This Row],[Column26]])","v":""},null,null,null,null,{"$f":"IF(OR(ISBLANK(Table1[[#This Row],[Column30]]),ISBLANK(Table1[[#This Row],[Column31]])), \"\",Table1[[#This Row],[Column30]]*Table1[[#This Row],[Column31]])","v":""},null,null,null,null,{"$f":"IF(OR(ISBLANK(Table1[[#This Row],[Column34]]),ISBLANK(Table1[[#This Row],[Column35]])), \"\",Table1[[#This Row],[Column34]]*Table1[[#This Row],[Column35]])","v":""},null,null,null,null,{"$f":"IF(OR(ISBLANK(Table1[[#This Row],[Column39]]),ISBLANK(Table1[[#This Row],[Column40]])), \"\",Table1[[#This Row],[Column39]]*Table1[[#This Row],[Column40]])","v":""},null,null,null,null,{"$f":"IF(OR(ISBLANK(Table1[[#This Row],[Column43]]),ISBLANK(Table1[[#This Row],[Column44]])), \"\",Table1[[#This Row],[Column43]]*Table1[[#This Row],[Column44]])","v":""},null,null,null,null,{"$f":"IF(OR(ISBLANK(Table1[[#This Row],[Column48]]),ISBLANK(Table1[[#This Row],[Column49]])), \"\",Table1[[#This Row],[Column48]]*Table1[[#This Row],[Column49]])","v":""},null,null,null,null,{"$f":"IF(OR(ISBLANK(Table1[[#This Row],[Column52]]),ISBLANK(Table1[[#This Row],[Column53]])), \"\",Table1[[#This Row],[Column52]]*Table1[[#This Row],[Column53]])","v":""},null,null,null,null,{"$f":"IF(OR(ISBLANK(Table1[[#This Row],[Column57]]),ISBLANK(Table1[[#This Row],[Column58]])), \"\",Table1[[#This Row],[Column57]]*Table1[[#This Row],[Column58]])","v":""},null,null,null,null,{"$f":"IF(OR(ISBLANK(Table1[[#This Row],[Column61]]),ISBLANK(Table1[[#This Row],[Column62]])), \"\",Table1[[#This Row],[Column61]]*Table1[[#This Row],[Column62]])","v":""}]
[45,"benzo(b)fluoranthene ","N","Associated with hydrocarbon and fossil fuel usage. No sample data currently available but expected to be during new WQ monitoring programme.",null,null,{"$f":"IF(OR(ISBLANK(Table1[[#This Row],[Column3]]),ISBLANK(Table1[[#This Row],[Column4]])), \"\",Table1[[#This Row],[Column3]]*Table1[[#This Row],[Column4]])","v":""},null,null,null,null,{"$f":"IF(OR(ISBLANK(Table1[[#This Row],[Column7]]),ISBLANK(Table1[[#This Row],[Column8]])), \"\",Table1[[#This Row],[Column7]]*Table1[[#This Row],[Column8]])","v":""},null,null,null,null,{"$f":"IF(OR(ISBLANK(Table1[[#This Row],[Column12]]),ISBLANK(Table1[[#This Row],[Column13]])), \"\",Table1[[#This Row],[Column12]]*Table1[[#This Row],[Column13]])","v":""},null,null,null,null,{"$f":"IF(OR(ISBLANK(Table1[[#This Row],[Column16]]),ISBLANK(Table1[[#This Row],[Column17]])), \"\",Table1[[#This Row],[Column16]]*Table1[[#This Row],[Column17]])","v":""},null,null,null,null,{"$f":"IF(OR(ISBLANK(Table1[[#This Row],[Column21]]),ISBLANK(Table1[[#This Row],[Column22]])), \"\",Table1[[#This Row],[Column21]]*Table1[[#This Row],[Column22]])","v":""},null,null,null,null,{"$f":"IF(OR(ISBLANK(Table1[[#This Row],[Column25]]),ISBLANK(Table1[[#This Row],[Column26]])), \"\",Table1[[#This Row],[Column25]]*Table1[[#This Row],[Column26]])","v":""},null,null,null,null,{"$f":"IF(OR(ISBLANK(Table1[[#This Row],[Column30]]),ISBLANK(Table1[[#This Row],[Column31]])), \"\",Table1[[#This Row],[Column30]]*Table1[[#This Row],[Column31]])","v":""},null,null,null,null,{"$f":"IF(OR(ISBLANK(Table1[[#This Row],[Column34]]),ISBLANK(Table1[[#This Row],[Column35]])), \"\",Table1[[#This Row],[Column34]]*Table1[[#This Row],[Column35]])","v":""},null,null,null,null,{"$f":"IF(OR(ISBLANK(Table1[[#This Row],[Column39]]),ISBLANK(Table1[[#This Row],[Column40]])), \"\",Table1[[#This Row],[Column39]]*Table1[[#This Row],[Column40]])","v":""},null,null,null,null,{"$f":"IF(OR(ISBLANK(Table1[[#This Row],[Column43]]),ISBLANK(Table1[[#This Row],[Column44]])), \"\",Table1[[#This Row],[Column43]]*Table1[[#This Row],[Column44]])","v":""},null,null,null,null,{"$f":"IF(OR(ISBLANK(Table1[[#This Row],[Column48]]),ISBLANK(Table1[[#This Row],[Column49]])), \"\",Table1[[#This Row],[Column48]]*Table1[[#This Row],[Column49]])","v":""},null,null,null,null,{"$f":"IF(OR(ISBLANK(Table1[[#This Row],[Column52]]),ISBLANK(Table1[[#This Row],[Column53]])), \"\",Table1[[#This Row],[Column52]]*Table1[[#This Row],[Column53]])","v":""},null,null,null,null,{"$f":"IF(OR(ISBLANK(Table1[[#This Row],[Column57]]),ISBLANK(Table1[[#This Row],[Column58]])), \"\",Table1[[#This Row],[Column57]]*Table1[[#This Row],[Column58]])","v":""},null,null,null,null,{"$f":"IF(OR(ISBLANK(Table1[[#This Row],[Column61]]),ISBLANK(Table1[[#This Row],[Column62]])), \"\",Table1[[#This Row],[Column61]]*Table1[[#This Row],[Column62]])","v":""}]
[46,"benzo(k)fluoranthene","N","Associated with hydrocarbon and fossil fuel usage. No sample data currently available but expected to be during new WQ monitoring programme.",null,null,{"$f":"IF(OR(ISBLANK(Table1[[#This Row],[Column3]]),ISBLANK(Table1[[#This Row],[Column4]])), \"\",Table1[[#This Row],[Column3]]*Table1[[#This Row],[Column4]])","v":""},null,null,null,null,{"$f":"IF(OR(ISBLANK(Table1[[#This Row],[Column7]]),ISBLANK(Table1[[#This Row],[Column8]])), \"\",Table1[[#This Row],[Column7]]*Table1[[#This Row],[Column8]])","v":""},null,null,null,null,{"$f":"IF(OR(ISBLANK(Table1[[#This Row],[Column12]]),ISBLANK(Table1[[#This Row],[Column13]])), \"\",Table1[[#This Row],[Column12]]*Table1[[#This Row],[Column13]])","v":""},null,null,null,null,{"$f":"IF(OR(ISBLANK(Table1[[#This Row],[Column16]]),ISBLANK(Table1[[#This Row],[Column17]])), \"\",Table1[[#This Row],[Column16]]*Table1[[#This Row],[Column17]])","v":""},null,null,null,null,{"$f":"IF(OR(ISBLANK(Table1[[#This Row],[Column21]]),ISBLANK(Table1[[#This Row],[Column22]])), \"\",Table1[[#This Row],[Column21]]*Table1[[#This Row],[Column22]])","v":""},null,null,null,null,{"$f":"IF(OR(ISBLANK(Table1[[#This Row],[Column25]]),ISBLANK(Table1[[#This Row],[Column26]])), \"\",Table1[[#This Row],[Column25]]*Table1[[#This Row],[Column26]])","v":""},null,null,null,null,{"$f":"IF(OR(ISBLANK(Table1[[#This Row],[Column30]]),ISBLANK(Table1[[#This Row],[Column31]])), \"\",Table1[[#This Row],[Column30]]*Table1[[#This Row],[Column31]])","v":""},null,null,null,null,{"$f":"IF(OR(ISBLANK(Table1[[#This Row],[Column34]]),ISBLANK(Table1[[#This Row],[Column35]])), \"\",Table1[[#This Row],[Column34]]*Table1[[#This Row],[Column35]])","v":""},null,null,null,null,{"$f":"IF(OR(ISBLANK(Table1[[#This Row],[Column39]]),ISBLANK(Table1[[#This Row],[Column40]])), \"\",Table1[[#This Row],[Column39]]*Table1[[#This Row],[Column40]])","v":""},null,null,null,null,{"$f":"IF(OR(ISBLANK(Table1[[#This Row],[Column43]]),ISBLANK(Table1[[#This Row],[Column44]])), \"\",Table1[[#This Row],[Column43]]*Table1[[#This Row],[Column44]])","v":""},null,null,null,null,{"$f":"IF(OR(ISBLANK(Table1[[#This Row],[Column48]]),ISBLANK(Table1[[#This Row],[Column49]])), \"\",Table1[[#This Row],[Column48]]*Table1[[#This Row],[Column49]])","v":""},null,null,null,null,{"$f":"IF(OR(ISBLANK(Table1[[#This Row],[Column52]]),ISBLANK(Table1[[#This Row],[Column53]])), \"\",Table1[[#This Row],[Column52]]*Table1[[#This Row],[Column53]])","v":""},null,null,null,null,{"$f":"IF(OR(ISBLANK(Table1[[#This Row],[Column57]]),ISBLANK(Table1[[#This Row],[Column58]])), \"\",Table1[[#This Row],[Column57]]*Table1[[#This Row],[Column58]])","v":""},null,null,null,null,{"$f":"IF(OR(ISBLANK(Table1[[#This Row],[Column61]]),ISBLANK(Table1[[#This Row],[Column62]])), \"\",Table1[[#This Row],[Column61]]*Table1[[#This Row],[Column62]])","v":""}]
[47,"benzo(ghi)perylene ","N","Associated with hydrocarbon and fossil fuel usage. No sample data currently available but expected to be during new WQ monitoring programme.",null,null,{"$f":"IF(OR(ISBLANK(Table1[[#This Row],[Column3]]),ISBLANK(Table1[[#This Row],[Column4]])), \"\",Table1[[#This Row],[Column3]]*Table1[[#This Row],[Column4]])","v":""},null,null,null,null,{"$f":"IF(OR(ISBLANK(Table1[[#This Row],[Column7]]),ISBLANK(Table1[[#This Row],[Column8]])), \"\",Table1[[#This Row],[Column7]]*Table1[[#This Row],[Column8]])","v":""},null,null,null,null,{"$f":"IF(OR(ISBLANK(Table1[[#This Row],[Column12]]),ISBLANK(Table1[[#This Row],[Column13]])), \"\",Table1[[#This Row],[Column12]]*Table1[[#This Row],[Column13]])","v":""},null,null,null,null,{"$f":"IF(OR(ISBLANK(Table1[[#This Row],[Column16]]),ISBLANK(Table1[[#This Row],[Column17]])), \"\",Table1[[#This Row],[Column16]]*Table1[[#This Row],[Column17]])","v":""},null,null,null,null,{"$f":"IF(OR(ISBLANK(Table1[[#This Row],[Column21]]),ISBLANK(Table1[[#This Row],[Column22]])), \"\",Table1[[#This Row],[Column21]]*Table1[[#This Row],[Column22]])","v":""},null,null,null,null,{"$f":"IF(OR(ISBLANK(Table1[[#This Row],[Column25]]),ISBLANK(Table1[[#This Row],[Column26]])), \"\",Table1[[#This Row],[Column25]]*Table1[[#This Row],[Column26]])","v":""},null,null,null,null,{"$f":"IF(OR(ISBLANK(Table1[[#This Row],[Column30]]),ISBLANK(Table1[[#This Row],[Column31]])), \"\",Table1[[#This Row],[Column30]]*Table1[[#This Row],[Column31]])","v":""},null,null,null,null,{"$f":"IF(OR(ISBLANK(Table1[[#This Row],[Column34]]),ISBLANK(Table1[[#This Row],[Column35]])), \"\",Table1[[#This Row],[Column34]]*Table1[[#This Row],[Column35]])","v":""},null,null,null,null,{"$f":"IF(OR(ISBLANK(Table1[[#This Row],[Column39]]),ISBLANK(Table1[[#This Row],[Column40]])), \"\",Table1[[#This Row],[Column39]]*Table1[[#This Row],[Column40]])","v":""},null,null,null,null,{"$f":"IF(OR(ISBLANK(Table1[[#This Row],[Column43]]),ISBLANK(Table1[[#This Row],[Column44]])), \"\",Table1[[#This Row],[Column43]]*Table1[[#This Row],[Column44]])","v":""},null,null,null,null,{"$f":"IF(OR(ISBLANK(Table1[[#This Row],[Column48]]),ISBLANK(Table1[[#This Row],[Column49]])), \"\",Table1[[#This Row],[Column48]]*Table1[[#This Row],[Column49]])","v":""},null,null,null,null,{"$f":"IF(OR(ISBLANK(Table1[[#This Row],[Column52]]),ISBLANK(Table1[[#This Row],[Column53]])), \"\",Table1[[#This Row],[Column52]]*Table1[[#This Row],[Column53]])","v":""},null,null,null,null,{"$f":"IF(OR(ISBLANK(Table1[[#This Row],[Column57]]),ISBLANK(Table1[[#This Row],[Column58]])), \"\",Table1[[#This Row],[Column57]]*Table1[[#This Row],[Column58]])","v":""},null,null,null,null,{"$f":"IF(OR(ISBLANK(Table1[[#This Row],[Column61]]),ISBLANK(Table1[[#This Row],[Column62]])), \"\",Table1[[#This Row],[Column61]]*Table1[[#This Row],[Column62]])","v":""}]
[48,"indeno(1,2,3 -cd)pyrene","N","Associated with hydrocarbon and fossil fuel usage. No sample data currently available but expected to be during new WQ monitoring programme.",null,null,{"$f":"IF(OR(ISBLANK(Table1[[#This Row],[Column3]]),ISBLANK(Table1[[#This Row],[Column4]])), \"\",Table1[[#This Row],[Column3]]*Table1[[#This Row],[Column4]])","v":""},null,null,null,null,{"$f":"IF(OR(ISBLANK(Table1[[#This Row],[Column7]]),ISBLANK(Table1[[#This Row],[Column8]])), \"\",Table1[[#This Row],[Column7]]*Table1[[#This Row],[Column8]])","v":""},null,null,null,null,{"$f":"IF(OR(ISBLANK(Table1[[#This Row],[Column12]]),ISBLANK(Table1[[#This Row],[Column13]])), \"\",Table1[[#This Row],[Column12]]*Table1[[#This Row],[Column13]])","v":""},null,null,null,null,{"$f":"IF(OR(ISBLANK(Table1[[#This Row],[Column16]]),ISBLANK(Table1[[#This Row],[Column17]])), \"\",Table1[[#This Row],[Column16]]*Table1[[#This Row],[Column17]])","v":""},null,null,null,null,{"$f":"IF(OR(ISBLANK(Table1[[#This Row],[Column21]]),ISBLANK(Table1[[#This Row],[Column22]])), \"\",Table1[[#This Row],[Column21]]*Table1[[#This Row],[Column22]])","v":""},null,null,null,null,{"$f":"IF(OR(ISBLANK(Table1[[#This Row],[Column25]]),ISBLANK(Table1[[#This Row],[Column26]])), \"\",Table1[[#This Row],[Column25]]*Table1[[#This Row],[Column26]])","v":""},null,null,null,null,{"$f":"IF(OR(ISBLANK(Table1[[#This Row],[Column30]]),ISBLANK(Table1[[#This Row],[Column31]])), \"\",Table1[[#This Row],[Column30]]*Table1[[#This Row],[Column31]])","v":""},null,null,null,null,{"$f":"IF(OR(ISBLANK(Table1[[#This Row],[Column34]]),ISBLANK(Table1[[#This Row],[Column35]])), \"\",Table1[[#This Row],[Column34]]*Table1[[#This Row],[Column35]])","v":""},null,null,null,null,{"$f":"IF(OR(ISBLANK(Table1[[#This Row],[Column39]]),ISBLANK(Table1[[#This Row],[Column40]])), \"\",Table1[[#This Row],[Column39]]*Table1[[#This Row],[Column40]])","v":""},null,null,null,null,{"$f":"IF(OR(ISBLANK(Table1[[#This Row],[Column43]]),ISBLANK(Table1[[#This Row],[Column44]])), \"\",Table1[[#This Row],[Column43]]*Table1[[#This Row],[Column44]])","v":""},null,null,null,null,{"$f":"IF(OR(ISBLANK(Table1[[#This Row],[Column48]]),ISBLANK(Table1[[#This Row],[Column49]])), \"\",Table1[[#This Row],[Column48]]*Table1[[#This Row],[Column49]])","v":""},null,null,null,null,{"$f":"IF(OR(ISBLANK(Table1[[#This Row],[Column52]]),ISBLANK(Table1[[#This Row],[Column53]])), \"\",Table1[[#This Row],[Column52]]*Table1[[#This Row],[Column53]])","v":""},null,null,null,null,{"$f":"IF(OR(ISBLANK(Table1[[#This Row],[Column57]]),ISBLANK(Table1[[#This Row],[Column58]])), \"\",Table1[[#This Row],[Column57]]*Table1[[#This Row],[Column58]])","v":""},null,null,null,null,{"$f":"IF(OR(ISBLANK(Table1[[#This Row],[Column61]]),ISBLANK(Table1[[#This Row],[Column62]])), \"\",Table1[[#This Row],[Column61]]*Table1[[#This Row],[Column62]])","v":""}]
[49,"Benzo(a)pyrene","Y","Associated with hydrocarbon and fossil fuel usage, risk may also increase due to the pipe materials within the network.",5,5,{"$f":"IF(OR(ISBLANK(Table1[[#This Row],[Column3]]),ISBLANK(Table1[[#This Row],[Column4]])), \"\",Table1[[#This Row],[Column3]]*Table1[[#This Row],[Column4]])","v":25},"Gate 1: Sampled concentrations exceed PCV. Max value measured at 0.0513μg/l (WSP).\n\nGate 2 Water Quality Monitoring Programme shows max recorded value of 0.134ug/l at Site 6 which is over 10 times greater than the PCV. Max value at most sample points along transmission above PCV of 0.01ug/l.","None",5,5,{"$f":"IF(OR(ISBLANK(Table1[[#This Row],[Column7]]),ISBLANK(Table1[[#This Row],[Column8]])), \"\",Table1[[#This Row],[Column7]]*Table1[[#This Row],[Column8]])","v":25},"Mitigated through treatment and network management.","None",5,5,{"$f":"IF(OR(ISBLANK(Table1[[#This Row],[Column12]]),ISBLANK(Table1[[#This Row],[Column13]])), \"\",Table1[[#This Row],[Column12]]*Table1[[#This Row],[Column13]])","v":25},"Risk profile unlikely to change during abstraction","Monitoring and abstraction control during pollution events.",5,5,{"$f":"IF(OR(ISBLANK(Table1[[#This Row],[Column16]]),ISBLANK(Table1[[#This Row],[Column17]])), \"\",Table1[[#This Row],[Column16]]*Table1[[#This Row],[Column17]])","v":25},"Mitigated through treatment.","None.",5,5,{"$f":"IF(OR(ISBLANK(Table1[[#This Row],[Column21]]),ISBLANK(Table1[[#This Row],[Column22]])), \"\",Table1[[#This Row],[Column21]]*Table1[[#This Row],[Column22]])","v":25},"Risk not likely to change through conveyance","None",5,5,{"$f":"IF(OR(ISBLANK(Table1[[#This Row],[Column25]]),ISBLANK(Table1[[#This Row],[Column26]])), \"\",Table1[[#This Row],[Column25]]*Table1[[#This Row],[Column26]])","v":25},"No control so scores are cascaded from pre- to post-mitigated.","None",5,5,{"$f":"IF(OR(ISBLANK(Table1[[#This Row],[Column30]]),ISBLANK(Table1[[#This Row],[Column31]])), \"\",Table1[[#This Row],[Column30]]*Table1[[#This Row],[Column31]])","v":25},"Considered most harmful form of PAH","Mitigated through Oxidation, Coagulation, flocculation and clarification, UF membrane filtration, GAC/BAC and PAC.",1,5,{"$f":"IF(OR(ISBLANK(Table1[[#This Row],[Column34]]),ISBLANK(Table1[[#This Row],[Column35]])), \"\",Table1[[#This Row],[Column34]]*Table1[[#This Row],[Column35]])","v":5},"In higher concentrations PAH is carcinogenic, mitigated during treatment.","Continue monitoring",1,5,{"$f":"IF(OR(ISBLANK(Table1[[#This Row],[Column39]]),ISBLANK(Table1[[#This Row],[Column40]])), \"\",Table1[[#This Row],[Column39]]*Table1[[#This Row],[Column40]])","v":5},"Risk unlikely to increase through to storage","No control measure required",1,5,{"$f":"IF(OR(ISBLANK(Table1[[#This Row],[Column43]]),ISBLANK(Table1[[#This Row],[Column44]])), \"\",Table1[[#This Row],[Column43]]*Table1[[#This Row],[Column44]])","v":5},"None","None",1,5,{"$f":"IF(OR(ISBLANK(Table1[[#This Row],[Column48]]),ISBLANK(Table1[[#This Row],[Column49]])), \"\",Table1[[#This Row],[Column48]]*Table1[[#This Row],[Column49]])","v":5},"Benzo(a)pyrene may increase due to the use of legacy networks","Network operational procedures to manage the risk.",1,5,{"$f":"IF(OR(ISBLANK(Table1[[#This Row],[Column52]]),ISBLANK(Table1[[#This Row],[Column53]])), \"\",Table1[[#This Row],[Column52]]*Table1[[#This Row],[Column53]])","v":5},"The risk of Benzo(a)pyrene increasing in the distribution network is managed through network operations.","None",1,5,{"$f":"IF(OR(ISBLANK(Table1[[#This Row],[Column57]]),ISBLANK(Table1[[#This Row],[Column58]])), \"\",Table1[[#This Row],[Column57]]*Table1[[#This Row],[Column58]])","v":5},"Risk unlikely to change through to customer taps","Operational management of network",1,5,{"$f":"IF(OR(ISBLANK(Table1[[#This Row],[Column61]]),ISBLANK(Table1[[#This Row],[Column62]])), \"\",Table1[[#This Row],[Column61]]*Table1[[#This Row],[Column62]])","v":5},"The risk of Benzo(a)pyrene increasing in the distribution network is managed through network operations.","None"]
[16,"1,2 dichloroethane","N","Industrial Solvent. No sample data currently available but expected to be during new WQ monitoring programme.",null,null,{"$f":"IF(OR(ISBLANK(Table1[[#This Row],[Column3]]),ISBLANK(Table1[[#This Row],[Column4]])), \"\",Table1[[#This Row],[Column3]]*Table1[[#This Row],[Column4]])","v":""},null,null,null,null,{"$f":"IF(OR(ISBLANK(Table1[[#This Row],[Column7]]),ISBLANK(Table1[[#This Row],[Column8]])), \"\",Table1[[#This Row],[Column7]]*Table1[[#This Row],[Column8]])","v":""},null,null,null,null,{"$f":"IF(OR(ISBLANK(Table1[[#This Row],[Column12]]),ISBLANK(Table1[[#This Row],[Column13]])), \"\",Table1[[#This Row],[Column12]]*Table1[[#This Row],[Column13]])","v":""},null,null,null,null,{"$f":"IF(OR(ISBLANK(Table1[[#This Row],[Column16]]),ISBLANK(Table1[[#This Row],[Column17]])), \"\",Table1[[#This Row],[Column16]]*Table1[[#This Row],[Column17]])","v":""},null,null,null,null,{"$f":"IF(OR(ISBLANK(Table1[[#This Row],[Column21]]),ISBLANK(Table1[[#This Row],[Column22]])), \"\",Table1[[#This Row],[Column21]]*Table1[[#This Row],[Column22]])","v":""},null,null,null,null,{"$f":"IF(OR(ISBLANK(Table1[[#This Row],[Column25]]),ISBLANK(Table1[[#This Row],[Column26]])), \"\",Table1[[#This Row],[Column25]]*Table1[[#This Row],[Column26]])","v":""},null,null,null,null,{"$f":"IF(OR(ISBLANK(Table1[[#This Row],[Column30]]),ISBLANK(Table1[[#This Row],[Column31]])), \"\",Table1[[#This Row],[Column30]]*Table1[[#This Row],[Column31]])","v":""},null,null,null,null,{"$f":"IF(OR(ISBLANK(Table1[[#This Row],[Column34]]),ISBLANK(Table1[[#This Row],[Column35]])), \"\",Table1[[#This Row],[Column34]]*Table1[[#This Row],[Column35]])","v":""},null,null,null,null,{"$f":"IF(OR(ISBLANK(Table1[[#This Row],[Column39]]),ISBLANK(Table1[[#This Row],[Column40]])), \"\",Table1[[#This Row],[Column39]]*Table1[[#This Row],[Column40]])","v":""},null,null,null,null,{"$f":"IF(OR(ISBLANK(Table1[[#This Row],[Column43]]),ISBLANK(Table1[[#This Row],[Column44]])), \"\",Table1[[#This Row],[Column43]]*Table1[[#This Row],[Column44]])","v":""},null,null,null,null,{"$f":"IF(OR(ISBLANK(Table1[[#This Row],[Column48]]),ISBLANK(Table1[[#This Row],[Column49]])), \"\",Table1[[#This Row],[Column48]]*Table1[[#This Row],[Column49]])","v":""},null,null,null,null,{"$f":"IF(OR(ISBLANK(Table1[[#This Row],[Column52]]),ISBLANK(Table1[[#This Row],[Column53]])), \"\",Table1[[#This Row],[Column52]]*Table1[[#This Row],[Column53]])","v":""},null,null,null,null,{"$f":"IF(OR(ISBLANK(Table1[[#This Row],[Column57]]),ISBLANK(Table1[[#This Row],[Column58]])), \"\",Table1[[#This Row],[Column57]]*Table1[[#This Row],[Column58]])","v":""},null,null,null,null,{"$f":"IF(OR(ISBLANK(Table1[[#This Row],[Column61]]),ISBLANK(Table1[[#This Row],[Column62]])), \"\",Table1[[#This Row],[Column61]]*Table1[[#This Row],[Column62]])","v":""}]
[51,"Tetrachloromethane","N","Industrial solvent and insecticide. No sample data currently available but expected to be during new WQ monitoring programme.",null,null,{"$f":"IF(OR(ISBLANK(Table1[[#This Row],[Column3]]),ISBLANK(Table1[[#This Row],[Column4]])), \"\",Table1[[#This Row],[Column3]]*Table1[[#This Row],[Column4]])","v":""},null,null,null,null,{"$f":"IF(OR(ISBLANK(Table1[[#This Row],[Column7]]),ISBLANK(Table1[[#This Row],[Column8]])), \"\",Table1[[#This Row],[Column7]]*Table1[[#This Row],[Column8]])","v":""},null,null,null,null,{"$f":"IF(OR(ISBLANK(Table1[[#This Row],[Column12]]),ISBLANK(Table1[[#This Row],[Column13]])), \"\",Table1[[#This Row],[Column12]]*Table1[[#This Row],[Column13]])","v":""},null,null,null,null,{"$f":"IF(OR(ISBLANK(Table1[[#This Row],[Column16]]),ISBLANK(Table1[[#This Row],[Column17]])), \"\",Table1[[#This Row],[Column16]]*Table1[[#This Row],[Column17]])","v":""},null,null,null,null,{"$f":"IF(OR(ISBLANK(Table1[[#This Row],[Column21]]),ISBLANK(Table1[[#This Row],[Column22]])), \"\",Table1[[#This Row],[Column21]]*Table1[[#This Row],[Column22]])","v":""},null,null,null,null,{"$f":"IF(OR(ISBLANK(Table1[[#This Row],[Column25]]),ISBLANK(Table1[[#This Row],[Column26]])), \"\",Table1[[#This Row],[Column25]]*Table1[[#This Row],[Column26]])","v":""},null,null,null,null,{"$f":"IF(OR(ISBLANK(Table1[[#This Row],[Column30]]),ISBLANK(Table1[[#This Row],[Column31]])), \"\",Table1[[#This Row],[Column30]]*Table1[[#This Row],[Column31]])","v":""},null,null,null,null,{"$f":"IF(OR(ISBLANK(Table1[[#This Row],[Column34]]),ISBLANK(Table1[[#This Row],[Column35]])), \"\",Table1[[#This Row],[Column34]]*Table1[[#This Row],[Column35]])","v":""},null,null,null,null,{"$f":"IF(OR(ISBLANK(Table1[[#This Row],[Column39]]),ISBLANK(Table1[[#This Row],[Column40]])), \"\",Table1[[#This Row],[Column39]]*Table1[[#This Row],[Column40]])","v":""},null,null,null,null,{"$f":"IF(OR(ISBLANK(Table1[[#This Row],[Column43]]),ISBLANK(Table1[[#This Row],[Column44]])), \"\",Table1[[#This Row],[Column43]]*Table1[[#This Row],[Column44]])","v":""},null,null,null,null,{"$f":"IF(OR(ISBLANK(Table1[[#This Row],[Column48]]),ISBLANK(Table1[[#This Row],[Column49]])), \"\",Table1[[#This Row],[Column48]]*Table1[[#This Row],[Column49]])","v":""},null,null,null,null,{"$f":"IF(OR(ISBLANK(Table1[[#This Row],[Column52]]),ISBLANK(Table1[[#This Row],[Column53]])), \"\",Table1[[#This Row],[Column52]]*Table1[[#This Row],[Column53]])","v":""},null,null,null,null,{"$f":"IF(OR(ISBLANK(Table1[[#This Row],[Column57]]),ISBLANK(Table1[[#This Row],[Column58]])), \"\",Table1[[#This Row],[Column57]]*Table1[[#This Row],[Column58]])","v":""},null,null,null,null,{"$f":"IF(OR(ISBLANK(Table1[[#This Row],[Column61]]),ISBLANK(Table1[[#This Row],[Column62]])), \"\",Table1[[#This Row],[Column61]]*Table1[[#This Row],[Column62]])","v":""}]
[null,"Parameters affecting distribution and customer acceptability ",null,null,null,null,{"$f":"IF(OR(ISBLANK(Table1[[#This Row],[Column3]]),ISBLANK(Table1[[#This Row],[Column4]])), \"\",Table1[[#This Row],[Column3]]*Table1[[#This Row],[Column4]])","v":""},null,null,null,null,{"$f":"IF(OR(ISBLANK(Table1[[#This Row],[Column7]]),ISBLANK(Table1[[#This Row],[Column8]])), \"\",Table1[[#This Row],[Column7]]*Table1[[#This Row],[Column8]])","v":""},null,null,null,null,{"$f":"IF(OR(ISBLANK(Table1[[#This Row],[Column12]]),ISBLANK(Table1[[#This Row],[Column13]])), \"\",Table1[[#This Row],[Column12]]*Table1[[#This Row],[Column13]])","v":""},null,null,null,null,{"$f":"IF(OR(ISBLANK(Table1[[#This Row],[Column16]]),ISBLANK(Table1[[#This Row],[Column17]])), \"\",Table1[[#This Row],[Column16]]*Table1[[#This Row],[Column17]])","v":""},null,null,null,null,{"$f":"IF(OR(ISBLANK(Table1[[#This Row],[Column21]]),ISBLANK(Table1[[#This Row],[Column22]])), \"\",Table1[[#This Row],[Column21]]*Table1[[#This Row],[Column22]])","v":""},null,null,null,null,{"$f":"IF(OR(ISBLANK(Table1[[#This Row],[Column25]]),ISBLANK(Table1[[#This Row],[Column26]])), \"\",Table1[[#This Row],[Column25]]*Table1[[#This Row],[Column26]])","v":""},null,null,null,null,{"$f":"IF(OR(ISBLANK(Table1[[#This Row],[Column30]]),ISBLANK(Table1[[#This Row],[Column31]])), \"\",Table1[[#This Row],[Column30]]*Table1[[#This Row],[Column31]])","v":""},null,null,null,null,{"$f":"IF(OR(ISBLANK(Table1[[#This Row],[Column34]]),ISBLANK(Table1[[#This Row],[Column35]])), \"\",Table1[[#This Row],[Column34]]*Table1[[#This Row],[Column35]])","v":""},null,null,null,null,{"$f":"IF(OR(ISBLANK(Table1[[#This Row],[Column39]]),ISBLANK(Table1[[#This Row],[Column40]])), \"\",Table1[[#This Row],[Column39]]*Table1[[#This Row],[Column40]])","v":""},null,null,null,null,{"$f":"IF(OR(ISBLANK(Table1[[#This Row],[Column43]]),ISBLANK(Table1[[#This Row],[Column44]])), \"\",Table1[[#This Row],[Column43]]*Table1[[#This Row],[Column44]])","v":""},null,null,null,null,{"$f":"IF(OR(ISBLANK(Table1[[#This Row],[Column48]]),ISBLANK(Table1[[#This Row],[Column49]])), \"\",Table1[[#This Row],[Column48]]*Table1[[#This Row],[Column49]])","v":""},null,null,null,null,{"$f":"IF(OR(ISBLANK(Table1[[#This Row],[Column52]]),ISBLANK(Table1[[#This Row],[Column53]])), \"\",Table1[[#This Row],[Column52]]*Table1[[#This Row],[Column53]])","v":""},null,null,null,null,{"$f":"IF(OR(ISBLANK(Table1[[#This Row],[Column57]]),ISBLANK(Table1[[#This Row],[Column58]])), \"\",Table1[[#This Row],[Column57]]*Table1[[#This Row],[Column58]])","v":""},null,null,null,null,{"$f":"IF(OR(ISBLANK(Table1[[#This Row],[Column61]]),ISBLANK(Table1[[#This Row],[Column62]])), \"\",Table1[[#This Row],[Column61]]*Table1[[#This Row],[Column62]])","v":""}]
[52,"Corrosivity","Y","General hazard. Risk controlled by specific chemical controls.  More an issue for treatment and distribution than raw water.",3,3,{"$f":"IF(OR(ISBLANK(Table1[[#This Row],[Column3]]),ISBLANK(Table1[[#This Row],[Column4]])), \"\",Table1[[#This Row],[Column3]]*Table1[[#This Row],[Column4]])","v":9},"Gate 2 water quality monitoring programme recorded pH values between 7.1-8.5 in raw water.\nLSI of Minworth WwTW effluent between -0.5 and -1.0","None",3,3,{"$f":"IF(OR(ISBLANK(Table1[[#This Row],[Column7]]),ISBLANK(Table1[[#This Row],[Column8]])), \"\",Table1[[#This Row],[Column7]]*Table1[[#This Row],[Column8]])","v":9},"Investigate specific causes if corrosion occurs- scores based on judgement.","None",3,3,{"$f":"IF(OR(ISBLANK(Table1[[#This Row],[Column12]]),ISBLANK(Table1[[#This Row],[Column13]])), \"\",Table1[[#This Row],[Column12]]*Table1[[#This Row],[Column13]])","v":9},"Risk profile unlikely to change during abstraction","None",3,3,{"$f":"IF(OR(ISBLANK(Table1[[#This Row],[Column16]]),ISBLANK(Table1[[#This Row],[Column17]])), \"\",Table1[[#This Row],[Column16]]*Table1[[#This Row],[Column17]])","v":9},"Investigate specific causes if corrosion occurs","None.",3,3,{"$f":"IF(OR(ISBLANK(Table1[[#This Row],[Column21]]),ISBLANK(Table1[[#This Row],[Column22]])), \"\",Table1[[#This Row],[Column21]]*Table1[[#This Row],[Column22]])","v":9},"Risk not likely to change through conveyance","None",3,3,{"$f":"IF(OR(ISBLANK(Table1[[#This Row],[Column25]]),ISBLANK(Table1[[#This Row],[Column26]])), \"\",Table1[[#This Row],[Column25]]*Table1[[#This Row],[Column26]])","v":9},"No control so scores are cascaded from pre- to post-mitigated.","None",3,3,{"$f":"IF(OR(ISBLANK(Table1[[#This Row],[Column30]]),ISBLANK(Table1[[#This Row],[Column31]])), \"\",Table1[[#This Row],[Column30]]*Table1[[#This Row],[Column31]])","v":9},"Corrosivity to be understood at later stages using information from the monitoring programme. Treatment to address any corrosivity risk.","Conditioning treatment to reduce the risk of corrosivity",1,3,{"$f":"IF(OR(ISBLANK(Table1[[#This Row],[Column34]]),ISBLANK(Table1[[#This Row],[Column35]])), \"\",Table1[[#This Row],[Column34]]*Table1[[#This Row],[Column35]])","v":3},"Surface water into ground water area (Chaul End reservoir is fed by predominantly ground water sources, with some support from surface water currently) - assume risk from change in chemistry - allow for conditioning once corrosivity understood","Monitor infrastructure.",1,3,{"$f":"IF(OR(ISBLANK(Table1[[#This Row],[Column39]]),ISBLANK(Table1[[#This Row],[Column40]])), \"\",Table1[[#This Row],[Column39]]*Table1[[#This Row],[Column40]])","v":3},"Corrosivity risk may increase slightly due to blending surface water with ground water, however is unlikely to cause a significant change in risk as the greatest risk occurs when pure surface water is entered into groundwater areas.","Conditioning added to the rear end of treatment to prevent an increased risk in corrosion.",1,3,{"$f":"IF(OR(ISBLANK(Table1[[#This Row],[Column43]]),ISBLANK(Table1[[#This Row],[Column44]])), \"\",Table1[[#This Row],[Column43]]*Table1[[#This Row],[Column44]])","v":3},"None","None",1,3,{"$f":"IF(OR(ISBLANK(Table1[[#This Row],[Column48]]),ISBLANK(Table1[[#This Row],[Column49]])), \"\",Table1[[#This Row],[Column48]]*Table1[[#This Row],[Column49]])","v":3},"Risk unlikely to increase during distribution","None",1,3,{"$f":"IF(OR(ISBLANK(Table1[[#This Row],[Column52]]),ISBLANK(Table1[[#This Row],[Column53]])), \"\",Table1[[#This Row],[Column52]]*Table1[[#This Row],[Column53]])","v":3},"None","None",3,3,{"$f":"IF(OR(ISBLANK(Table1[[#This Row],[Column57]]),ISBLANK(Table1[[#This Row],[Column58]])), \"\",Table1[[#This Row],[Column57]]*Table1[[#This Row],[Column58]])","v":9},"Surface water into ground water area - assume risk from change in chemistry - allow for conditioning once corrosivity understood","None",1,3,{"$f":"IF(OR(ISBLANK(Table1[[#This Row],[Column61]]),ISBLANK(Table1[[#This Row],[Column62]])), \"\",Table1[[#This Row],[Column61]]*Table1[[#This Row],[Column62]])","v":3},"Corrosivity risk to be controlled at treatment stage .Allow for conditioning once corrosivity understood","Conditioning may be required (at WTW possibly)"]
[54,"Dirty/discoloured water ","N","Present in natural waters. No sample data currently available but expected to be during new WQ monitoring programme. Likely to be a risk.",null,null,{"$f":"IF(OR(ISBLANK(Table1[[#This Row],[Column3]]),ISBLANK(Table1[[#This Row],[Column4]])), \"\",Table1[[#This Row],[Column3]]*Table1[[#This Row],[Column4]])","v":""},null,null,null,null,{"$f":"IF(OR(ISBLANK(Table1[[#This Row],[Column7]]),ISBLANK(Table1[[#This Row],[Column8]])), \"\",Table1[[#This Row],[Column7]]*Table1[[#This Row],[Column8]])","v":""},null,null,null,null,{"$f":"IF(OR(ISBLANK(Table1[[#This Row],[Column12]]),ISBLANK(Table1[[#This Row],[Column13]])), \"\",Table1[[#This Row],[Column12]]*Table1[[#This Row],[Column13]])","v":""},null,null,null,null,{"$f":"IF(OR(ISBLANK(Table1[[#This Row],[Column16]]),ISBLANK(Table1[[#This Row],[Column17]])), \"\",Table1[[#This Row],[Column16]]*Table1[[#This Row],[Column17]])","v":""},null,null,null,null,{"$f":"IF(OR(ISBLANK(Table1[[#This Row],[Column21]]),ISBLANK(Table1[[#This Row],[Column22]])), \"\",Table1[[#This Row],[Column21]]*Table1[[#This Row],[Column22]])","v":""},null,null,null,null,{"$f":"IF(OR(ISBLANK(Table1[[#This Row],[Column25]]),ISBLANK(Table1[[#This Row],[Column26]])), \"\",Table1[[#This Row],[Column25]]*Table1[[#This Row],[Column26]])","v":""},null,null,null,null,{"$f":"IF(OR(ISBLANK(Table1[[#This Row],[Column30]]),ISBLANK(Table1[[#This Row],[Column31]])), \"\",Table1[[#This Row],[Column30]]*Table1[[#This Row],[Column31]])","v":""},null,null,null,null,{"$f":"IF(OR(ISBLANK(Table1[[#This Row],[Column34]]),ISBLANK(Table1[[#This Row],[Column35]])), \"\",Table1[[#This Row],[Column34]]*Table1[[#This Row],[Column35]])","v":""},null,null,null,null,{"$f":"IF(OR(ISBLANK(Table1[[#This Row],[Column39]]),ISBLANK(Table1[[#This Row],[Column40]])), \"\",Table1[[#This Row],[Column39]]*Table1[[#This Row],[Column40]])","v":""},null,null,null,null,{"$f":"IF(OR(ISBLANK(Table1[[#This Row],[Column43]]),ISBLANK(Table1[[#This Row],[Column44]])), \"\",Table1[[#This Row],[Column43]]*Table1[[#This Row],[Column44]])","v":""},null,null,null,null,{"$f":"IF(OR(ISBLANK(Table1[[#This Row],[Column48]]),ISBLANK(Table1[[#This Row],[Column49]])), \"\",Table1[[#This Row],[Column48]]*Table1[[#This Row],[Column49]])","v":""},null,null,null,null,{"$f":"IF(OR(ISBLANK(Table1[[#This Row],[Column52]]),ISBLANK(Table1[[#This Row],[Column53]])), \"\",Table1[[#This Row],[Column52]]*Table1[[#This Row],[Column53]])","v":""},null,null,null,null,{"$f":"IF(OR(ISBLANK(Table1[[#This Row],[Column57]]),ISBLANK(Table1[[#This Row],[Column58]])), \"\",Table1[[#This Row],[Column57]]*Table1[[#This Row],[Column58]])","v":""},null,null,null,null,{"$f":"IF(OR(ISBLANK(Table1[[#This Row],[Column61]]),ISBLANK(Table1[[#This Row],[Column62]])), \"\",Table1[[#This Row],[Column61]]*Table1[[#This Row],[Column62]])","v":""}]
[58,"Odour","N","Mainly derived from biological activity. No sample data currently available but expected to be during new WQ monitoring programme. Aesthetic risks covered under Taste.",null,null,{"$f":"IF(OR(ISBLANK(Table1[[#This Row],[Column3]]),ISBLANK(Table1[[#This Row],[Column4]])), \"\",Table1[[#This Row],[Column3]]*Table1[[#This Row],[Column4]])","v":""},null,null,null,null,{"$f":"IF(OR(ISBLANK(Table1[[#This Row],[Column7]]),ISBLANK(Table1[[#This Row],[Column8]])), \"\",Table1[[#This Row],[Column7]]*Table1[[#This Row],[Column8]])","v":""},null,null,null,null,{"$f":"IF(OR(ISBLANK(Table1[[#This Row],[Column12]]),ISBLANK(Table1[[#This Row],[Column13]])), \"\",Table1[[#This Row],[Column12]]*Table1[[#This Row],[Column13]])","v":""},null,null,null,null,{"$f":"IF(OR(ISBLANK(Table1[[#This Row],[Column16]]),ISBLANK(Table1[[#This Row],[Column17]])), \"\",Table1[[#This Row],[Column16]]*Table1[[#This Row],[Column17]])","v":""},null,null,null,null,{"$f":"IF(OR(ISBLANK(Table1[[#This Row],[Column21]]),ISBLANK(Table1[[#This Row],[Column22]])), \"\",Table1[[#This Row],[Column21]]*Table1[[#This Row],[Column22]])","v":""},null,null,null,null,{"$f":"IF(OR(ISBLANK(Table1[[#This Row],[Column25]]),ISBLANK(Table1[[#This Row],[Column26]])), \"\",Table1[[#This Row],[Column25]]*Table1[[#This Row],[Column26]])","v":""},null,null,null,null,{"$f":"IF(OR(ISBLANK(Table1[[#This Row],[Column30]]),ISBLANK(Table1[[#This Row],[Column31]])), \"\",Table1[[#This Row],[Column30]]*Table1[[#This Row],[Column31]])","v":""},null,null,null,null,{"$f":"IF(OR(ISBLANK(Table1[[#This Row],[Column34]]),ISBLANK(Table1[[#This Row],[Column35]])), \"\",Table1[[#This Row],[Column34]]*Table1[[#This Row],[Column35]])","v":""},null,null,null,null,{"$f":"IF(OR(ISBLANK(Table1[[#This Row],[Column39]]),ISBLANK(Table1[[#This Row],[Column40]])), \"\",Table1[[#This Row],[Column39]]*Table1[[#This Row],[Column40]])","v":""},null,null,null,null,{"$f":"IF(OR(ISBLANK(Table1[[#This Row],[Column43]]),ISBLANK(Table1[[#This Row],[Column44]])), \"\",Table1[[#This Row],[Column43]]*Table1[[#This Row],[Column44]])","v":""},null,null,null,null,{"$f":"IF(OR(ISBLANK(Table1[[#This Row],[Column48]]),ISBLANK(Table1[[#This Row],[Column49]])), \"\",Table1[[#This Row],[Column48]]*Table1[[#This Row],[Column49]])","v":""},null,null,null,null,{"$f":"IF(OR(ISBLANK(Table1[[#This Row],[Column52]]),ISBLANK(Table1[[#This Row],[Column53]])), \"\",Table1[[#This Row],[Column52]]*Table1[[#This Row],[Column53]])","v":""},null,null,null,null,{"$f":"IF(OR(ISBLANK(Table1[[#This Row],[Column57]]),ISBLANK(Table1[[#This Row],[Column58]])), \"\",Table1[[#This Row],[Column57]]*Table1[[#This Row],[Column58]])","v":""},null,null,null,null,{"$f":"IF(OR(ISBLANK(Table1[[#This Row],[Column61]]),ISBLANK(Table1[[#This Row],[Column62]])), \"\",Table1[[#This Row],[Column61]]*Table1[[#This Row],[Column62]])","v":""}]
[59,"Taste","Y","Mainly derived from biological activity.\n\nComment from Alice Elder during 2nd Line Assurance received 16/08/2022:\n\"On other SROs DWI have fed back that they do not consider it appropriate to score customer acceptability as green following customer engagement activities - they suggest this should remain a higher likelihood as there will be people who are unhappy with the change in their WQ in the short-term and this will recede over time.\" - Likelihood score post treatment to be reviewed during Gate 3.",4,3,{"$f":"IF(OR(ISBLANK(Table1[[#This Row],[Column3]]),ISBLANK(Table1[[#This Row],[Column4]])), \"\",Table1[[#This Row],[Column3]]*Table1[[#This Row],[Column4]])","v":12},"Expected to be a risk due to use of sewage effluent as well as change of source. Treatment and customer engagement main control methods. Note: comment from Alice Elder during 2nd line assurance on 16/08/2022 notes customer engagement unlikely to reduce risk to green. To be updated during Gate 3 workshop. \n\n","None",4,3,{"$f":"IF(OR(ISBLANK(Table1[[#This Row],[Column7]]),ISBLANK(Table1[[#This Row],[Column8]])), \"\",Table1[[#This Row],[Column7]]*Table1[[#This Row],[Column8]])","v":12},"Mitigated through treatment- scores based on judgement.","None",4,3,{"$f":"IF(OR(ISBLANK(Table1[[#This Row],[Column12]]),ISBLANK(Table1[[#This Row],[Column13]])), \"\",Table1[[#This Row],[Column12]]*Table1[[#This Row],[Column13]])","v":12},"Risk profile unlikely to change during abstraction","None",4,3,{"$f":"IF(OR(ISBLANK(Table1[[#This Row],[Column16]]),ISBLANK(Table1[[#This Row],[Column17]])), \"\",Table1[[#This Row],[Column16]]*Table1[[#This Row],[Column17]])","v":12},"Mitigated through treatment- scores based on judgement.","None.",4,3,{"$f":"IF(OR(ISBLANK(Table1[[#This Row],[Column21]]),ISBLANK(Table1[[#This Row],[Column22]])), \"\",Table1[[#This Row],[Column21]]*Table1[[#This Row],[Column22]])","v":12},"Risk not likely to change through conveyance","None",4,3,{"$f":"IF(OR(ISBLANK(Table1[[#This Row],[Column25]]),ISBLANK(Table1[[#This Row],[Column26]])), \"\",Table1[[#This Row],[Column25]]*Table1[[#This Row],[Column26]])","v":12},"No control so scores are cascaded from pre- to post-mitigated.","None",4,3,{"$f":"IF(OR(ISBLANK(Table1[[#This Row],[Column30]]),ISBLANK(Table1[[#This Row],[Column31]])), \"\",Table1[[#This Row],[Column30]]*Table1[[#This Row],[Column31]])","v":12},"Change of taste risk likely to be present in GUC SRO due to introduction of a new water source.","Oxidation, GAC/BAC and PAC. Customer engagement and consultation ",1,3,{"$f":"IF(OR(ISBLANK(Table1[[#This Row],[Column34]]),ISBLANK(Table1[[#This Row],[Column35]])), \"\",Table1[[#This Row],[Column34]]*Table1[[#This Row],[Column35]])","v":3},"Treatment likely to mitigate Taste risks","Use customer acceptability and feedback",1,3,{"$f":"IF(OR(ISBLANK(Table1[[#This Row],[Column39]]),ISBLANK(Table1[[#This Row],[Column40]])), \"\",Table1[[#This Row],[Column39]]*Table1[[#This Row],[Column40]])","v":3},"Odour may increase from poor circulation, turnover or chlorine levels","The operation of the reservoir ensures regular turnover. This complies with the requirements of our policy and PD216 Guidance on improving turnover / circulation of reservoirs & WT.",1,3,{"$f":"IF(OR(ISBLANK(Table1[[#This Row],[Column43]]),ISBLANK(Table1[[#This Row],[Column44]])), \"\",Table1[[#This Row],[Column43]]*Table1[[#This Row],[Column44]])","v":3},"Negative feedback from customers, and customer acceptability","Customer engagement regarding source change",1,3,{"$f":"IF(OR(ISBLANK(Table1[[#This Row],[Column48]]),ISBLANK(Table1[[#This Row],[Column49]])), \"\",Table1[[#This Row],[Column48]]*Table1[[#This Row],[Column49]])","v":3},"Risk unlikely to increase during distribution","None",1,3,{"$f":"IF(OR(ISBLANK(Table1[[#This Row],[Column52]]),ISBLANK(Table1[[#This Row],[Column53]])), \"\",Table1[[#This Row],[Column52]]*Table1[[#This Row],[Column53]])","v":3},"Negative feedback from customers, and customer acceptability","Customer engagement regarding source change",2,3,{"$f":"IF(OR(ISBLANK(Table1[[#This Row],[Column57]]),ISBLANK(Table1[[#This Row],[Column58]])), \"\",Table1[[#This Row],[Column57]]*Table1[[#This Row],[Column58]])","v":6},"Risk may increase due to perceived taste of new water source.","Early public consultation through the work of Britain Thinks. Engagement regarding the change of source including water sources from a canal and support from a sewage treatment works effluent. Taste tests not yet conducted with treated canal water or treated effluent.",1,3,{"$f":"IF(OR(ISBLANK(Table1[[#This Row],[Column61]]),ISBLANK(Table1[[#This Row],[Column62]])), \"\",Table1[[#This Row],[Column61]]*Table1[[#This Row],[Column62]])","v":3},"May lead to unacceptable taste to customers","Pro-active customer engagement regarding source change."]
[61,"Geosmin/2-Methylisoborneol (MIB)","N","Mainly derived from biological activity. No sample data currently available but expected to be during new WQ monitoring programme.",null,null,{"$f":"IF(OR(ISBLANK(Table1[[#This Row],[Column3]]),ISBLANK(Table1[[#This Row],[Column4]])), \"\",Table1[[#This Row],[Column3]]*Table1[[#This Row],[Column4]])","v":""},null,null,null,null,{"$f":"IF(OR(ISBLANK(Table1[[#This Row],[Column7]]),ISBLANK(Table1[[#This Row],[Column8]])), \"\",Table1[[#This Row],[Column7]]*Table1[[#This Row],[Column8]])","v":""},null,null,null,null,{"$f":"IF(OR(ISBLANK(Table1[[#This Row],[Column12]]),ISBLANK(Table1[[#This Row],[Column13]])), \"\",Table1[[#This Row],[Column12]]*Table1[[#This Row],[Column13]])","v":""},null,null,null,null,{"$f":"IF(OR(ISBLANK(Table1[[#This Row],[Column16]]),ISBLANK(Table1[[#This Row],[Column17]])), \"\",Table1[[#This Row],[Column16]]*Table1[[#This Row],[Column17]])","v":""},null,null,null,null,{"$f":"IF(OR(ISBLANK(Table1[[#This Row],[Column21]]),ISBLANK(Table1[[#This Row],[Column22]])), \"\",Table1[[#This Row],[Column21]]*Table1[[#This Row],[Column22]])","v":""},null,null,null,null,{"$f":"IF(OR(ISBLANK(Table1[[#This Row],[Column25]]),ISBLANK(Table1[[#This Row],[Column26]])), \"\",Table1[[#This Row],[Column25]]*Table1[[#This Row],[Column26]])","v":""},null,null,null,null,{"$f":"IF(OR(ISBLANK(Table1[[#This Row],[Column30]]),ISBLANK(Table1[[#This Row],[Column31]])), \"\",Table1[[#This Row],[Column30]]*Table1[[#This Row],[Column31]])","v":""},null,null,null,null,{"$f":"IF(OR(ISBLANK(Table1[[#This Row],[Column34]]),ISBLANK(Table1[[#This Row],[Column35]])), \"\",Table1[[#This Row],[Column34]]*Table1[[#This Row],[Column35]])","v":""},null,null,null,null,{"$f":"IF(OR(ISBLANK(Table1[[#This Row],[Column39]]),ISBLANK(Table1[[#This Row],[Column40]])), \"\",Table1[[#This Row],[Column39]]*Table1[[#This Row],[Column40]])","v":""},null,null,null,null,{"$f":"IF(OR(ISBLANK(Table1[[#This Row],[Column43]]),ISBLANK(Table1[[#This Row],[Column44]])), \"\",Table1[[#This Row],[Column43]]*Table1[[#This Row],[Column44]])","v":""},null,null,null,null,{"$f":"IF(OR(ISBLANK(Table1[[#This Row],[Column48]]),ISBLANK(Table1[[#This Row],[Column49]])), \"\",Table1[[#This Row],[Column48]]*Table1[[#This Row],[Column49]])","v":""},null,null,null,null,{"$f":"IF(OR(ISBLANK(Table1[[#This Row],[Column52]]),ISBLANK(Table1[[#This Row],[Column53]])), \"\",Table1[[#This Row],[Column52]]*Table1[[#This Row],[Column53]])","v":""},null,null,null,null,{"$f":"IF(OR(ISBLANK(Table1[[#This Row],[Column57]]),ISBLANK(Table1[[#This Row],[Column58]])), \"\",Table1[[#This Row],[Column57]]*Table1[[#This Row],[Column58]])","v":""},null,null,null,null,{"$f":"IF(OR(ISBLANK(Table1[[#This Row],[Column61]]),ISBLANK(Table1[[#This Row],[Column62]])), \"\",Table1[[#This Row],[Column61]]*Table1[[#This Row],[Column62]])","v":""}]
[null,"Impact of operational changes","N","Caused by changes in operation.",null,null,{"$f":"IF(OR(ISBLANK(Table1[[#This Row],[Column3]]),ISBLANK(Table1[[#This Row],[Column4]])), \"\",Table1[[#This Row],[Column3]]*Table1[[#This Row],[Column4]])","v":""},null,null,null,null,{"$f":"IF(OR(ISBLANK(Table1[[#This Row],[Column7]]),ISBLANK(Table1[[#This Row],[Column8]])), \"\",Table1[[#This Row],[Column7]]*Table1[[#This Row],[Column8]])","v":""},null,null,null,null,{"$f":"IF(OR(ISBLANK(Table1[[#This Row],[Column12]]),ISBLANK(Table1[[#This Row],[Column13]])), \"\",Table1[[#This Row],[Column12]]*Table1[[#This Row],[Column13]])","v":""},null,null,null,null,{"$f":"IF(OR(ISBLANK(Table1[[#This Row],[Column16]]),ISBLANK(Table1[[#This Row],[Column17]])), \"\",Table1[[#This Row],[Column16]]*Table1[[#This Row],[Column17]])","v":""},null,null,null,null,{"$f":"IF(OR(ISBLANK(Table1[[#This Row],[Column21]]),ISBLANK(Table1[[#This Row],[Column22]])), \"\",Table1[[#This Row],[Column21]]*Table1[[#This Row],[Column22]])","v":""},null,null,null,null,{"$f":"IF(OR(ISBLANK(Table1[[#This Row],[Column25]]),ISBLANK(Table1[[#This Row],[Column26]])), \"\",Table1[[#This Row],[Column25]]*Table1[[#This Row],[Column26]])","v":""},null,null,null,null,{"$f":"IF(OR(ISBLANK(Table1[[#This Row],[Column30]]),ISBLANK(Table1[[#This Row],[Column31]])), \"\",Table1[[#This Row],[Column30]]*Table1[[#This Row],[Column31]])","v":""},null,null,null,null,{"$f":"IF(OR(ISBLANK(Table1[[#This Row],[Column34]]),ISBLANK(Table1[[#This Row],[Column35]])), \"\",Table1[[#This Row],[Column34]]*Table1[[#This Row],[Column35]])","v":""},null,null,null,null,{"$f":"IF(OR(ISBLANK(Table1[[#This Row],[Column39]]),ISBLANK(Table1[[#This Row],[Column40]])), \"\",Table1[[#This Row],[Column39]]*Table1[[#This Row],[Column40]])","v":""},null,null,null,null,{"$f":"IF(OR(ISBLANK(Table1[[#This Row],[Column43]]),ISBLANK(Table1[[#This Row],[Column44]])), \"\",Table1[[#This Row],[Column43]]*Table1[[#This Row],[Column44]])","v":""},null,null,null,null,{"$f":"IF(OR(ISBLANK(Table1[[#This Row],[Column48]]),ISBLANK(Table1[[#This Row],[Column49]])), \"\",Table1[[#This Row],[Column48]]*Table1[[#This Row],[Column49]])","v":""},null,null,null,null,{"$f":"IF(OR(ISBLANK(Table1[[#This Row],[Column52]]),ISBLANK(Table1[[#This Row],[Column53]])), \"\",Table1[[#This Row],[Column52]]*Table1[[#This Row],[Column53]])","v":""},null,null,null,null,{"$f":"IF(OR(ISBLANK(Table1[[#This Row],[Column57]]),ISBLANK(Table1[[#This Row],[Column58]])), \"\",Table1[[#This Row],[Column57]]*Table1[[#This Row],[Column58]])","v":""},null,null,null,null,{"$f":"IF(OR(ISBLANK(Table1[[#This Row],[Column61]]),ISBLANK(Table1[[#This Row],[Column62]])), \"\",Table1[[#This Row],[Column61]]*Table1[[#This Row],[Column62]])","v":""}]
[63,"Change in hardness/Alkalinity","N","Caused by changes with new sources of water. No analysis has been undertaken.",null,null,{"$f":"IF(OR(ISBLANK(Table1[[#This Row],[Column3]]),ISBLANK(Table1[[#This Row],[Column4]])), \"\",Table1[[#This Row],[Column3]]*Table1[[#This Row],[Column4]])","v":""},null,null,null,null,{"$f":"IF(OR(ISBLANK(Table1[[#This Row],[Column7]]),ISBLANK(Table1[[#This Row],[Column8]])), \"\",Table1[[#This Row],[Column7]]*Table1[[#This Row],[Column8]])","v":""},null,null,null,null,{"$f":"IF(OR(ISBLANK(Table1[[#This Row],[Column12]]),ISBLANK(Table1[[#This Row],[Column13]])), \"\",Table1[[#This Row],[Column12]]*Table1[[#This Row],[Column13]])","v":""},null,null,null,null,{"$f":"IF(OR(ISBLANK(Table1[[#This Row],[Column16]]),ISBLANK(Table1[[#This Row],[Column17]])), \"\",Table1[[#This Row],[Column16]]*Table1[[#This Row],[Column17]])","v":""},null,null,null,null,{"$f":"IF(OR(ISBLANK(Table1[[#This Row],[Column21]]),ISBLANK(Table1[[#This Row],[Column22]])), \"\",Table1[[#This Row],[Column21]]*Table1[[#This Row],[Column22]])","v":""},null,null,null,null,{"$f":"IF(OR(ISBLANK(Table1[[#This Row],[Column25]]),ISBLANK(Table1[[#This Row],[Column26]])), \"\",Table1[[#This Row],[Column25]]*Table1[[#This Row],[Column26]])","v":""},null,null,null,null,{"$f":"IF(OR(ISBLANK(Table1[[#This Row],[Column30]]),ISBLANK(Table1[[#This Row],[Column31]])), \"\",Table1[[#This Row],[Column30]]*Table1[[#This Row],[Column31]])","v":""},null,null,null,null,{"$f":"IF(OR(ISBLANK(Table1[[#This Row],[Column34]]),ISBLANK(Table1[[#This Row],[Column35]])), \"\",Table1[[#This Row],[Column34]]*Table1[[#This Row],[Column35]])","v":""},null,null,null,null,{"$f":"IF(OR(ISBLANK(Table1[[#This Row],[Column39]]),ISBLANK(Table1[[#This Row],[Column40]])), \"\",Table1[[#This Row],[Column39]]*Table1[[#This Row],[Column40]])","v":""},null,null,null,null,{"$f":"IF(OR(ISBLANK(Table1[[#This Row],[Column43]]),ISBLANK(Table1[[#This Row],[Column44]])), \"\",Table1[[#This Row],[Column43]]*Table1[[#This Row],[Column44]])","v":""},null,null,null,null,{"$f":"IF(OR(ISBLANK(Table1[[#This Row],[Column48]]),ISBLANK(Table1[[#This Row],[Column49]])), \"\",Table1[[#This Row],[Column48]]*Table1[[#This Row],[Column49]])","v":""},null,null,null,null,{"$f":"IF(OR(ISBLANK(Table1[[#This Row],[Column52]]),ISBLANK(Table1[[#This Row],[Column53]])), \"\",Table1[[#This Row],[Column52]]*Table1[[#This Row],[Column53]])","v":""},null,null,null,null,{"$f":"IF(OR(ISBLANK(Table1[[#This Row],[Column57]]),ISBLANK(Table1[[#This Row],[Column58]])), \"\",Table1[[#This Row],[Column57]]*Table1[[#This Row],[Column58]])","v":""},null,null,null,null,{"$f":"IF(OR(ISBLANK(Table1[[#This Row],[Column61]]),ISBLANK(Table1[[#This Row],[Column62]])), \"\",Table1[[#This Row],[Column61]]*Table1[[#This Row],[Column62]])","v":""}]
[64,"Change in source type (e.g. surface - groundwater)","N","Surface water remains the only source. Receiving Reservoirs likely fed by groundwater sources currently. Taste and Corrosivity risks cover.",null,null,{"$f":"IF(OR(ISBLANK(Table1[[#This Row],[Column3]]),ISBLANK(Table1[[#This Row],[Column4]])), \"\",Table1[[#This Row],[Column3]]*Table1[[#This Row],[Column4]])","v":""},null,null,null,null,{"$f":"IF(OR(ISBLANK(Table1[[#This Row],[Column7]]),ISBLANK(Table1[[#This Row],[Column8]])), \"\",Table1[[#This Row],[Column7]]*Table1[[#This Row],[Column8]])","v":""},null,null,null,null,{"$f":"IF(OR(ISBLANK(Table1[[#This Row],[Column12]]),ISBLANK(Table1[[#This Row],[Column13]])), \"\",Table1[[#This Row],[Column12]]*Table1[[#This Row],[Column13]])","v":""},null,null,null,null,{"$f":"IF(OR(ISBLANK(Table1[[#This Row],[Column16]]),ISBLANK(Table1[[#This Row],[Column17]])), \"\",Table1[[#This Row],[Column16]]*Table1[[#This Row],[Column17]])","v":""},null,null,null,null,{"$f":"IF(OR(ISBLANK(Table1[[#This Row],[Column21]]),ISBLANK(Table1[[#This Row],[Column22]])), \"\",Table1[[#This Row],[Column21]]*Table1[[#This Row],[Column22]])","v":""},null,null,null,null,{"$f":"IF(OR(ISBLANK(Table1[[#This Row],[Column25]]),ISBLANK(Table1[[#This Row],[Column26]])), \"\",Table1[[#This Row],[Column25]]*Table1[[#This Row],[Column26]])","v":""},null,null,null,null,{"$f":"IF(OR(ISBLANK(Table1[[#This Row],[Column30]]),ISBLANK(Table1[[#This Row],[Column31]])), \"\",Table1[[#This Row],[Column30]]*Table1[[#This Row],[Column31]])","v":""},null,null,null,null,{"$f":"IF(OR(ISBLANK(Table1[[#This Row],[Column34]]),ISBLANK(Table1[[#This Row],[Column35]])), \"\",Table1[[#This Row],[Column34]]*Table1[[#This Row],[Column35]])","v":""},null,null,null,null,{"$f":"IF(OR(ISBLANK(Table1[[#This Row],[Column39]]),ISBLANK(Table1[[#This Row],[Column40]])), \"\",Table1[[#This Row],[Column39]]*Table1[[#This Row],[Column40]])","v":""},null,null,null,null,{"$f":"IF(OR(ISBLANK(Table1[[#This Row],[Column43]]),ISBLANK(Table1[[#This Row],[Column44]])), \"\",Table1[[#This Row],[Column43]]*Table1[[#This Row],[Column44]])","v":""},null,null,null,null,{"$f":"IF(OR(ISBLANK(Table1[[#This Row],[Column48]]),ISBLANK(Table1[[#This Row],[Column49]])), \"\",Table1[[#This Row],[Column48]]*Table1[[#This Row],[Column49]])","v":""},null,null,null,null,{"$f":"IF(OR(ISBLANK(Table1[[#This Row],[Column52]]),ISBLANK(Table1[[#This Row],[Column53]])), \"\",Table1[[#This Row],[Column52]]*Table1[[#This Row],[Column53]])","v":""},null,null,null,null,{"$f":"IF(OR(ISBLANK(Table1[[#This Row],[Column57]]),ISBLANK(Table1[[#This Row],[Column58]])), \"\",Table1[[#This Row],[Column57]]*Table1[[#This Row],[Column58]])","v":""},null,null,null,null,{"$f":"IF(OR(ISBLANK(Table1[[#This Row],[Column61]]),ISBLANK(Table1[[#This Row],[Column62]])), \"\",Table1[[#This Row],[Column61]]*Table1[[#This Row],[Column62]])","v":""}]
[65,"Change to disinfection chemicals","N","Only relevant from treatment stage onward.",null,null,{"$f":"IF(OR(ISBLANK(Table1[[#This Row],[Column3]]),ISBLANK(Table1[[#This Row],[Column4]])), \"\",Table1[[#This Row],[Column3]]*Table1[[#This Row],[Column4]])","v":""},null,null,null,null,{"$f":"IF(OR(ISBLANK(Table1[[#This Row],[Column7]]),ISBLANK(Table1[[#This Row],[Column8]])), \"\",Table1[[#This Row],[Column7]]*Table1[[#This Row],[Column8]])","v":""},null,null,null,null,{"$f":"IF(OR(ISBLANK(Table1[[#This Row],[Column12]]),ISBLANK(Table1[[#This Row],[Column13]])), \"\",Table1[[#This Row],[Column12]]*Table1[[#This Row],[Column13]])","v":""},null,null,null,null,{"$f":"IF(OR(ISBLANK(Table1[[#This Row],[Column16]]),ISBLANK(Table1[[#This Row],[Column17]])), \"\",Table1[[#This Row],[Column16]]*Table1[[#This Row],[Column17]])","v":""},null,null,null,null,{"$f":"IF(OR(ISBLANK(Table1[[#This Row],[Column21]]),ISBLANK(Table1[[#This Row],[Column22]])), \"\",Table1[[#This Row],[Column21]]*Table1[[#This Row],[Column22]])","v":""},null,null,null,null,{"$f":"IF(OR(ISBLANK(Table1[[#This Row],[Column25]]),ISBLANK(Table1[[#This Row],[Column26]])), \"\",Table1[[#This Row],[Column25]]*Table1[[#This Row],[Column26]])","v":""},null,null,null,null,{"$f":"IF(OR(ISBLANK(Table1[[#This Row],[Column30]]),ISBLANK(Table1[[#This Row],[Column31]])), \"\",Table1[[#This Row],[Column30]]*Table1[[#This Row],[Column31]])","v":""},null,null,null,null,{"$f":"IF(OR(ISBLANK(Table1[[#This Row],[Column34]]),ISBLANK(Table1[[#This Row],[Column35]])), \"\",Table1[[#This Row],[Column34]]*Table1[[#This Row],[Column35]])","v":""},null,null,null,null,{"$f":"IF(OR(ISBLANK(Table1[[#This Row],[Column39]]),ISBLANK(Table1[[#This Row],[Column40]])), \"\",Table1[[#This Row],[Column39]]*Table1[[#This Row],[Column40]])","v":""},null,null,null,null,{"$f":"IF(OR(ISBLANK(Table1[[#This Row],[Column43]]),ISBLANK(Table1[[#This Row],[Column44]])), \"\",Table1[[#This Row],[Column43]]*Table1[[#This Row],[Column44]])","v":""},null,null,null,null,{"$f":"IF(OR(ISBLANK(Table1[[#This Row],[Column48]]),ISBLANK(Table1[[#This Row],[Column49]])), \"\",Table1[[#This Row],[Column48]]*Table1[[#This Row],[Column49]])","v":""},null,null,null,null,{"$f":"IF(OR(ISBLANK(Table1[[#This Row],[Column52]]),ISBLANK(Table1[[#This Row],[Column53]])), \"\",Table1[[#This Row],[Column52]]*Table1[[#This Row],[Column53]])","v":""},null,null,null,null,{"$f":"IF(OR(ISBLANK(Table1[[#This Row],[Column57]]),ISBLANK(Table1[[#This Row],[Column58]])), \"\",Table1[[#This Row],[Column57]]*Table1[[#This Row],[Column58]])","v":""},null,null,null,null,{"$f":"IF(OR(ISBLANK(Table1[[#This Row],[Column61]]),ISBLANK(Table1[[#This Row],[Column62]])), \"\",Table1[[#This Row],[Column61]]*Table1[[#This Row],[Column62]])","v":""}]
[null,"Parameters used in design",null,null,null,null,{"$f":"IF(OR(ISBLANK(Table1[[#This Row],[Column3]]),ISBLANK(Table1[[#This Row],[Column4]])), \"\",Table1[[#This Row],[Column3]]*Table1[[#This Row],[Column4]])","v":""},null,null,null,null,{"$f":"IF(OR(ISBLANK(Table1[[#This Row],[Column7]]),ISBLANK(Table1[[#This Row],[Column8]])), \"\",Table1[[#This Row],[Column7]]*Table1[[#This Row],[Column8]])","v":""},null,null,null,null,{"$f":"IF(OR(ISBLANK(Table1[[#This Row],[Column12]]),ISBLANK(Table1[[#This Row],[Column13]])), \"\",Table1[[#This Row],[Column12]]*Table1[[#This Row],[Column13]])","v":""},null,null,null,null,{"$f":"IF(OR(ISBLANK(Table1[[#This Row],[Column16]]),ISBLANK(Table1[[#This Row],[Column17]])), \"\",Table1[[#This Row],[Column16]]*Table1[[#This Row],[Column17]])","v":""},null,null,null,null,{"$f":"IF(OR(ISBLANK(Table1[[#This Row],[Column21]]),ISBLANK(Table1[[#This Row],[Column22]])), \"\",Table1[[#This Row],[Column21]]*Table1[[#This Row],[Column22]])","v":""},null,null,null,null,{"$f":"IF(OR(ISBLANK(Table1[[#This Row],[Column25]]),ISBLANK(Table1[[#This Row],[Column26]])), \"\",Table1[[#This Row],[Column25]]*Table1[[#This Row],[Column26]])","v":""},null,null,null,null,{"$f":"IF(OR(ISBLANK(Table1[[#This Row],[Column30]]),ISBLANK(Table1[[#This Row],[Column31]])), \"\",Table1[[#This Row],[Column30]]*Table1[[#This Row],[Column31]])","v":""},null,null,null,null,{"$f":"IF(OR(ISBLANK(Table1[[#This Row],[Column34]]),ISBLANK(Table1[[#This Row],[Column35]])), \"\",Table1[[#This Row],[Column34]]*Table1[[#This Row],[Column35]])","v":""},null,null,null,null,{"$f":"IF(OR(ISBLANK(Table1[[#This Row],[Column39]]),ISBLANK(Table1[[#This Row],[Column40]])), \"\",Table1[[#This Row],[Column39]]*Table1[[#This Row],[Column40]])","v":""},null,null,null,null,{"$f":"IF(OR(ISBLANK(Table1[[#This Row],[Column43]]),ISBLANK(Table1[[#This Row],[Column44]])), \"\",Table1[[#This Row],[Column43]]*Table1[[#This Row],[Column44]])","v":""},null,null,null,null,{"$f":"IF(OR(ISBLANK(Table1[[#This Row],[Column48]]),ISBLANK(Table1[[#This Row],[Column49]])), \"\",Table1[[#This Row],[Column48]]*Table1[[#This Row],[Column49]])","v":""},null,null,null,null,{"$f":"IF(OR(ISBLANK(Table1[[#This Row],[Column52]]),ISBLANK(Table1[[#This Row],[Column53]])), \"\",Table1[[#This Row],[Column52]]*Table1[[#This Row],[Column53]])","v":""},null,null,null,null,{"$f":"IF(OR(ISBLANK(Table1[[#This Row],[Column57]]),ISBLANK(Table1[[#This Row],[Column58]])), \"\",Table1[[#This Row],[Column57]]*Table1[[#This Row],[Column58]])","v":""},null,null,null,null,{"$f":"IF(OR(ISBLANK(Table1[[#This Row],[Column61]]),ISBLANK(Table1[[#This Row],[Column62]])), \"\",Table1[[#This Row],[Column61]]*Table1[[#This Row],[Column62]])","v":""}]
[66,"1,4-dioxane","N","Used in Industrial Solvents. No sample data currently available but expected to be during new WQ monitoring programme.",null,null,{"$f":"IF(OR(ISBLANK(Table1[[#This Row],[Column3]]),ISBLANK(Table1[[#This Row],[Column4]])), \"\",Table1[[#This Row],[Column3]]*Table1[[#This Row],[Column4]])","v":""},null,null,null,null,{"$f":"IF(OR(ISBLANK(Table1[[#This Row],[Column7]]),ISBLANK(Table1[[#This Row],[Column8]])), \"\",Table1[[#This Row],[Column7]]*Table1[[#This Row],[Column8]])","v":""},null,null,null,null,{"$f":"IF(OR(ISBLANK(Table1[[#This Row],[Column12]]),ISBLANK(Table1[[#This Row],[Column13]])), \"\",Table1[[#This Row],[Column12]]*Table1[[#This Row],[Column13]])","v":""},null,null,null,null,{"$f":"IF(OR(ISBLANK(Table1[[#This Row],[Column16]]),ISBLANK(Table1[[#This Row],[Column17]])), \"\",Table1[[#This Row],[Column16]]*Table1[[#This Row],[Column17]])","v":""},null,null,null,null,{"$f":"IF(OR(ISBLANK(Table1[[#This Row],[Column21]]),ISBLANK(Table1[[#This Row],[Column22]])), \"\",Table1[[#This Row],[Column21]]*Table1[[#This Row],[Column22]])","v":""},null,null,null,null,{"$f":"IF(OR(ISBLANK(Table1[[#This Row],[Column25]]),ISBLANK(Table1[[#This Row],[Column26]])), \"\",Table1[[#This Row],[Column25]]*Table1[[#This Row],[Column26]])","v":""},null,null,null,null,{"$f":"IF(OR(ISBLANK(Table1[[#This Row],[Column30]]),ISBLANK(Table1[[#This Row],[Column31]])), \"\",Table1[[#This Row],[Column30]]*Table1[[#This Row],[Column31]])","v":""},null,null,null,null,{"$f":"IF(OR(ISBLANK(Table1[[#This Row],[Column34]]),ISBLANK(Table1[[#This Row],[Column35]])), \"\",Table1[[#This Row],[Column34]]*Table1[[#This Row],[Column35]])","v":""},null,null,null,null,{"$f":"IF(OR(ISBLANK(Table1[[#This Row],[Column39]]),ISBLANK(Table1[[#This Row],[Column40]])), \"\",Table1[[#This Row],[Column39]]*Table1[[#This Row],[Column40]])","v":""},null,null,null,null,{"$f":"IF(OR(ISBLANK(Table1[[#This Row],[Column43]]),ISBLANK(Table1[[#This Row],[Column44]])), \"\",Table1[[#This Row],[Column43]]*Table1[[#This Row],[Column44]])","v":""},null,null,null,null,{"$f":"IF(OR(ISBLANK(Table1[[#This Row],[Column48]]),ISBLANK(Table1[[#This Row],[Column49]])), \"\",Table1[[#This Row],[Column48]]*Table1[[#This Row],[Column49]])","v":""},null,null,null,null,{"$f":"IF(OR(ISBLANK(Table1[[#This Row],[Column52]]),ISBLANK(Table1[[#This Row],[Column53]])), \"\",Table1[[#This Row],[Column52]]*Table1[[#This Row],[Column53]])","v":""},null,null,null,null,{"$f":"IF(OR(ISBLANK(Table1[[#This Row],[Column57]]),ISBLANK(Table1[[#This Row],[Column58]])), \"\",Table1[[#This Row],[Column57]]*Table1[[#This Row],[Column58]])","v":""},null,null,null,null,{"$f":"IF(OR(ISBLANK(Table1[[#This Row],[Column61]]),ISBLANK(Table1[[#This Row],[Column62]])), \"\",Table1[[#This Row],[Column61]]*Table1[[#This Row],[Column62]])","v":""}]
[67,"Alkalinity ","N","Derived from Geology.\n\nAlkalinity in the GUC measured as 264mg/l (WSP).",null,null,{"$f":"IF(OR(ISBLANK(Table1[[#This Row],[Column3]]),ISBLANK(Table1[[#This Row],[Column4]])), \"\",Table1[[#This Row],[Column3]]*Table1[[#This Row],[Column4]])","v":""},null,null,null,null,{"$f":"IF(OR(ISBLANK(Table1[[#This Row],[Column7]]),ISBLANK(Table1[[#This Row],[Column8]])), \"\",Table1[[#This Row],[Column7]]*Table1[[#This Row],[Column8]])","v":""},null,null,null,null,{"$f":"IF(OR(ISBLANK(Table1[[#This Row],[Column12]]),ISBLANK(Table1[[#This Row],[Column13]])), \"\",Table1[[#This Row],[Column12]]*Table1[[#This Row],[Column13]])","v":""},null,null,null,null,{"$f":"IF(OR(ISBLANK(Table1[[#This Row],[Column16]]),ISBLANK(Table1[[#This Row],[Column17]])), \"\",Table1[[#This Row],[Column16]]*Table1[[#This Row],[Column17]])","v":""},null,null,null,null,{"$f":"IF(OR(ISBLANK(Table1[[#This Row],[Column21]]),ISBLANK(Table1[[#This Row],[Column22]])), \"\",Table1[[#This Row],[Column21]]*Table1[[#This Row],[Column22]])","v":""},null,null,null,null,{"$f":"IF(OR(ISBLANK(Table1[[#This Row],[Column25]]),ISBLANK(Table1[[#This Row],[Column26]])), \"\",Table1[[#This Row],[Column25]]*Table1[[#This Row],[Column26]])","v":""},null,null,null,null,{"$f":"IF(OR(ISBLANK(Table1[[#This Row],[Column30]]),ISBLANK(Table1[[#This Row],[Column31]])), \"\",Table1[[#This Row],[Column30]]*Table1[[#This Row],[Column31]])","v":""},null,null,null,null,{"$f":"IF(OR(ISBLANK(Table1[[#This Row],[Column34]]),ISBLANK(Table1[[#This Row],[Column35]])), \"\",Table1[[#This Row],[Column34]]*Table1[[#This Row],[Column35]])","v":""},null,null,null,null,{"$f":"IF(OR(ISBLANK(Table1[[#This Row],[Column39]]),ISBLANK(Table1[[#This Row],[Column40]])), \"\",Table1[[#This Row],[Column39]]*Table1[[#This Row],[Column40]])","v":""},null,null,null,null,{"$f":"IF(OR(ISBLANK(Table1[[#This Row],[Column43]]),ISBLANK(Table1[[#This Row],[Column44]])), \"\",Table1[[#This Row],[Column43]]*Table1[[#This Row],[Column44]])","v":""},null,null,null,null,{"$f":"IF(OR(ISBLANK(Table1[[#This Row],[Column48]]),ISBLANK(Table1[[#This Row],[Column49]])), \"\",Table1[[#This Row],[Column48]]*Table1[[#This Row],[Column49]])","v":""},null,null,null,null,{"$f":"IF(OR(ISBLANK(Table1[[#This Row],[Column52]]),ISBLANK(Table1[[#This Row],[Column53]])), \"\",Table1[[#This Row],[Column52]]*Table1[[#This Row],[Column53]])","v":""},null,null,null,null,{"$f":"IF(OR(ISBLANK(Table1[[#This Row],[Column57]]),ISBLANK(Table1[[#This Row],[Column58]])), \"\",Table1[[#This Row],[Column57]]*Table1[[#This Row],[Column58]])","v":""},null,null,null,null,{"$f":"IF(OR(ISBLANK(Table1[[#This Row],[Column61]]),ISBLANK(Table1[[#This Row],[Column62]])), \"\",Table1[[#This Row],[Column61]]*Table1[[#This Row],[Column62]])","v":""}]
[68,"Pathogens - Bacteria, Viruses, Protozoa","Y","Derived from sewage, livestock and wildlife.\n\nlimiting hazard selected in addition to other microbiological  parameters above (e.g. E.coli / Enterococci, Crypto) to describe virus risk in particular, noting significance of this in effluent reuse scheme",5,5,{"$f":"IF(OR(ISBLANK(Table1[[#This Row],[Column3]]),ISBLANK(Table1[[#This Row],[Column4]])), \"\",Table1[[#This Row],[Column3]]*Table1[[#This Row],[Column4]])","v":25},"Likely to be high due to the Minworth WwTW effluent reuse.\n\nSomatic Coliphages at Site 1 Minworth Effluent max value of 13pfu/ml, mean 3.2pfu/ml, above proposed DWD limit of 0.50pfu/ml","None",5,5,{"$f":"IF(OR(ISBLANK(Table1[[#This Row],[Column7]]),ISBLANK(Table1[[#This Row],[Column8]])), \"\",Table1[[#This Row],[Column7]]*Table1[[#This Row],[Column8]])","v":25},"Control through treatment","None",5,5,{"$f":"IF(OR(ISBLANK(Table1[[#This Row],[Column12]]),ISBLANK(Table1[[#This Row],[Column13]])), \"\",Table1[[#This Row],[Column12]]*Table1[[#This Row],[Column13]])","v":25},"Risk profile unlikely to change during abstraction","None",5,5,{"$f":"IF(OR(ISBLANK(Table1[[#This Row],[Column16]]),ISBLANK(Table1[[#This Row],[Column17]])), \"\",Table1[[#This Row],[Column16]]*Table1[[#This Row],[Column17]])","v":25},"Control through treatment.","None.",5,5,{"$f":"IF(OR(ISBLANK(Table1[[#This Row],[Column21]]),ISBLANK(Table1[[#This Row],[Column22]])), \"\",Table1[[#This Row],[Column21]]*Table1[[#This Row],[Column22]])","v":25},"Risk not likely to change through conveyance","None",5,5,{"$f":"IF(OR(ISBLANK(Table1[[#This Row],[Column25]]),ISBLANK(Table1[[#This Row],[Column26]])), \"\",Table1[[#This Row],[Column25]]*Table1[[#This Row],[Column26]])","v":25},"No control so scores are cascaded from pre- to post-mitigated.","None",5,5,{"$f":"IF(OR(ISBLANK(Table1[[#This Row],[Column30]]),ISBLANK(Table1[[#This Row],[Column31]])), \"\",Table1[[#This Row],[Column30]]*Table1[[#This Row],[Column31]])","v":25},"Not sampled but expected to be high risk.","Risk mitigated through Coagulation and flocculation, UF membrane filtration, UV Disinfection and Chlorination",1,5,{"$f":"IF(OR(ISBLANK(Table1[[#This Row],[Column34]]),ISBLANK(Table1[[#This Row],[Column35]])), \"\",Table1[[#This Row],[Column34]]*Table1[[#This Row],[Column35]])","v":5},"Mitigated through multiple barriers, can cause harm to human health.","Continue monitoring",1,5,{"$f":"IF(OR(ISBLANK(Table1[[#This Row],[Column39]]),ISBLANK(Table1[[#This Row],[Column40]])), \"\",Table1[[#This Row],[Column39]]*Table1[[#This Row],[Column40]])","v":5},"Risk unlikely to increase through to storage","Included in the Company's Reservoir inspection programme. A roof flood test is part of the inspection process. Full details of requirements of inspection included in AM309. The last internal inspection was carried out in December 2014.",1,5,{"$f":"IF(OR(ISBLANK(Table1[[#This Row],[Column43]]),ISBLANK(Table1[[#This Row],[Column44]])), \"\",Table1[[#This Row],[Column43]]*Table1[[#This Row],[Column44]])","v":5},"Reduce risk ","Continue Inspection",1,5,{"$f":"IF(OR(ISBLANK(Table1[[#This Row],[Column48]]),ISBLANK(Table1[[#This Row],[Column49]])), \"\",Table1[[#This Row],[Column48]]*Table1[[#This Row],[Column49]])","v":5},"Risk unlikely to increase during distribution","None",1,5,{"$f":"IF(OR(ISBLANK(Table1[[#This Row],[Column52]]),ISBLANK(Table1[[#This Row],[Column53]])), \"\",Table1[[#This Row],[Column52]]*Table1[[#This Row],[Column53]])","v":5},"Due the change in source from ground water to surface water, there is an inherent change in the levels of risk of this hazard to the consumer, however there will be an active management process throughout the development of this scheme minimising the risk to the consumer.","None",1,5,{"$f":"IF(OR(ISBLANK(Table1[[#This Row],[Column57]]),ISBLANK(Table1[[#This Row],[Column58]])), \"\",Table1[[#This Row],[Column57]]*Table1[[#This Row],[Column58]])","v":5},"Risk unlikely to change through to customer taps","None",1,5,{"$f":"IF(OR(ISBLANK(Table1[[#This Row],[Column61]]),ISBLANK(Table1[[#This Row],[Column62]])), \"\",Table1[[#This Row],[Column61]]*Table1[[#This Row],[Column62]])","v":5},"Due the change in source from ground water to surface water, there is an inherent change in the levels of risk of this hazard to the consumer, however there will be an active management process throughout the development of this scheme minimising the risk to the consumer.","None"]
[69,"Calcium ","N","Derived from Geology. \n\nSampled concentrations <130mg/l (WSP).",null,null,{"$f":"IF(OR(ISBLANK(Table1[[#This Row],[Column3]]),ISBLANK(Table1[[#This Row],[Column4]])), \"\",Table1[[#This Row],[Column3]]*Table1[[#This Row],[Column4]])","v":""},null,null,null,null,{"$f":"IF(OR(ISBLANK(Table1[[#This Row],[Column7]]),ISBLANK(Table1[[#This Row],[Column8]])), \"\",Table1[[#This Row],[Column7]]*Table1[[#This Row],[Column8]])","v":""},null,null,null,null,{"$f":"IF(OR(ISBLANK(Table1[[#This Row],[Column12]]),ISBLANK(Table1[[#This Row],[Column13]])), \"\",Table1[[#This Row],[Column12]]*Table1[[#This Row],[Column13]])","v":""},null,null,null,null,{"$f":"IF(OR(ISBLANK(Table1[[#This Row],[Column16]]),ISBLANK(Table1[[#This Row],[Column17]])), \"\",Table1[[#This Row],[Column16]]*Table1[[#This Row],[Column17]])","v":""},null,null,null,null,{"$f":"IF(OR(ISBLANK(Table1[[#This Row],[Column21]]),ISBLANK(Table1[[#This Row],[Column22]])), \"\",Table1[[#This Row],[Column21]]*Table1[[#This Row],[Column22]])","v":""},null,null,null,null,{"$f":"IF(OR(ISBLANK(Table1[[#This Row],[Column25]]),ISBLANK(Table1[[#This Row],[Column26]])), \"\",Table1[[#This Row],[Column25]]*Table1[[#This Row],[Column26]])","v":""},null,null,null,null,{"$f":"IF(OR(ISBLANK(Table1[[#This Row],[Column30]]),ISBLANK(Table1[[#This Row],[Column31]])), \"\",Table1[[#This Row],[Column30]]*Table1[[#This Row],[Column31]])","v":""},null,null,null,null,{"$f":"IF(OR(ISBLANK(Table1[[#This Row],[Column34]]),ISBLANK(Table1[[#This Row],[Column35]])), \"\",Table1[[#This Row],[Column34]]*Table1[[#This Row],[Column35]])","v":""},null,null,null,null,{"$f":"IF(OR(ISBLANK(Table1[[#This Row],[Column39]]),ISBLANK(Table1[[#This Row],[Column40]])), \"\",Table1[[#This Row],[Column39]]*Table1[[#This Row],[Column40]])","v":""},null,null,null,null,{"$f":"IF(OR(ISBLANK(Table1[[#This Row],[Column43]]),ISBLANK(Table1[[#This Row],[Column44]])), \"\",Table1[[#This Row],[Column43]]*Table1[[#This Row],[Column44]])","v":""},null,null,null,null,{"$f":"IF(OR(ISBLANK(Table1[[#This Row],[Column48]]),ISBLANK(Table1[[#This Row],[Column49]])), \"\",Table1[[#This Row],[Column48]]*Table1[[#This Row],[Column49]])","v":""},null,null,null,null,{"$f":"IF(OR(ISBLANK(Table1[[#This Row],[Column52]]),ISBLANK(Table1[[#This Row],[Column53]])), \"\",Table1[[#This Row],[Column52]]*Table1[[#This Row],[Column53]])","v":""},null,null,null,null,{"$f":"IF(OR(ISBLANK(Table1[[#This Row],[Column57]]),ISBLANK(Table1[[#This Row],[Column58]])), \"\",Table1[[#This Row],[Column57]]*Table1[[#This Row],[Column58]])","v":""},null,null,null,null,{"$f":"IF(OR(ISBLANK(Table1[[#This Row],[Column61]]),ISBLANK(Table1[[#This Row],[Column62]])), \"\",Table1[[#This Row],[Column61]]*Table1[[#This Row],[Column62]])","v":""}]
[70,"Dissolved organic carbon ","N","Derived from biological activity in soils and terrestrial and aquatic ecosystems.\n\nSampled concentrations <5.0mg/l",null,null,{"$f":"IF(OR(ISBLANK(Table1[[#This Row],[Column3]]),ISBLANK(Table1[[#This Row],[Column4]])), \"\",Table1[[#This Row],[Column3]]*Table1[[#This Row],[Column4]])","v":""},null,null,null,null,{"$f":"IF(OR(ISBLANK(Table1[[#This Row],[Column7]]),ISBLANK(Table1[[#This Row],[Column8]])), \"\",Table1[[#This Row],[Column7]]*Table1[[#This Row],[Column8]])","v":""},null,null,null,null,{"$f":"IF(OR(ISBLANK(Table1[[#This Row],[Column12]]),ISBLANK(Table1[[#This Row],[Column13]])), \"\",Table1[[#This Row],[Column12]]*Table1[[#This Row],[Column13]])","v":""},null,null,null,null,{"$f":"IF(OR(ISBLANK(Table1[[#This Row],[Column16]]),ISBLANK(Table1[[#This Row],[Column17]])), \"\",Table1[[#This Row],[Column16]]*Table1[[#This Row],[Column17]])","v":""},null,null,null,null,{"$f":"IF(OR(ISBLANK(Table1[[#This Row],[Column21]]),ISBLANK(Table1[[#This Row],[Column22]])), \"\",Table1[[#This Row],[Column21]]*Table1[[#This Row],[Column22]])","v":""},null,null,null,null,{"$f":"IF(OR(ISBLANK(Table1[[#This Row],[Column25]]),ISBLANK(Table1[[#This Row],[Column26]])), \"\",Table1[[#This Row],[Column25]]*Table1[[#This Row],[Column26]])","v":""},null,null,null,null,{"$f":"IF(OR(ISBLANK(Table1[[#This Row],[Column30]]),ISBLANK(Table1[[#This Row],[Column31]])), \"\",Table1[[#This Row],[Column30]]*Table1[[#This Row],[Column31]])","v":""},null,null,null,null,{"$f":"IF(OR(ISBLANK(Table1[[#This Row],[Column34]]),ISBLANK(Table1[[#This Row],[Column35]])), \"\",Table1[[#This Row],[Column34]]*Table1[[#This Row],[Column35]])","v":""},null,null,null,null,{"$f":"IF(OR(ISBLANK(Table1[[#This Row],[Column39]]),ISBLANK(Table1[[#This Row],[Column40]])), \"\",Table1[[#This Row],[Column39]]*Table1[[#This Row],[Column40]])","v":""},null,null,null,null,{"$f":"IF(OR(ISBLANK(Table1[[#This Row],[Column43]]),ISBLANK(Table1[[#This Row],[Column44]])), \"\",Table1[[#This Row],[Column43]]*Table1[[#This Row],[Column44]])","v":""},null,null,null,null,{"$f":"IF(OR(ISBLANK(Table1[[#This Row],[Column48]]),ISBLANK(Table1[[#This Row],[Column49]])), \"\",Table1[[#This Row],[Column48]]*Table1[[#This Row],[Column49]])","v":""},null,null,null,null,{"$f":"IF(OR(ISBLANK(Table1[[#This Row],[Column52]]),ISBLANK(Table1[[#This Row],[Column53]])), \"\",Table1[[#This Row],[Column52]]*Table1[[#This Row],[Column53]])","v":""},null,null,null,null,{"$f":"IF(OR(ISBLANK(Table1[[#This Row],[Column57]]),ISBLANK(Table1[[#This Row],[Column58]])), \"\",Table1[[#This Row],[Column57]]*Table1[[#This Row],[Column58]])","v":""},null,null,null,null,{"$f":"IF(OR(ISBLANK(Table1[[#This Row],[Column61]]),ISBLANK(Table1[[#This Row],[Column62]])), \"\",Table1[[#This Row],[Column61]]*Table1[[#This Row],[Column62]])","v":""}]
[72,"Magnesium ","N","Derived from geology. No sample data currently available but expected to be during new WQ monitoring programme.",null,null,{"$f":"IF(OR(ISBLANK(Table1[[#This Row],[Column3]]),ISBLANK(Table1[[#This Row],[Column4]])), \"\",Table1[[#This Row],[Column3]]*Table1[[#This Row],[Column4]])","v":""},null,null,null,null,{"$f":"IF(OR(ISBLANK(Table1[[#This Row],[Column7]]),ISBLANK(Table1[[#This Row],[Column8]])), \"\",Table1[[#This Row],[Column7]]*Table1[[#This Row],[Column8]])","v":""},null,null,null,null,{"$f":"IF(OR(ISBLANK(Table1[[#This Row],[Column12]]),ISBLANK(Table1[[#This Row],[Column13]])), \"\",Table1[[#This Row],[Column12]]*Table1[[#This Row],[Column13]])","v":""},null,null,null,null,{"$f":"IF(OR(ISBLANK(Table1[[#This Row],[Column16]]),ISBLANK(Table1[[#This Row],[Column17]])), \"\",Table1[[#This Row],[Column16]]*Table1[[#This Row],[Column17]])","v":""},null,null,null,null,{"$f":"IF(OR(ISBLANK(Table1[[#This Row],[Column21]]),ISBLANK(Table1[[#This Row],[Column22]])), \"\",Table1[[#This Row],[Column21]]*Table1[[#This Row],[Column22]])","v":""},null,null,null,null,{"$f":"IF(OR(ISBLANK(Table1[[#This Row],[Column25]]),ISBLANK(Table1[[#This Row],[Column26]])), \"\",Table1[[#This Row],[Column25]]*Table1[[#This Row],[Column26]])","v":""},null,null,null,null,{"$f":"IF(OR(ISBLANK(Table1[[#This Row],[Column30]]),ISBLANK(Table1[[#This Row],[Column31]])), \"\",Table1[[#This Row],[Column30]]*Table1[[#This Row],[Column31]])","v":""},null,null,null,null,{"$f":"IF(OR(ISBLANK(Table1[[#This Row],[Column34]]),ISBLANK(Table1[[#This Row],[Column35]])), \"\",Table1[[#This Row],[Column34]]*Table1[[#This Row],[Column35]])","v":""},null,null,null,null,{"$f":"IF(OR(ISBLANK(Table1[[#This Row],[Column39]]),ISBLANK(Table1[[#This Row],[Column40]])), \"\",Table1[[#This Row],[Column39]]*Table1[[#This Row],[Column40]])","v":""},null,null,null,null,{"$f":"IF(OR(ISBLANK(Table1[[#This Row],[Column43]]),ISBLANK(Table1[[#This Row],[Column44]])), \"\",Table1[[#This Row],[Column43]]*Table1[[#This Row],[Column44]])","v":""},null,null,null,null,{"$f":"IF(OR(ISBLANK(Table1[[#This Row],[Column48]]),ISBLANK(Table1[[#This Row],[Column49]])), \"\",Table1[[#This Row],[Column48]]*Table1[[#This Row],[Column49]])","v":""},null,null,null,null,{"$f":"IF(OR(ISBLANK(Table1[[#This Row],[Column52]]),ISBLANK(Table1[[#This Row],[Column53]])), \"\",Table1[[#This Row],[Column52]]*Table1[[#This Row],[Column53]])","v":""},null,null,null,null,{"$f":"IF(OR(ISBLANK(Table1[[#This Row],[Column57]]),ISBLANK(Table1[[#This Row],[Column58]])), \"\",Table1[[#This Row],[Column57]]*Table1[[#This Row],[Column58]])","v":""},null,null,null,null,{"$f":"IF(OR(ISBLANK(Table1[[#This Row],[Column61]]),ISBLANK(Table1[[#This Row],[Column62]])), \"\",Table1[[#This Row],[Column61]]*Table1[[#This Row],[Column62]])","v":""}]
[73,"N-Nitrosodimethylamine (NDMA)","N","Industrial by-product. No sample data currently available but expected to be during new WQ monitoring programme.",null,null,{"$f":"IF(OR(ISBLANK(Table1[[#This Row],[Column3]]),ISBLANK(Table1[[#This Row],[Column4]])), \"\",Table1[[#This Row],[Column3]]*Table1[[#This Row],[Column4]])","v":""},null,null,null,null,{"$f":"IF(OR(ISBLANK(Table1[[#This Row],[Column7]]),ISBLANK(Table1[[#This Row],[Column8]])), \"\",Table1[[#This Row],[Column7]]*Table1[[#This Row],[Column8]])","v":""},null,null,null,null,{"$f":"IF(OR(ISBLANK(Table1[[#This Row],[Column12]]),ISBLANK(Table1[[#This Row],[Column13]])), \"\",Table1[[#This Row],[Column12]]*Table1[[#This Row],[Column13]])","v":""},null,null,null,null,{"$f":"IF(OR(ISBLANK(Table1[[#This Row],[Column16]]),ISBLANK(Table1[[#This Row],[Column17]])), \"\",Table1[[#This Row],[Column16]]*Table1[[#This Row],[Column17]])","v":""},null,null,null,null,{"$f":"IF(OR(ISBLANK(Table1[[#This Row],[Column21]]),ISBLANK(Table1[[#This Row],[Column22]])), \"\",Table1[[#This Row],[Column21]]*Table1[[#This Row],[Column22]])","v":""},null,null,null,null,{"$f":"IF(OR(ISBLANK(Table1[[#This Row],[Column25]]),ISBLANK(Table1[[#This Row],[Column26]])), \"\",Table1[[#This Row],[Column25]]*Table1[[#This Row],[Column26]])","v":""},null,null,null,null,{"$f":"IF(OR(ISBLANK(Table1[[#This Row],[Column30]]),ISBLANK(Table1[[#This Row],[Column31]])), \"\",Table1[[#This Row],[Column30]]*Table1[[#This Row],[Column31]])","v":""},null,null,null,null,{"$f":"IF(OR(ISBLANK(Table1[[#This Row],[Column34]]),ISBLANK(Table1[[#This Row],[Column35]])), \"\",Table1[[#This Row],[Column34]]*Table1[[#This Row],[Column35]])","v":""},null,null,null,null,{"$f":"IF(OR(ISBLANK(Table1[[#This Row],[Column39]]),ISBLANK(Table1[[#This Row],[Column40]])), \"\",Table1[[#This Row],[Column39]]*Table1[[#This Row],[Column40]])","v":""},null,null,null,null,{"$f":"IF(OR(ISBLANK(Table1[[#This Row],[Column43]]),ISBLANK(Table1[[#This Row],[Column44]])), \"\",Table1[[#This Row],[Column43]]*Table1[[#This Row],[Column44]])","v":""},null,null,null,null,{"$f":"IF(OR(ISBLANK(Table1[[#This Row],[Column48]]),ISBLANK(Table1[[#This Row],[Column49]])), \"\",Table1[[#This Row],[Column48]]*Table1[[#This Row],[Column49]])","v":""},null,null,null,null,{"$f":"IF(OR(ISBLANK(Table1[[#This Row],[Column52]]),ISBLANK(Table1[[#This Row],[Column53]])), \"\",Table1[[#This Row],[Column52]]*Table1[[#This Row],[Column53]])","v":""},null,null,null,null,{"$f":"IF(OR(ISBLANK(Table1[[#This Row],[Column57]]),ISBLANK(Table1[[#This Row],[Column58]])), \"\",Table1[[#This Row],[Column57]]*Table1[[#This Row],[Column58]])","v":""},null,null,null,null,{"$f":"IF(OR(ISBLANK(Table1[[#This Row],[Column61]]),ISBLANK(Table1[[#This Row],[Column62]])), \"\",Table1[[#This Row],[Column61]]*Table1[[#This Row],[Column62]])","v":""}]
[74,"Nitrosamines","N","Industrial by-product. No sample data currently available but expected to be during new WQ monitoring programme.",null,null,{"$f":"IF(OR(ISBLANK(Table1[[#This Row],[Column3]]),ISBLANK(Table1[[#This Row],[Column4]])), \"\",Table1[[#This Row],[Column3]]*Table1[[#This Row],[Column4]])","v":""},null,null,null,null,{"$f":"IF(OR(ISBLANK(Table1[[#This Row],[Column7]]),ISBLANK(Table1[[#This Row],[Column8]])), \"\",Table1[[#This Row],[Column7]]*Table1[[#This Row],[Column8]])","v":""},null,null,null,null,{"$f":"IF(OR(ISBLANK(Table1[[#This Row],[Column12]]),ISBLANK(Table1[[#This Row],[Column13]])), \"\",Table1[[#This Row],[Column12]]*Table1[[#This Row],[Column13]])","v":""},null,null,null,null,{"$f":"IF(OR(ISBLANK(Table1[[#This Row],[Column16]]),ISBLANK(Table1[[#This Row],[Column17]])), \"\",Table1[[#This Row],[Column16]]*Table1[[#This Row],[Column17]])","v":""},null,null,null,null,{"$f":"IF(OR(ISBLANK(Table1[[#This Row],[Column21]]),ISBLANK(Table1[[#This Row],[Column22]])), \"\",Table1[[#This Row],[Column21]]*Table1[[#This Row],[Column22]])","v":""},null,null,null,null,{"$f":"IF(OR(ISBLANK(Table1[[#This Row],[Column25]]),ISBLANK(Table1[[#This Row],[Column26]])), \"\",Table1[[#This Row],[Column25]]*Table1[[#This Row],[Column26]])","v":""},null,null,null,null,{"$f":"IF(OR(ISBLANK(Table1[[#This Row],[Column30]]),ISBLANK(Table1[[#This Row],[Column31]])), \"\",Table1[[#This Row],[Column30]]*Table1[[#This Row],[Column31]])","v":""},null,null,null,null,{"$f":"IF(OR(ISBLANK(Table1[[#This Row],[Column34]]),ISBLANK(Table1[[#This Row],[Column35]])), \"\",Table1[[#This Row],[Column34]]*Table1[[#This Row],[Column35]])","v":""},null,null,null,null,{"$f":"IF(OR(ISBLANK(Table1[[#This Row],[Column39]]),ISBLANK(Table1[[#This Row],[Column40]])), \"\",Table1[[#This Row],[Column39]]*Table1[[#This Row],[Column40]])","v":""},null,null,null,null,{"$f":"IF(OR(ISBLANK(Table1[[#This Row],[Column43]]),ISBLANK(Table1[[#This Row],[Column44]])), \"\",Table1[[#This Row],[Column43]]*Table1[[#This Row],[Column44]])","v":""},null,null,null,null,{"$f":"IF(OR(ISBLANK(Table1[[#This Row],[Column48]]),ISBLANK(Table1[[#This Row],[Column49]])), \"\",Table1[[#This Row],[Column48]]*Table1[[#This Row],[Column49]])","v":""},null,null,null,null,{"$f":"IF(OR(ISBLANK(Table1[[#This Row],[Column52]]),ISBLANK(Table1[[#This Row],[Column53]])), \"\",Table1[[#This Row],[Column52]]*Table1[[#This Row],[Column53]])","v":""},null,null,null,null,{"$f":"IF(OR(ISBLANK(Table1[[#This Row],[Column57]]),ISBLANK(Table1[[#This Row],[Column58]])), \"\",Table1[[#This Row],[Column57]]*Table1[[#This Row],[Column58]])","v":""},null,null,null,null,{"$f":"IF(OR(ISBLANK(Table1[[#This Row],[Column61]]),ISBLANK(Table1[[#This Row],[Column62]])), \"\",Table1[[#This Row],[Column61]]*Table1[[#This Row],[Column62]])","v":""}]
[75,"Orthophosphate ","N","Corrosion inhibitors, Phosphates also derived primarily from sewage and agriculture. No sample data currently available but expected to be during new WQ monitoring programme.",null,null,{"$f":"IF(OR(ISBLANK(Table1[[#This Row],[Column3]]),ISBLANK(Table1[[#This Row],[Column4]])), \"\",Table1[[#This Row],[Column3]]*Table1[[#This Row],[Column4]])","v":""},null,null,null,null,{"$f":"IF(OR(ISBLANK(Table1[[#This Row],[Column7]]),ISBLANK(Table1[[#This Row],[Column8]])), \"\",Table1[[#This Row],[Column7]]*Table1[[#This Row],[Column8]])","v":""},null,null,null,null,{"$f":"IF(OR(ISBLANK(Table1[[#This Row],[Column12]]),ISBLANK(Table1[[#This Row],[Column13]])), \"\",Table1[[#This Row],[Column12]]*Table1[[#This Row],[Column13]])","v":""},null,null,null,null,{"$f":"IF(OR(ISBLANK(Table1[[#This Row],[Column16]]),ISBLANK(Table1[[#This Row],[Column17]])), \"\",Table1[[#This Row],[Column16]]*Table1[[#This Row],[Column17]])","v":""},null,null,null,null,{"$f":"IF(OR(ISBLANK(Table1[[#This Row],[Column21]]),ISBLANK(Table1[[#This Row],[Column22]])), \"\",Table1[[#This Row],[Column21]]*Table1[[#This Row],[Column22]])","v":""},null,null,null,null,{"$f":"IF(OR(ISBLANK(Table1[[#This Row],[Column25]]),ISBLANK(Table1[[#This Row],[Column26]])), \"\",Table1[[#This Row],[Column25]]*Table1[[#This Row],[Column26]])","v":""},null,null,null,null,{"$f":"IF(OR(ISBLANK(Table1[[#This Row],[Column30]]),ISBLANK(Table1[[#This Row],[Column31]])), \"\",Table1[[#This Row],[Column30]]*Table1[[#This Row],[Column31]])","v":""},null,null,null,null,{"$f":"IF(OR(ISBLANK(Table1[[#This Row],[Column34]]),ISBLANK(Table1[[#This Row],[Column35]])), \"\",Table1[[#This Row],[Column34]]*Table1[[#This Row],[Column35]])","v":""},null,null,null,null,{"$f":"IF(OR(ISBLANK(Table1[[#This Row],[Column39]]),ISBLANK(Table1[[#This Row],[Column40]])), \"\",Table1[[#This Row],[Column39]]*Table1[[#This Row],[Column40]])","v":""},null,null,null,null,{"$f":"IF(OR(ISBLANK(Table1[[#This Row],[Column43]]),ISBLANK(Table1[[#This Row],[Column44]])), \"\",Table1[[#This Row],[Column43]]*Table1[[#This Row],[Column44]])","v":""},null,null,null,null,{"$f":"IF(OR(ISBLANK(Table1[[#This Row],[Column48]]),ISBLANK(Table1[[#This Row],[Column49]])), \"\",Table1[[#This Row],[Column48]]*Table1[[#This Row],[Column49]])","v":""},null,null,null,null,{"$f":"IF(OR(ISBLANK(Table1[[#This Row],[Column52]]),ISBLANK(Table1[[#This Row],[Column53]])), \"\",Table1[[#This Row],[Column52]]*Table1[[#This Row],[Column53]])","v":""},null,null,null,null,{"$f":"IF(OR(ISBLANK(Table1[[#This Row],[Column57]]),ISBLANK(Table1[[#This Row],[Column58]])), \"\",Table1[[#This Row],[Column57]]*Table1[[#This Row],[Column58]])","v":""},null,null,null,null,{"$f":"IF(OR(ISBLANK(Table1[[#This Row],[Column61]]),ISBLANK(Table1[[#This Row],[Column62]])), \"\",Table1[[#This Row],[Column61]]*Table1[[#This Row],[Column62]])","v":""}]
[76,"Silica","N","Derived from geology. No sample data currently available but expected to be during new WQ monitoring programme.",null,null,{"$f":"IF(OR(ISBLANK(Table1[[#This Row],[Column3]]),ISBLANK(Table1[[#This Row],[Column4]])), \"\",Table1[[#This Row],[Column3]]*Table1[[#This Row],[Column4]])","v":""},null,null,null,null,{"$f":"IF(OR(ISBLANK(Table1[[#This Row],[Column7]]),ISBLANK(Table1[[#This Row],[Column8]])), \"\",Table1[[#This Row],[Column7]]*Table1[[#This Row],[Column8]])","v":""},null,null,null,null,{"$f":"IF(OR(ISBLANK(Table1[[#This Row],[Column12]]),ISBLANK(Table1[[#This Row],[Column13]])), \"\",Table1[[#This Row],[Column12]]*Table1[[#This Row],[Column13]])","v":""},null,null,null,null,{"$f":"IF(OR(ISBLANK(Table1[[#This Row],[Column16]]),ISBLANK(Table1[[#This Row],[Column17]])), \"\",Table1[[#This Row],[Column16]]*Table1[[#This Row],[Column17]])","v":""},null,null,null,null,{"$f":"IF(OR(ISBLANK(Table1[[#This Row],[Column21]]),ISBLANK(Table1[[#This Row],[Column22]])), \"\",Table1[[#This Row],[Column21]]*Table1[[#This Row],[Column22]])","v":""},null,null,null,null,{"$f":"IF(OR(ISBLANK(Table1[[#This Row],[Column25]]),ISBLANK(Table1[[#This Row],[Column26]])), \"\",Table1[[#This Row],[Column25]]*Table1[[#This Row],[Column26]])","v":""},null,null,null,null,{"$f":"IF(OR(ISBLANK(Table1[[#This Row],[Column30]]),ISBLANK(Table1[[#This Row],[Column31]])), \"\",Table1[[#This Row],[Column30]]*Table1[[#This Row],[Column31]])","v":""},null,null,null,null,{"$f":"IF(OR(ISBLANK(Table1[[#This Row],[Column34]]),ISBLANK(Table1[[#This Row],[Column35]])), \"\",Table1[[#This Row],[Column34]]*Table1[[#This Row],[Column35]])","v":""},null,null,null,null,{"$f":"IF(OR(ISBLANK(Table1[[#This Row],[Column39]]),ISBLANK(Table1[[#This Row],[Column40]])), \"\",Table1[[#This Row],[Column39]]*Table1[[#This Row],[Column40]])","v":""},null,null,null,null,{"$f":"IF(OR(ISBLANK(Table1[[#This Row],[Column43]]),ISBLANK(Table1[[#This Row],[Column44]])), \"\",Table1[[#This Row],[Column43]]*Table1[[#This Row],[Column44]])","v":""},null,null,null,null,{"$f":"IF(OR(ISBLANK(Table1[[#This Row],[Column48]]),ISBLANK(Table1[[#This Row],[Column49]])), \"\",Table1[[#This Row],[Column48]]*Table1[[#This Row],[Column49]])","v":""},null,null,null,null,{"$f":"IF(OR(ISBLANK(Table1[[#This Row],[Column52]]),ISBLANK(Table1[[#This Row],[Column53]])), \"\",Table1[[#This Row],[Column52]]*Table1[[#This Row],[Column53]])","v":""},null,null,null,null,{"$f":"IF(OR(ISBLANK(Table1[[#This Row],[Column57]]),ISBLANK(Table1[[#This Row],[Column58]])), \"\",Table1[[#This Row],[Column57]]*Table1[[#This Row],[Column58]])","v":""},null,null,null,null,{"$f":"IF(OR(ISBLANK(Table1[[#This Row],[Column61]]),ISBLANK(Table1[[#This Row],[Column62]])), \"\",Table1[[#This Row],[Column61]]*Table1[[#This Row],[Column62]])","v":""}]
[77,"Strontium ","N","Derived from geology. No sample data currently available but expected to be during new WQ monitoring programme.",null,null,{"$f":"IF(OR(ISBLANK(Table1[[#This Row],[Column3]]),ISBLANK(Table1[[#This Row],[Column4]])), \"\",Table1[[#This Row],[Column3]]*Table1[[#This Row],[Column4]])","v":""},null,null,null,null,{"$f":"IF(OR(ISBLANK(Table1[[#This Row],[Column7]]),ISBLANK(Table1[[#This Row],[Column8]])), \"\",Table1[[#This Row],[Column7]]*Table1[[#This Row],[Column8]])","v":""},null,null,null,null,{"$f":"IF(OR(ISBLANK(Table1[[#This Row],[Column12]]),ISBLANK(Table1[[#This Row],[Column13]])), \"\",Table1[[#This Row],[Column12]]*Table1[[#This Row],[Column13]])","v":""},null,null,null,null,{"$f":"IF(OR(ISBLANK(Table1[[#This Row],[Column16]]),ISBLANK(Table1[[#This Row],[Column17]])), \"\",Table1[[#This Row],[Column16]]*Table1[[#This Row],[Column17]])","v":""},null,null,null,null,{"$f":"IF(OR(ISBLANK(Table1[[#This Row],[Column21]]),ISBLANK(Table1[[#This Row],[Column22]])), \"\",Table1[[#This Row],[Column21]]*Table1[[#This Row],[Column22]])","v":""},null,null,null,null,{"$f":"IF(OR(ISBLANK(Table1[[#This Row],[Column25]]),ISBLANK(Table1[[#This Row],[Column26]])), \"\",Table1[[#This Row],[Column25]]*Table1[[#This Row],[Column26]])","v":""},null,null,null,null,{"$f":"IF(OR(ISBLANK(Table1[[#This Row],[Column30]]),ISBLANK(Table1[[#This Row],[Column31]])), \"\",Table1[[#This Row],[Column30]]*Table1[[#This Row],[Column31]])","v":""},null,null,null,null,{"$f":"IF(OR(ISBLANK(Table1[[#This Row],[Column34]]),ISBLANK(Table1[[#This Row],[Column35]])), \"\",Table1[[#This Row],[Column34]]*Table1[[#This Row],[Column35]])","v":""},null,null,null,null,{"$f":"IF(OR(ISBLANK(Table1[[#This Row],[Column39]]),ISBLANK(Table1[[#This Row],[Column40]])), \"\",Table1[[#This Row],[Column39]]*Table1[[#This Row],[Column40]])","v":""},null,null,null,null,{"$f":"IF(OR(ISBLANK(Table1[[#This Row],[Column43]]),ISBLANK(Table1[[#This Row],[Column44]])), \"\",Table1[[#This Row],[Column43]]*Table1[[#This Row],[Column44]])","v":""},null,null,null,null,{"$f":"IF(OR(ISBLANK(Table1[[#This Row],[Column48]]),ISBLANK(Table1[[#This Row],[Column49]])), \"\",Table1[[#This Row],[Column48]]*Table1[[#This Row],[Column49]])","v":""},null,null,null,null,{"$f":"IF(OR(ISBLANK(Table1[[#This Row],[Column52]]),ISBLANK(Table1[[#This Row],[Column53]])), \"\",Table1[[#This Row],[Column52]]*Table1[[#This Row],[Column53]])","v":""},null,null,null,null,{"$f":"IF(OR(ISBLANK(Table1[[#This Row],[Column57]]),ISBLANK(Table1[[#This Row],[Column58]])), \"\",Table1[[#This Row],[Column57]]*Table1[[#This Row],[Column58]])","v":""},null,null,null,null,{"$f":"IF(OR(ISBLANK(Table1[[#This Row],[Column61]]),ISBLANK(Table1[[#This Row],[Column62]])), \"\",Table1[[#This Row],[Column61]]*Table1[[#This Row],[Column62]])","v":""}]
[78,"Temperature ","N","Many environmental controls. Determined from many environmental factors.",null,null,{"$f":"IF(OR(ISBLANK(Table1[[#This Row],[Column3]]),ISBLANK(Table1[[#This Row],[Column4]])), \"\",Table1[[#This Row],[Column3]]*Table1[[#This Row],[Column4]])","v":""},null,null,null,null,{"$f":"IF(OR(ISBLANK(Table1[[#This Row],[Column7]]),ISBLANK(Table1[[#This Row],[Column8]])), \"\",Table1[[#This Row],[Column7]]*Table1[[#This Row],[Column8]])","v":""},null,null,null,null,{"$f":"IF(OR(ISBLANK(Table1[[#This Row],[Column12]]),ISBLANK(Table1[[#This Row],[Column13]])), \"\",Table1[[#This Row],[Column12]]*Table1[[#This Row],[Column13]])","v":""},null,null,null,null,{"$f":"IF(OR(ISBLANK(Table1[[#This Row],[Column16]]),ISBLANK(Table1[[#This Row],[Column17]])), \"\",Table1[[#This Row],[Column16]]*Table1[[#This Row],[Column17]])","v":""},null,null,null,null,{"$f":"IF(OR(ISBLANK(Table1[[#This Row],[Column21]]),ISBLANK(Table1[[#This Row],[Column22]])), \"\",Table1[[#This Row],[Column21]]*Table1[[#This Row],[Column22]])","v":""},null,null,null,null,{"$f":"IF(OR(ISBLANK(Table1[[#This Row],[Column25]]),ISBLANK(Table1[[#This Row],[Column26]])), \"\",Table1[[#This Row],[Column25]]*Table1[[#This Row],[Column26]])","v":""},null,null,null,null,{"$f":"IF(OR(ISBLANK(Table1[[#This Row],[Column30]]),ISBLANK(Table1[[#This Row],[Column31]])), \"\",Table1[[#This Row],[Column30]]*Table1[[#This Row],[Column31]])","v":""},null,null,null,null,{"$f":"IF(OR(ISBLANK(Table1[[#This Row],[Column34]]),ISBLANK(Table1[[#This Row],[Column35]])), \"\",Table1[[#This Row],[Column34]]*Table1[[#This Row],[Column35]])","v":""},null,null,null,null,{"$f":"IF(OR(ISBLANK(Table1[[#This Row],[Column39]]),ISBLANK(Table1[[#This Row],[Column40]])), \"\",Table1[[#This Row],[Column39]]*Table1[[#This Row],[Column40]])","v":""},null,null,null,null,{"$f":"IF(OR(ISBLANK(Table1[[#This Row],[Column43]]),ISBLANK(Table1[[#This Row],[Column44]])), \"\",Table1[[#This Row],[Column43]]*Table1[[#This Row],[Column44]])","v":""},null,null,null,null,{"$f":"IF(OR(ISBLANK(Table1[[#This Row],[Column48]]),ISBLANK(Table1[[#This Row],[Column49]])), \"\",Table1[[#This Row],[Column48]]*Table1[[#This Row],[Column49]])","v":""},null,null,null,null,{"$f":"IF(OR(ISBLANK(Table1[[#This Row],[Column52]]),ISBLANK(Table1[[#This Row],[Column53]])), \"\",Table1[[#This Row],[Column52]]*Table1[[#This Row],[Column53]])","v":""},null,null,null,null,{"$f":"IF(OR(ISBLANK(Table1[[#This Row],[Column57]]),ISBLANK(Table1[[#This Row],[Column58]])), \"\",Table1[[#This Row],[Column57]]*Table1[[#This Row],[Column58]])","v":""},null,null,null,null,{"$f":"IF(OR(ISBLANK(Table1[[#This Row],[Column61]]),ISBLANK(Table1[[#This Row],[Column62]])), \"\",Table1[[#This Row],[Column61]]*Table1[[#This Row],[Column62]])","v":""}]
[81,"Total Organic Carbon  (TOC) ","N","Natural organic matter derived from biological activity in the catchments. Environmental risk.\n\nMeasured at 6.9mg/l, above the recommended operational guideline (WSP)",null,null,{"$f":"IF(OR(ISBLANK(Table1[[#This Row],[Column3]]),ISBLANK(Table1[[#This Row],[Column4]])), \"\",Table1[[#This Row],[Column3]]*Table1[[#This Row],[Column4]])","v":""},null,null,null,null,{"$f":"IF(OR(ISBLANK(Table1[[#This Row],[Column7]]),ISBLANK(Table1[[#This Row],[Column8]])), \"\",Table1[[#This Row],[Column7]]*Table1[[#This Row],[Column8]])","v":""},null,null,null,null,{"$f":"IF(OR(ISBLANK(Table1[[#This Row],[Column12]]),ISBLANK(Table1[[#This Row],[Column13]])), \"\",Table1[[#This Row],[Column12]]*Table1[[#This Row],[Column13]])","v":""},null,null,null,null,{"$f":"IF(OR(ISBLANK(Table1[[#This Row],[Column16]]),ISBLANK(Table1[[#This Row],[Column17]])), \"\",Table1[[#This Row],[Column16]]*Table1[[#This Row],[Column17]])","v":""},null,null,null,null,{"$f":"IF(OR(ISBLANK(Table1[[#This Row],[Column21]]),ISBLANK(Table1[[#This Row],[Column22]])), \"\",Table1[[#This Row],[Column21]]*Table1[[#This Row],[Column22]])","v":""},null,null,null,null,{"$f":"IF(OR(ISBLANK(Table1[[#This Row],[Column25]]),ISBLANK(Table1[[#This Row],[Column26]])), \"\",Table1[[#This Row],[Column25]]*Table1[[#This Row],[Column26]])","v":""},null,null,null,null,{"$f":"IF(OR(ISBLANK(Table1[[#This Row],[Column30]]),ISBLANK(Table1[[#This Row],[Column31]])), \"\",Table1[[#This Row],[Column30]]*Table1[[#This Row],[Column31]])","v":""},null,null,null,null,{"$f":"IF(OR(ISBLANK(Table1[[#This Row],[Column34]]),ISBLANK(Table1[[#This Row],[Column35]])), \"\",Table1[[#This Row],[Column34]]*Table1[[#This Row],[Column35]])","v":""},null,null,null,null,{"$f":"IF(OR(ISBLANK(Table1[[#This Row],[Column39]]),ISBLANK(Table1[[#This Row],[Column40]])), \"\",Table1[[#This Row],[Column39]]*Table1[[#This Row],[Column40]])","v":""},null,null,null,null,{"$f":"IF(OR(ISBLANK(Table1[[#This Row],[Column43]]),ISBLANK(Table1[[#This Row],[Column44]])), \"\",Table1[[#This Row],[Column43]]*Table1[[#This Row],[Column44]])","v":""},null,null,null,null,{"$f":"IF(OR(ISBLANK(Table1[[#This Row],[Column48]]),ISBLANK(Table1[[#This Row],[Column49]])), \"\",Table1[[#This Row],[Column48]]*Table1[[#This Row],[Column49]])","v":""},null,null,null,null,{"$f":"IF(OR(ISBLANK(Table1[[#This Row],[Column52]]),ISBLANK(Table1[[#This Row],[Column53]])), \"\",Table1[[#This Row],[Column52]]*Table1[[#This Row],[Column53]])","v":""},null,null,null,null,{"$f":"IF(OR(ISBLANK(Table1[[#This Row],[Column57]]),ISBLANK(Table1[[#This Row],[Column58]])), \"\",Table1[[#This Row],[Column57]]*Table1[[#This Row],[Column58]])","v":""},null,null,null,null,{"$f":"IF(OR(ISBLANK(Table1[[#This Row],[Column61]]),ISBLANK(Table1[[#This Row],[Column62]])), \"\",Table1[[#This Row],[Column61]]*Table1[[#This Row],[Column62]])","v":""}]
[82,"Total Suspended Solids (TSS)","N","Derived from sediment transport from catchment.\n\nConcentration in GUC measured at 36 mg/l (GUC)",null,null,{"$f":"IF(OR(ISBLANK(Table1[[#This Row],[Column3]]),ISBLANK(Table1[[#This Row],[Column4]])), \"\",Table1[[#This Row],[Column3]]*Table1[[#This Row],[Column4]])","v":""},null,null,null,null,{"$f":"IF(OR(ISBLANK(Table1[[#This Row],[Column7]]),ISBLANK(Table1[[#This Row],[Column8]])), \"\",Table1[[#This Row],[Column7]]*Table1[[#This Row],[Column8]])","v":""},null,null,null,null,{"$f":"IF(OR(ISBLANK(Table1[[#This Row],[Column12]]),ISBLANK(Table1[[#This Row],[Column13]])), \"\",Table1[[#This Row],[Column12]]*Table1[[#This Row],[Column13]])","v":""},null,null,null,null,{"$f":"IF(OR(ISBLANK(Table1[[#This Row],[Column16]]),ISBLANK(Table1[[#This Row],[Column17]])), \"\",Table1[[#This Row],[Column16]]*Table1[[#This Row],[Column17]])","v":""},null,null,null,null,{"$f":"IF(OR(ISBLANK(Table1[[#This Row],[Column21]]),ISBLANK(Table1[[#This Row],[Column22]])), \"\",Table1[[#This Row],[Column21]]*Table1[[#This Row],[Column22]])","v":""},null,null,null,null,{"$f":"IF(OR(ISBLANK(Table1[[#This Row],[Column25]]),ISBLANK(Table1[[#This Row],[Column26]])), \"\",Table1[[#This Row],[Column25]]*Table1[[#This Row],[Column26]])","v":""},null,null,null,null,{"$f":"IF(OR(ISBLANK(Table1[[#This Row],[Column30]]),ISBLANK(Table1[[#This Row],[Column31]])), \"\",Table1[[#This Row],[Column30]]*Table1[[#This Row],[Column31]])","v":""},null,null,null,null,{"$f":"IF(OR(ISBLANK(Table1[[#This Row],[Column34]]),ISBLANK(Table1[[#This Row],[Column35]])), \"\",Table1[[#This Row],[Column34]]*Table1[[#This Row],[Column35]])","v":""},null,null,null,null,{"$f":"IF(OR(ISBLANK(Table1[[#This Row],[Column39]]),ISBLANK(Table1[[#This Row],[Column40]])), \"\",Table1[[#This Row],[Column39]]*Table1[[#This Row],[Column40]])","v":""},null,null,null,null,{"$f":"IF(OR(ISBLANK(Table1[[#This Row],[Column43]]),ISBLANK(Table1[[#This Row],[Column44]])), \"\",Table1[[#This Row],[Column43]]*Table1[[#This Row],[Column44]])","v":""},null,null,null,null,{"$f":"IF(OR(ISBLANK(Table1[[#This Row],[Column48]]),ISBLANK(Table1[[#This Row],[Column49]])), \"\",Table1[[#This Row],[Column48]]*Table1[[#This Row],[Column49]])","v":""},null,null,null,null,{"$f":"IF(OR(ISBLANK(Table1[[#This Row],[Column52]]),ISBLANK(Table1[[#This Row],[Column53]])), \"\",Table1[[#This Row],[Column52]]*Table1[[#This Row],[Column53]])","v":""},null,null,null,null,{"$f":"IF(OR(ISBLANK(Table1[[#This Row],[Column57]]),ISBLANK(Table1[[#This Row],[Column58]])), \"\",Table1[[#This Row],[Column57]]*Table1[[#This Row],[Column58]])","v":""},null,null,null,null,{"$f":"IF(OR(ISBLANK(Table1[[#This Row],[Column61]]),ISBLANK(Table1[[#This Row],[Column62]])), \"\",Table1[[#This Row],[Column61]]*Table1[[#This Row],[Column62]])","v":""}]
[83,"Ultra violet UV254 ","N","Design parameter important to the treatment process effectiveness.",null,null,{"$f":"IF(OR(ISBLANK(Table1[[#This Row],[Column3]]),ISBLANK(Table1[[#This Row],[Column4]])), \"\",Table1[[#This Row],[Column3]]*Table1[[#This Row],[Column4]])","v":""},null,null,null,null,{"$f":"IF(OR(ISBLANK(Table1[[#This Row],[Column7]]),ISBLANK(Table1[[#This Row],[Column8]])), \"\",Table1[[#This Row],[Column7]]*Table1[[#This Row],[Column8]])","v":""},null,null,null,null,{"$f":"IF(OR(ISBLANK(Table1[[#This Row],[Column12]]),ISBLANK(Table1[[#This Row],[Column13]])), \"\",Table1[[#This Row],[Column12]]*Table1[[#This Row],[Column13]])","v":""},null,null,null,null,{"$f":"IF(OR(ISBLANK(Table1[[#This Row],[Column16]]),ISBLANK(Table1[[#This Row],[Column17]])), \"\",Table1[[#This Row],[Column16]]*Table1[[#This Row],[Column17]])","v":""},null,null,null,null,{"$f":"IF(OR(ISBLANK(Table1[[#This Row],[Column21]]),ISBLANK(Table1[[#This Row],[Column22]])), \"\",Table1[[#This Row],[Column21]]*Table1[[#This Row],[Column22]])","v":""},null,null,null,null,{"$f":"IF(OR(ISBLANK(Table1[[#This Row],[Column25]]),ISBLANK(Table1[[#This Row],[Column26]])), \"\",Table1[[#This Row],[Column25]]*Table1[[#This Row],[Column26]])","v":""},null,null,null,null,{"$f":"IF(OR(ISBLANK(Table1[[#This Row],[Column30]]),ISBLANK(Table1[[#This Row],[Column31]])), \"\",Table1[[#This Row],[Column30]]*Table1[[#This Row],[Column31]])","v":""},null,null,null,null,{"$f":"IF(OR(ISBLANK(Table1[[#This Row],[Column34]]),ISBLANK(Table1[[#This Row],[Column35]])), \"\",Table1[[#This Row],[Column34]]*Table1[[#This Row],[Column35]])","v":""},null,null,null,null,{"$f":"IF(OR(ISBLANK(Table1[[#This Row],[Column39]]),ISBLANK(Table1[[#This Row],[Column40]])), \"\",Table1[[#This Row],[Column39]]*Table1[[#This Row],[Column40]])","v":""},null,null,null,null,{"$f":"IF(OR(ISBLANK(Table1[[#This Row],[Column43]]),ISBLANK(Table1[[#This Row],[Column44]])), \"\",Table1[[#This Row],[Column43]]*Table1[[#This Row],[Column44]])","v":""},null,null,null,null,{"$f":"IF(OR(ISBLANK(Table1[[#This Row],[Column48]]),ISBLANK(Table1[[#This Row],[Column49]])), \"\",Table1[[#This Row],[Column48]]*Table1[[#This Row],[Column49]])","v":""},null,null,null,null,{"$f":"IF(OR(ISBLANK(Table1[[#This Row],[Column52]]),ISBLANK(Table1[[#This Row],[Column53]])), \"\",Table1[[#This Row],[Column52]]*Table1[[#This Row],[Column53]])","v":""},null,null,null,null,{"$f":"IF(OR(ISBLANK(Table1[[#This Row],[Column57]]),ISBLANK(Table1[[#This Row],[Column58]])), \"\",Table1[[#This Row],[Column57]]*Table1[[#This Row],[Column58]])","v":""},null,null,null,null,{"$f":"IF(OR(ISBLANK(Table1[[#This Row],[Column61]]),ISBLANK(Table1[[#This Row],[Column62]])), \"\",Table1[[#This Row],[Column61]]*Table1[[#This Row],[Column62]])","v":""}]
[84,"Invasive non native species (INNS)","N","Non-native species entering a new environment due to new transfer/connections.",null,null,{"$f":"IF(OR(ISBLANK(Table1[[#This Row],[Column3]]),ISBLANK(Table1[[#This Row],[Column4]])), \"\",Table1[[#This Row],[Column3]]*Table1[[#This Row],[Column4]])","v":""},null,null,null,null,{"$f":"IF(OR(ISBLANK(Table1[[#This Row],[Column7]]),ISBLANK(Table1[[#This Row],[Column8]])), \"\",Table1[[#This Row],[Column7]]*Table1[[#This Row],[Column8]])","v":""},null,null,null,null,{"$f":"IF(OR(ISBLANK(Table1[[#This Row],[Column12]]),ISBLANK(Table1[[#This Row],[Column13]])), \"\",Table1[[#This Row],[Column12]]*Table1[[#This Row],[Column13]])","v":""},null,null,null,null,{"$f":"IF(OR(ISBLANK(Table1[[#This Row],[Column16]]),ISBLANK(Table1[[#This Row],[Column17]])), \"\",Table1[[#This Row],[Column16]]*Table1[[#This Row],[Column17]])","v":""},null,null,null,null,{"$f":"IF(OR(ISBLANK(Table1[[#This Row],[Column21]]),ISBLANK(Table1[[#This Row],[Column22]])), \"\",Table1[[#This Row],[Column21]]*Table1[[#This Row],[Column22]])","v":""},null,null,null,null,{"$f":"IF(OR(ISBLANK(Table1[[#This Row],[Column25]]),ISBLANK(Table1[[#This Row],[Column26]])), \"\",Table1[[#This Row],[Column25]]*Table1[[#This Row],[Column26]])","v":""},null,null,null,null,{"$f":"IF(OR(ISBLANK(Table1[[#This Row],[Column30]]),ISBLANK(Table1[[#This Row],[Column31]])), \"\",Table1[[#This Row],[Column30]]*Table1[[#This Row],[Column31]])","v":""},null,null,null,null,{"$f":"IF(OR(ISBLANK(Table1[[#This Row],[Column34]]),ISBLANK(Table1[[#This Row],[Column35]])), \"\",Table1[[#This Row],[Column34]]*Table1[[#This Row],[Column35]])","v":""},null,null,null,null,{"$f":"IF(OR(ISBLANK(Table1[[#This Row],[Column39]]),ISBLANK(Table1[[#This Row],[Column40]])), \"\",Table1[[#This Row],[Column39]]*Table1[[#This Row],[Column40]])","v":""},null,null,null,null,{"$f":"IF(OR(ISBLANK(Table1[[#This Row],[Column43]]),ISBLANK(Table1[[#This Row],[Column44]])), \"\",Table1[[#This Row],[Column43]]*Table1[[#This Row],[Column44]])","v":""},null,null,null,null,{"$f":"IF(OR(ISBLANK(Table1[[#This Row],[Column48]]),ISBLANK(Table1[[#This Row],[Column49]])), \"\",Table1[[#This Row],[Column48]]*Table1[[#This Row],[Column49]])","v":""},null,null,null,null,{"$f":"IF(OR(ISBLANK(Table1[[#This Row],[Column52]]),ISBLANK(Table1[[#This Row],[Column53]])), \"\",Table1[[#This Row],[Column52]]*Table1[[#This Row],[Column53]])","v":""},null,null,null,null,{"$f":"IF(OR(ISBLANK(Table1[[#This Row],[Column57]]),ISBLANK(Table1[[#This Row],[Column58]])), \"\",Table1[[#This Row],[Column57]]*Table1[[#This Row],[Column58]])","v":""},null,null,null,null,{"$f":"IF(OR(ISBLANK(Table1[[#This Row],[Column61]]),ISBLANK(Table1[[#This Row],[Column62]])), \"\",Table1[[#This Row],[Column61]]*Table1[[#This Row],[Column62]])","v":""}]
[85,"Remineralisation ","N","Requirement of certain treatment processes",null,null,{"$f":"IF(OR(ISBLANK(Table1[[#This Row],[Column3]]),ISBLANK(Table1[[#This Row],[Column4]])), \"\",Table1[[#This Row],[Column3]]*Table1[[#This Row],[Column4]])","v":""},null,null,null,null,{"$f":"IF(OR(ISBLANK(Table1[[#This Row],[Column7]]),ISBLANK(Table1[[#This Row],[Column8]])), \"\",Table1[[#This Row],[Column7]]*Table1[[#This Row],[Column8]])","v":""},null,null,null,null,{"$f":"IF(OR(ISBLANK(Table1[[#This Row],[Column12]]),ISBLANK(Table1[[#This Row],[Column13]])), \"\",Table1[[#This Row],[Column12]]*Table1[[#This Row],[Column13]])","v":""},null,null,null,null,{"$f":"IF(OR(ISBLANK(Table1[[#This Row],[Column16]]),ISBLANK(Table1[[#This Row],[Column17]])), \"\",Table1[[#This Row],[Column16]]*Table1[[#This Row],[Column17]])","v":""},null,null,null,null,{"$f":"IF(OR(ISBLANK(Table1[[#This Row],[Column21]]),ISBLANK(Table1[[#This Row],[Column22]])), \"\",Table1[[#This Row],[Column21]]*Table1[[#This Row],[Column22]])","v":""},null,null,null,null,{"$f":"IF(OR(ISBLANK(Table1[[#This Row],[Column25]]),ISBLANK(Table1[[#This Row],[Column26]])), \"\",Table1[[#This Row],[Column25]]*Table1[[#This Row],[Column26]])","v":""},null,null,null,null,{"$f":"IF(OR(ISBLANK(Table1[[#This Row],[Column30]]),ISBLANK(Table1[[#This Row],[Column31]])), \"\",Table1[[#This Row],[Column30]]*Table1[[#This Row],[Column31]])","v":""},null,null,null,null,{"$f":"IF(OR(ISBLANK(Table1[[#This Row],[Column34]]),ISBLANK(Table1[[#This Row],[Column35]])), \"\",Table1[[#This Row],[Column34]]*Table1[[#This Row],[Column35]])","v":""},null,null,null,null,{"$f":"IF(OR(ISBLANK(Table1[[#This Row],[Column39]]),ISBLANK(Table1[[#This Row],[Column40]])), \"\",Table1[[#This Row],[Column39]]*Table1[[#This Row],[Column40]])","v":""},null,null,null,null,{"$f":"IF(OR(ISBLANK(Table1[[#This Row],[Column43]]),ISBLANK(Table1[[#This Row],[Column44]])), \"\",Table1[[#This Row],[Column43]]*Table1[[#This Row],[Column44]])","v":""},null,null,null,null,{"$f":"IF(OR(ISBLANK(Table1[[#This Row],[Column48]]),ISBLANK(Table1[[#This Row],[Column49]])), \"\",Table1[[#This Row],[Column48]]*Table1[[#This Row],[Column49]])","v":""},null,null,null,null,{"$f":"IF(OR(ISBLANK(Table1[[#This Row],[Column52]]),ISBLANK(Table1[[#This Row],[Column53]])), \"\",Table1[[#This Row],[Column52]]*Table1[[#This Row],[Column53]])","v":""},null,null,null,null,{"$f":"IF(OR(ISBLANK(Table1[[#This Row],[Column57]]),ISBLANK(Table1[[#This Row],[Column58]])), \"\",Table1[[#This Row],[Column57]]*Table1[[#This Row],[Column58]])","v":""},null,null,null,null,{"$f":"IF(OR(ISBLANK(Table1[[#This Row],[Column61]]),ISBLANK(Table1[[#This Row],[Column62]])), \"\",Table1[[#This Row],[Column61]]*Table1[[#This Row],[Column62]])","v":""}]
[null,"Indicator parameters",null,null,null,null,{"$f":"IF(OR(ISBLANK(Table1[[#This Row],[Column3]]),ISBLANK(Table1[[#This Row],[Column4]])), \"\",Table1[[#This Row],[Column3]]*Table1[[#This Row],[Column4]])","v":""},null,null,null,null,{"$f":"IF(OR(ISBLANK(Table1[[#This Row],[Column7]]),ISBLANK(Table1[[#This Row],[Column8]])), \"\",Table1[[#This Row],[Column7]]*Table1[[#This Row],[Column8]])","v":""},null,null,null,null,{"$f":"IF(OR(ISBLANK(Table1[[#This Row],[Column12]]),ISBLANK(Table1[[#This Row],[Column13]])), \"\",Table1[[#This Row],[Column12]]*Table1[[#This Row],[Column13]])","v":""},null,null,null,null,{"$f":"IF(OR(ISBLANK(Table1[[#This Row],[Column16]]),ISBLANK(Table1[[#This Row],[Column17]])), \"\",Table1[[#This Row],[Column16]]*Table1[[#This Row],[Column17]])","v":""},null,null,null,null,{"$f":"IF(OR(ISBLANK(Table1[[#This Row],[Column21]]),ISBLANK(Table1[[#This Row],[Column22]])), \"\",Table1[[#This Row],[Column21]]*Table1[[#This Row],[Column22]])","v":""},null,null,null,null,{"$f":"IF(OR(ISBLANK(Table1[[#This Row],[Column25]]),ISBLANK(Table1[[#This Row],[Column26]])), \"\",Table1[[#This Row],[Column25]]*Table1[[#This Row],[Column26]])","v":""},null,null,null,null,{"$f":"IF(OR(ISBLANK(Table1[[#This Row],[Column30]]),ISBLANK(Table1[[#This Row],[Column31]])), \"\",Table1[[#This Row],[Column30]]*Table1[[#This Row],[Column31]])","v":""},null,null,null,null,{"$f":"IF(OR(ISBLANK(Table1[[#This Row],[Column34]]),ISBLANK(Table1[[#This Row],[Column35]])), \"\",Table1[[#This Row],[Column34]]*Table1[[#This Row],[Column35]])","v":""},null,null,null,null,{"$f":"IF(OR(ISBLANK(Table1[[#This Row],[Column39]]),ISBLANK(Table1[[#This Row],[Column40]])), \"\",Table1[[#This Row],[Column39]]*Table1[[#This Row],[Column40]])","v":""},null,null,null,null,{"$f":"IF(OR(ISBLANK(Table1[[#This Row],[Column43]]),ISBLANK(Table1[[#This Row],[Column44]])), \"\",Table1[[#This Row],[Column43]]*Table1[[#This Row],[Column44]])","v":""},null,null,null,null,{"$f":"IF(OR(ISBLANK(Table1[[#This Row],[Column48]]),ISBLANK(Table1[[#This Row],[Column49]])), \"\",Table1[[#This Row],[Column48]]*Table1[[#This Row],[Column49]])","v":""},null,null,null,null,{"$f":"IF(OR(ISBLANK(Table1[[#This Row],[Column52]]),ISBLANK(Table1[[#This Row],[Column53]])), \"\",Table1[[#This Row],[Column52]]*Table1[[#This Row],[Column53]])","v":""},null,null,null,null,{"$f":"IF(OR(ISBLANK(Table1[[#This Row],[Column57]]),ISBLANK(Table1[[#This Row],[Column58]])), \"\",Table1[[#This Row],[Column57]]*Table1[[#This Row],[Column58]])","v":""},null,null,null,null,{"$f":"IF(OR(ISBLANK(Table1[[#This Row],[Column61]]),ISBLANK(Table1[[#This Row],[Column62]])), \"\",Table1[[#This Row],[Column61]]*Table1[[#This Row],[Column62]])","v":""}]
[86,"Ammonium ","Y","Derived from sewage, livestock and general biological activity. Workshop attendees discussed the consequence score, and agreed an increase to a score of 2, during the Gate 2 ACWG workshop.",4,2,{"$f":"IF(OR(ISBLANK(Table1[[#This Row],[Column3]]),ISBLANK(Table1[[#This Row],[Column4]])), \"\",Table1[[#This Row],[Column3]]*Table1[[#This Row],[Column4]])","v":8},"Gate 2 Water Quality Monitoring Programme Sonde data recorded maximum value of 16.4 mg/l as NH4 in Minworth WwTW effluent, average value 2.07 mg/l as NH4.\n\nGate 2 Sonde Monitoring in GUC at grove lock (Site 6)  returned max value 1.40 mg/l, mean value 0.42mg/l, Max value above the PCV of 0.5mg/l.\n\nConsequence score increased to a 2 to raise to an Amber risk due to the presence of Ammonium and the risk to treatment.","None",4,2,{"$f":"IF(OR(ISBLANK(Table1[[#This Row],[Column7]]),ISBLANK(Table1[[#This Row],[Column8]])), \"\",Table1[[#This Row],[Column7]]*Table1[[#This Row],[Column8]])","v":8},"None","None",4,2,{"$f":"IF(OR(ISBLANK(Table1[[#This Row],[Column12]]),ISBLANK(Table1[[#This Row],[Column13]])), \"\",Table1[[#This Row],[Column12]]*Table1[[#This Row],[Column13]])","v":8},"Risk profile unlikely to change during abstraction","None",4,2,{"$f":"IF(OR(ISBLANK(Table1[[#This Row],[Column16]]),ISBLANK(Table1[[#This Row],[Column17]])), \"\",Table1[[#This Row],[Column16]]*Table1[[#This Row],[Column17]])","v":8},"None","None.",4,2,{"$f":"IF(OR(ISBLANK(Table1[[#This Row],[Column21]]),ISBLANK(Table1[[#This Row],[Column22]])), \"\",Table1[[#This Row],[Column21]]*Table1[[#This Row],[Column22]])","v":8},"Risk not likely to change through conveyance","None",4,2,{"$f":"IF(OR(ISBLANK(Table1[[#This Row],[Column25]]),ISBLANK(Table1[[#This Row],[Column26]])), \"\",Table1[[#This Row],[Column25]]*Table1[[#This Row],[Column26]])","v":8},"No control so scores are cascaded from pre- to post-mitigated.","None",4,2,{"$f":"IF(OR(ISBLANK(Table1[[#This Row],[Column30]]),ISBLANK(Table1[[#This Row],[Column31]])), \"\",Table1[[#This Row],[Column30]]*Table1[[#This Row],[Column31]])","v":8},"Noted to be present after review of Minworth WwTW and GUC sonde data.","Oxidation, Chlorination.",1,2,{"$f":"IF(OR(ISBLANK(Table1[[#This Row],[Column34]]),ISBLANK(Table1[[#This Row],[Column35]])), \"\",Table1[[#This Row],[Column34]]*Table1[[#This Row],[Column35]])","v":2},"Any chlorine demand from ammonia would be controlled using appropriately sized chlorination.","None",1,2,{"$f":"IF(OR(ISBLANK(Table1[[#This Row],[Column39]]),ISBLANK(Table1[[#This Row],[Column40]])), \"\",Table1[[#This Row],[Column39]]*Table1[[#This Row],[Column40]])","v":2},"Risk  unlikely to increase through to storage","No control measure required",1,2,{"$f":"IF(OR(ISBLANK(Table1[[#This Row],[Column43]]),ISBLANK(Table1[[#This Row],[Column44]])), \"\",Table1[[#This Row],[Column43]]*Table1[[#This Row],[Column44]])","v":2},"None","None",1,2,{"$f":"IF(OR(ISBLANK(Table1[[#This Row],[Column48]]),ISBLANK(Table1[[#This Row],[Column49]])), \"\",Table1[[#This Row],[Column48]]*Table1[[#This Row],[Column49]])","v":2},"Risk unlikely to increase during distribution","None",1,2,{"$f":"IF(OR(ISBLANK(Table1[[#This Row],[Column52]]),ISBLANK(Table1[[#This Row],[Column53]])), \"\",Table1[[#This Row],[Column52]]*Table1[[#This Row],[Column53]])","v":2},"None","None",1,2,{"$f":"IF(OR(ISBLANK(Table1[[#This Row],[Column57]]),ISBLANK(Table1[[#This Row],[Column58]])), \"\",Table1[[#This Row],[Column57]]*Table1[[#This Row],[Column58]])","v":2},"Risk unlikely to change through to customer taps","None",1,2,{"$f":"IF(OR(ISBLANK(Table1[[#This Row],[Column61]]),ISBLANK(Table1[[#This Row],[Column62]])), \"\",Table1[[#This Row],[Column61]]*Table1[[#This Row],[Column62]])","v":2},"None","None"]
[87,"Chloride","N","Derived mainly from geology and salting of roads in cold periods. No sample data currently available but expected to be during new WQ monitoring programme.",null,null,{"$f":"IF(OR(ISBLANK(Table1[[#This Row],[Column3]]),ISBLANK(Table1[[#This Row],[Column4]])), \"\",Table1[[#This Row],[Column3]]*Table1[[#This Row],[Column4]])","v":""},null,null,null,null,{"$f":"IF(OR(ISBLANK(Table1[[#This Row],[Column7]]),ISBLANK(Table1[[#This Row],[Column8]])), \"\",Table1[[#This Row],[Column7]]*Table1[[#This Row],[Column8]])","v":""},null,null,null,null,{"$f":"IF(OR(ISBLANK(Table1[[#This Row],[Column12]]),ISBLANK(Table1[[#This Row],[Column13]])), \"\",Table1[[#This Row],[Column12]]*Table1[[#This Row],[Column13]])","v":""},null,null,null,null,{"$f":"IF(OR(ISBLANK(Table1[[#This Row],[Column16]]),ISBLANK(Table1[[#This Row],[Column17]])), \"\",Table1[[#This Row],[Column16]]*Table1[[#This Row],[Column17]])","v":""},null,null,null,null,{"$f":"IF(OR(ISBLANK(Table1[[#This Row],[Column21]]),ISBLANK(Table1[[#This Row],[Column22]])), \"\",Table1[[#This Row],[Column21]]*Table1[[#This Row],[Column22]])","v":""},null,null,null,null,{"$f":"IF(OR(ISBLANK(Table1[[#This Row],[Column25]]),ISBLANK(Table1[[#This Row],[Column26]])), \"\",Table1[[#This Row],[Column25]]*Table1[[#This Row],[Column26]])","v":""},null,null,null,null,{"$f":"IF(OR(ISBLANK(Table1[[#This Row],[Column30]]),ISBLANK(Table1[[#This Row],[Column31]])), \"\",Table1[[#This Row],[Column30]]*Table1[[#This Row],[Column31]])","v":""},null,null,null,null,{"$f":"IF(OR(ISBLANK(Table1[[#This Row],[Column34]]),ISBLANK(Table1[[#This Row],[Column35]])), \"\",Table1[[#This Row],[Column34]]*Table1[[#This Row],[Column35]])","v":""},null,null,null,null,{"$f":"IF(OR(ISBLANK(Table1[[#This Row],[Column39]]),ISBLANK(Table1[[#This Row],[Column40]])), \"\",Table1[[#This Row],[Column39]]*Table1[[#This Row],[Column40]])","v":""},null,null,null,null,{"$f":"IF(OR(ISBLANK(Table1[[#This Row],[Column43]]),ISBLANK(Table1[[#This Row],[Column44]])), \"\",Table1[[#This Row],[Column43]]*Table1[[#This Row],[Column44]])","v":""},null,null,null,null,{"$f":"IF(OR(ISBLANK(Table1[[#This Row],[Column48]]),ISBLANK(Table1[[#This Row],[Column49]])), \"\",Table1[[#This Row],[Column48]]*Table1[[#This Row],[Column49]])","v":""},null,null,null,null,{"$f":"IF(OR(ISBLANK(Table1[[#This Row],[Column52]]),ISBLANK(Table1[[#This Row],[Column53]])), \"\",Table1[[#This Row],[Column52]]*Table1[[#This Row],[Column53]])","v":""},null,null,null,null,{"$f":"IF(OR(ISBLANK(Table1[[#This Row],[Column57]]),ISBLANK(Table1[[#This Row],[Column58]])), \"\",Table1[[#This Row],[Column57]]*Table1[[#This Row],[Column58]])","v":""},null,null,null,null,{"$f":"IF(OR(ISBLANK(Table1[[#This Row],[Column61]]),ISBLANK(Table1[[#This Row],[Column62]])), \"\",Table1[[#This Row],[Column61]]*Table1[[#This Row],[Column62]])","v":""}]
[91,"Conductivity ","N","Largely determined by geology.\n\nMax. value measured below UK parameters. (WSP)",null,null,{"$f":"IF(OR(ISBLANK(Table1[[#This Row],[Column3]]),ISBLANK(Table1[[#This Row],[Column4]])), \"\",Table1[[#This Row],[Column3]]*Table1[[#This Row],[Column4]])","v":""},null,null,null,null,{"$f":"IF(OR(ISBLANK(Table1[[#This Row],[Column7]]),ISBLANK(Table1[[#This Row],[Column8]])), \"\",Table1[[#This Row],[Column7]]*Table1[[#This Row],[Column8]])","v":""},null,null,null,null,{"$f":"IF(OR(ISBLANK(Table1[[#This Row],[Column12]]),ISBLANK(Table1[[#This Row],[Column13]])), \"\",Table1[[#This Row],[Column12]]*Table1[[#This Row],[Column13]])","v":""},null,null,null,null,{"$f":"IF(OR(ISBLANK(Table1[[#This Row],[Column16]]),ISBLANK(Table1[[#This Row],[Column17]])), \"\",Table1[[#This Row],[Column16]]*Table1[[#This Row],[Column17]])","v":""},null,null,null,null,{"$f":"IF(OR(ISBLANK(Table1[[#This Row],[Column21]]),ISBLANK(Table1[[#This Row],[Column22]])), \"\",Table1[[#This Row],[Column21]]*Table1[[#This Row],[Column22]])","v":""},null,null,null,null,{"$f":"IF(OR(ISBLANK(Table1[[#This Row],[Column25]]),ISBLANK(Table1[[#This Row],[Column26]])), \"\",Table1[[#This Row],[Column25]]*Table1[[#This Row],[Column26]])","v":""},null,null,null,null,{"$f":"IF(OR(ISBLANK(Table1[[#This Row],[Column30]]),ISBLANK(Table1[[#This Row],[Column31]])), \"\",Table1[[#This Row],[Column30]]*Table1[[#This Row],[Column31]])","v":""},null,null,null,null,{"$f":"IF(OR(ISBLANK(Table1[[#This Row],[Column34]]),ISBLANK(Table1[[#This Row],[Column35]])), \"\",Table1[[#This Row],[Column34]]*Table1[[#This Row],[Column35]])","v":""},null,null,null,null,{"$f":"IF(OR(ISBLANK(Table1[[#This Row],[Column39]]),ISBLANK(Table1[[#This Row],[Column40]])), \"\",Table1[[#This Row],[Column39]]*Table1[[#This Row],[Column40]])","v":""},null,null,null,null,{"$f":"IF(OR(ISBLANK(Table1[[#This Row],[Column43]]),ISBLANK(Table1[[#This Row],[Column44]])), \"\",Table1[[#This Row],[Column43]]*Table1[[#This Row],[Column44]])","v":""},null,null,null,null,{"$f":"IF(OR(ISBLANK(Table1[[#This Row],[Column48]]),ISBLANK(Table1[[#This Row],[Column49]])), \"\",Table1[[#This Row],[Column48]]*Table1[[#This Row],[Column49]])","v":""},null,null,null,null,{"$f":"IF(OR(ISBLANK(Table1[[#This Row],[Column52]]),ISBLANK(Table1[[#This Row],[Column53]])), \"\",Table1[[#This Row],[Column52]]*Table1[[#This Row],[Column53]])","v":""},null,null,null,null,{"$f":"IF(OR(ISBLANK(Table1[[#This Row],[Column57]]),ISBLANK(Table1[[#This Row],[Column58]])), \"\",Table1[[#This Row],[Column57]]*Table1[[#This Row],[Column58]])","v":""},null,null,null,null,{"$f":"IF(OR(ISBLANK(Table1[[#This Row],[Column61]]),ISBLANK(Table1[[#This Row],[Column62]])), \"\",Table1[[#This Row],[Column61]]*Table1[[#This Row],[Column62]])","v":""}]
[92,"Hydrogen ion ","N","pH - largely determined by geology in relation to buffering and biological activity.\n\npH measured range between 7.50-8.77 (WSP)",null,null,{"$f":"IF(OR(ISBLANK(Table1[[#This Row],[Column3]]),ISBLANK(Table1[[#This Row],[Column4]])), \"\",Table1[[#This Row],[Column3]]*Table1[[#This Row],[Column4]])","v":""},null,null,null,null,{"$f":"IF(OR(ISBLANK(Table1[[#This Row],[Column7]]),ISBLANK(Table1[[#This Row],[Column8]])), \"\",Table1[[#This Row],[Column7]]*Table1[[#This Row],[Column8]])","v":""},null,null,null,null,{"$f":"IF(OR(ISBLANK(Table1[[#This Row],[Column12]]),ISBLANK(Table1[[#This Row],[Column13]])), \"\",Table1[[#This Row],[Column12]]*Table1[[#This Row],[Column13]])","v":""},null,null,null,null,{"$f":"IF(OR(ISBLANK(Table1[[#This Row],[Column16]]),ISBLANK(Table1[[#This Row],[Column17]])), \"\",Table1[[#This Row],[Column16]]*Table1[[#This Row],[Column17]])","v":""},null,null,null,null,{"$f":"IF(OR(ISBLANK(Table1[[#This Row],[Column21]]),ISBLANK(Table1[[#This Row],[Column22]])), \"\",Table1[[#This Row],[Column21]]*Table1[[#This Row],[Column22]])","v":""},null,null,null,null,{"$f":"IF(OR(ISBLANK(Table1[[#This Row],[Column25]]),ISBLANK(Table1[[#This Row],[Column26]])), \"\",Table1[[#This Row],[Column25]]*Table1[[#This Row],[Column26]])","v":""},null,null,null,null,{"$f":"IF(OR(ISBLANK(Table1[[#This Row],[Column30]]),ISBLANK(Table1[[#This Row],[Column31]])), \"\",Table1[[#This Row],[Column30]]*Table1[[#This Row],[Column31]])","v":""},null,null,null,null,{"$f":"IF(OR(ISBLANK(Table1[[#This Row],[Column34]]),ISBLANK(Table1[[#This Row],[Column35]])), \"\",Table1[[#This Row],[Column34]]*Table1[[#This Row],[Column35]])","v":""},null,null,null,null,{"$f":"IF(OR(ISBLANK(Table1[[#This Row],[Column39]]),ISBLANK(Table1[[#This Row],[Column40]])), \"\",Table1[[#This Row],[Column39]]*Table1[[#This Row],[Column40]])","v":""},null,null,null,null,{"$f":"IF(OR(ISBLANK(Table1[[#This Row],[Column43]]),ISBLANK(Table1[[#This Row],[Column44]])), \"\",Table1[[#This Row],[Column43]]*Table1[[#This Row],[Column44]])","v":""},null,null,null,null,{"$f":"IF(OR(ISBLANK(Table1[[#This Row],[Column48]]),ISBLANK(Table1[[#This Row],[Column49]])), \"\",Table1[[#This Row],[Column48]]*Table1[[#This Row],[Column49]])","v":""},null,null,null,null,{"$f":"IF(OR(ISBLANK(Table1[[#This Row],[Column52]]),ISBLANK(Table1[[#This Row],[Column53]])), \"\",Table1[[#This Row],[Column52]]*Table1[[#This Row],[Column53]])","v":""},null,null,null,null,{"$f":"IF(OR(ISBLANK(Table1[[#This Row],[Column57]]),ISBLANK(Table1[[#This Row],[Column58]])), \"\",Table1[[#This Row],[Column57]]*Table1[[#This Row],[Column58]])","v":""},null,null,null,null,{"$f":"IF(OR(ISBLANK(Table1[[#This Row],[Column61]]),ISBLANK(Table1[[#This Row],[Column62]])), \"\",Table1[[#This Row],[Column61]]*Table1[[#This Row],[Column62]])","v":""}]
[94,"Radioactivity(Alpha, Beta, Tritium)","N","Determined by natural geological radioactivity. No sample data currently available but expected to be during new WQ monitoring programme.",null,null,{"$f":"IF(OR(ISBLANK(Table1[[#This Row],[Column3]]),ISBLANK(Table1[[#This Row],[Column4]])), \"\",Table1[[#This Row],[Column3]]*Table1[[#This Row],[Column4]])","v":""},null,null,null,null,{"$f":"IF(OR(ISBLANK(Table1[[#This Row],[Column7]]),ISBLANK(Table1[[#This Row],[Column8]])), \"\",Table1[[#This Row],[Column7]]*Table1[[#This Row],[Column8]])","v":""},null,null,null,null,{"$f":"IF(OR(ISBLANK(Table1[[#This Row],[Column12]]),ISBLANK(Table1[[#This Row],[Column13]])), \"\",Table1[[#This Row],[Column12]]*Table1[[#This Row],[Column13]])","v":""},null,null,null,null,{"$f":"IF(OR(ISBLANK(Table1[[#This Row],[Column16]]),ISBLANK(Table1[[#This Row],[Column17]])), \"\",Table1[[#This Row],[Column16]]*Table1[[#This Row],[Column17]])","v":""},null,null,null,null,{"$f":"IF(OR(ISBLANK(Table1[[#This Row],[Column21]]),ISBLANK(Table1[[#This Row],[Column22]])), \"\",Table1[[#This Row],[Column21]]*Table1[[#This Row],[Column22]])","v":""},null,null,null,null,{"$f":"IF(OR(ISBLANK(Table1[[#This Row],[Column25]]),ISBLANK(Table1[[#This Row],[Column26]])), \"\",Table1[[#This Row],[Column25]]*Table1[[#This Row],[Column26]])","v":""},null,null,null,null,{"$f":"IF(OR(ISBLANK(Table1[[#This Row],[Column30]]),ISBLANK(Table1[[#This Row],[Column31]])), \"\",Table1[[#This Row],[Column30]]*Table1[[#This Row],[Column31]])","v":""},null,null,null,null,{"$f":"IF(OR(ISBLANK(Table1[[#This Row],[Column34]]),ISBLANK(Table1[[#This Row],[Column35]])), \"\",Table1[[#This Row],[Column34]]*Table1[[#This Row],[Column35]])","v":""},null,null,null,null,{"$f":"IF(OR(ISBLANK(Table1[[#This Row],[Column39]]),ISBLANK(Table1[[#This Row],[Column40]])), \"\",Table1[[#This Row],[Column39]]*Table1[[#This Row],[Column40]])","v":""},null,null,null,null,{"$f":"IF(OR(ISBLANK(Table1[[#This Row],[Column43]]),ISBLANK(Table1[[#This Row],[Column44]])), \"\",Table1[[#This Row],[Column43]]*Table1[[#This Row],[Column44]])","v":""},null,null,null,null,{"$f":"IF(OR(ISBLANK(Table1[[#This Row],[Column48]]),ISBLANK(Table1[[#This Row],[Column49]])), \"\",Table1[[#This Row],[Column48]]*Table1[[#This Row],[Column49]])","v":""},null,null,null,null,{"$f":"IF(OR(ISBLANK(Table1[[#This Row],[Column52]]),ISBLANK(Table1[[#This Row],[Column53]])), \"\",Table1[[#This Row],[Column52]]*Table1[[#This Row],[Column53]])","v":""},null,null,null,null,{"$f":"IF(OR(ISBLANK(Table1[[#This Row],[Column57]]),ISBLANK(Table1[[#This Row],[Column58]])), \"\",Table1[[#This Row],[Column57]]*Table1[[#This Row],[Column58]])","v":""},null,null,null,null,{"$f":"IF(OR(ISBLANK(Table1[[#This Row],[Column61]]),ISBLANK(Table1[[#This Row],[Column62]])), \"\",Table1[[#This Row],[Column61]]*Table1[[#This Row],[Column62]])","v":""}]
[null,"Parameters of emerging concern",null,null,null,null,{"$f":"IF(OR(ISBLANK(Table1[[#This Row],[Column3]]),ISBLANK(Table1[[#This Row],[Column4]])), \"\",Table1[[#This Row],[Column3]]*Table1[[#This Row],[Column4]])","v":""},null,null,null,null,{"$f":"IF(OR(ISBLANK(Table1[[#This Row],[Column7]]),ISBLANK(Table1[[#This Row],[Column8]])), \"\",Table1[[#This Row],[Column7]]*Table1[[#This Row],[Column8]])","v":""},null,null,null,null,{"$f":"IF(OR(ISBLANK(Table1[[#This Row],[Column12]]),ISBLANK(Table1[[#This Row],[Column13]])), \"\",Table1[[#This Row],[Column12]]*Table1[[#This Row],[Column13]])","v":""},null,null,null,null,{"$f":"IF(OR(ISBLANK(Table1[[#This Row],[Column16]]),ISBLANK(Table1[[#This Row],[Column17]])), \"\",Table1[[#This Row],[Column16]]*Table1[[#This Row],[Column17]])","v":""},null,null,null,null,{"$f":"IF(OR(ISBLANK(Table1[[#This Row],[Column21]]),ISBLANK(Table1[[#This Row],[Column22]])), \"\",Table1[[#This Row],[Column21]]*Table1[[#This Row],[Column22]])","v":""},null,null,null,null,{"$f":"IF(OR(ISBLANK(Table1[[#This Row],[Column25]]),ISBLANK(Table1[[#This Row],[Column26]])), \"\",Table1[[#This Row],[Column25]]*Table1[[#This Row],[Column26]])","v":""},null,null,null,null,{"$f":"IF(OR(ISBLANK(Table1[[#This Row],[Column30]]),ISBLANK(Table1[[#This Row],[Column31]])), \"\",Table1[[#This Row],[Column30]]*Table1[[#This Row],[Column31]])","v":""},null,null,null,null,{"$f":"IF(OR(ISBLANK(Table1[[#This Row],[Column34]]),ISBLANK(Table1[[#This Row],[Column35]])), \"\",Table1[[#This Row],[Column34]]*Table1[[#This Row],[Column35]])","v":""},null,null,null,null,{"$f":"IF(OR(ISBLANK(Table1[[#This Row],[Column39]]),ISBLANK(Table1[[#This Row],[Column40]])), \"\",Table1[[#This Row],[Column39]]*Table1[[#This Row],[Column40]])","v":""},null,null,null,null,{"$f":"IF(OR(ISBLANK(Table1[[#This Row],[Column43]]),ISBLANK(Table1[[#This Row],[Column44]])), \"\",Table1[[#This Row],[Column43]]*Table1[[#This Row],[Column44]])","v":""},null,null,null,null,{"$f":"IF(OR(ISBLANK(Table1[[#This Row],[Column48]]),ISBLANK(Table1[[#This Row],[Column49]])), \"\",Table1[[#This Row],[Column48]]*Table1[[#This Row],[Column49]])","v":""},null,null,null,null,{"$f":"IF(OR(ISBLANK(Table1[[#This Row],[Column52]]),ISBLANK(Table1[[#This Row],[Column53]])), \"\",Table1[[#This Row],[Column52]]*Table1[[#This Row],[Column53]])","v":""},null,null,null,null,{"$f":"IF(OR(ISBLANK(Table1[[#This Row],[Column57]]),ISBLANK(Table1[[#This Row],[Column58]])), \"\",Table1[[#This Row],[Column57]]*Table1[[#This Row],[Column58]])","v":""},null,null,null,null,{"$f":"IF(OR(ISBLANK(Table1[[#This Row],[Column61]]),ISBLANK(Table1[[#This Row],[Column62]])), \"\",Table1[[#This Row],[Column61]]*Table1[[#This Row],[Column62]])","v":""}]
[98,"Chlorate","N","Disinfection by-product.",null,null,{"$f":"IF(OR(ISBLANK(Table1[[#This Row],[Column3]]),ISBLANK(Table1[[#This Row],[Column4]])), \"\",Table1[[#This Row],[Column3]]*Table1[[#This Row],[Column4]])","v":""},"Recorded in",null,null,null,{"$f":"IF(OR(ISBLANK(Table1[[#This Row],[Column7]]),ISBLANK(Table1[[#This Row],[Column8]])), \"\",Table1[[#This Row],[Column7]]*Table1[[#This Row],[Column8]])","v":""},null,null,null,null,{"$f":"IF(OR(ISBLANK(Table1[[#This Row],[Column12]]),ISBLANK(Table1[[#This Row],[Column13]])), \"\",Table1[[#This Row],[Column12]]*Table1[[#This Row],[Column13]])","v":""},null,null,null,null,{"$f":"IF(OR(ISBLANK(Table1[[#This Row],[Column16]]),ISBLANK(Table1[[#This Row],[Column17]])), \"\",Table1[[#This Row],[Column16]]*Table1[[#This Row],[Column17]])","v":""},null,null,null,null,{"$f":"IF(OR(ISBLANK(Table1[[#This Row],[Column21]]),ISBLANK(Table1[[#This Row],[Column22]])), \"\",Table1[[#This Row],[Column21]]*Table1[[#This Row],[Column22]])","v":""},null,null,null,null,{"$f":"IF(OR(ISBLANK(Table1[[#This Row],[Column25]]),ISBLANK(Table1[[#This Row],[Column26]])), \"\",Table1[[#This Row],[Column25]]*Table1[[#This Row],[Column26]])","v":""},null,null,null,null,{"$f":"IF(OR(ISBLANK(Table1[[#This Row],[Column30]]),ISBLANK(Table1[[#This Row],[Column31]])), \"\",Table1[[#This Row],[Column30]]*Table1[[#This Row],[Column31]])","v":""},null,null,null,null,{"$f":"IF(OR(ISBLANK(Table1[[#This Row],[Column34]]),ISBLANK(Table1[[#This Row],[Column35]])), \"\",Table1[[#This Row],[Column34]]*Table1[[#This Row],[Column35]])","v":""},null,null,null,null,{"$f":"IF(OR(ISBLANK(Table1[[#This Row],[Column39]]),ISBLANK(Table1[[#This Row],[Column40]])), \"\",Table1[[#This Row],[Column39]]*Table1[[#This Row],[Column40]])","v":""},null,null,null,null,{"$f":"IF(OR(ISBLANK(Table1[[#This Row],[Column43]]),ISBLANK(Table1[[#This Row],[Column44]])), \"\",Table1[[#This Row],[Column43]]*Table1[[#This Row],[Column44]])","v":""},null,null,null,null,{"$f":"IF(OR(ISBLANK(Table1[[#This Row],[Column48]]),ISBLANK(Table1[[#This Row],[Column49]])), \"\",Table1[[#This Row],[Column48]]*Table1[[#This Row],[Column49]])","v":""},null,null,null,null,{"$f":"IF(OR(ISBLANK(Table1[[#This Row],[Column52]]),ISBLANK(Table1[[#This Row],[Column53]])), \"\",Table1[[#This Row],[Column52]]*Table1[[#This Row],[Column53]])","v":""},null,null,null,null,{"$f":"IF(OR(ISBLANK(Table1[[#This Row],[Column57]]),ISBLANK(Table1[[#This Row],[Column58]])), \"\",Table1[[#This Row],[Column57]]*Table1[[#This Row],[Column58]])","v":""},null,null,null,null,{"$f":"IF(OR(ISBLANK(Table1[[#This Row],[Column61]]),ISBLANK(Table1[[#This Row],[Column62]])), \"\",Table1[[#This Row],[Column61]]*Table1[[#This Row],[Column62]])","v":""}]
[99,"Chlorite","N","Disinfection by-product. No sample data currently available but expected to be during new WQ monitoring programme.",null,null,{"$f":"IF(OR(ISBLANK(Table1[[#This Row],[Column3]]),ISBLANK(Table1[[#This Row],[Column4]])), \"\",Table1[[#This Row],[Column3]]*Table1[[#This Row],[Column4]])","v":""},null,null,null,null,{"$f":"IF(OR(ISBLANK(Table1[[#This Row],[Column7]]),ISBLANK(Table1[[#This Row],[Column8]])), \"\",Table1[[#This Row],[Column7]]*Table1[[#This Row],[Column8]])","v":""},null,null,null,null,{"$f":"IF(OR(ISBLANK(Table1[[#This Row],[Column12]]),ISBLANK(Table1[[#This Row],[Column13]])), \"\",Table1[[#This Row],[Column12]]*Table1[[#This Row],[Column13]])","v":""},null,null,null,null,{"$f":"IF(OR(ISBLANK(Table1[[#This Row],[Column16]]),ISBLANK(Table1[[#This Row],[Column17]])), \"\",Table1[[#This Row],[Column16]]*Table1[[#This Row],[Column17]])","v":""},null,null,null,null,{"$f":"IF(OR(ISBLANK(Table1[[#This Row],[Column21]]),ISBLANK(Table1[[#This Row],[Column22]])), \"\",Table1[[#This Row],[Column21]]*Table1[[#This Row],[Column22]])","v":""},null,null,null,null,{"$f":"IF(OR(ISBLANK(Table1[[#This Row],[Column25]]),ISBLANK(Table1[[#This Row],[Column26]])), \"\",Table1[[#This Row],[Column25]]*Table1[[#This Row],[Column26]])","v":""},null,null,null,null,{"$f":"IF(OR(ISBLANK(Table1[[#This Row],[Column30]]),ISBLANK(Table1[[#This Row],[Column31]])), \"\",Table1[[#This Row],[Column30]]*Table1[[#This Row],[Column31]])","v":""},null,null,null,null,{"$f":"IF(OR(ISBLANK(Table1[[#This Row],[Column34]]),ISBLANK(Table1[[#This Row],[Column35]])), \"\",Table1[[#This Row],[Column34]]*Table1[[#This Row],[Column35]])","v":""},null,null,null,null,{"$f":"IF(OR(ISBLANK(Table1[[#This Row],[Column39]]),ISBLANK(Table1[[#This Row],[Column40]])), \"\",Table1[[#This Row],[Column39]]*Table1[[#This Row],[Column40]])","v":""},null,null,null,null,{"$f":"IF(OR(ISBLANK(Table1[[#This Row],[Column43]]),ISBLANK(Table1[[#This Row],[Column44]])), \"\",Table1[[#This Row],[Column43]]*Table1[[#This Row],[Column44]])","v":""},null,null,null,null,{"$f":"IF(OR(ISBLANK(Table1[[#This Row],[Column48]]),ISBLANK(Table1[[#This Row],[Column49]])), \"\",Table1[[#This Row],[Column48]]*Table1[[#This Row],[Column49]])","v":""},null,null,null,null,{"$f":"IF(OR(ISBLANK(Table1[[#This Row],[Column52]]),ISBLANK(Table1[[#This Row],[Column53]])), \"\",Table1[[#This Row],[Column52]]*Table1[[#This Row],[Column53]])","v":""},null,null,null,null,{"$f":"IF(OR(ISBLANK(Table1[[#This Row],[Column57]]),ISBLANK(Table1[[#This Row],[Column58]])), \"\",Table1[[#This Row],[Column57]]*Table1[[#This Row],[Column58]])","v":""},null,null,null,null,{"$f":"IF(OR(ISBLANK(Table1[[#This Row],[Column61]]),ISBLANK(Table1[[#This Row],[Column62]])), \"\",Table1[[#This Row],[Column61]]*Table1[[#This Row],[Column62]])","v":""}]
[100,"Chromium ","N","Derived from geology and industrial pollution.\n\nLow concentration of 4.29μg/l detected. (WSP)",null,null,{"$f":"IF(OR(ISBLANK(Table1[[#This Row],[Column3]]),ISBLANK(Table1[[#This Row],[Column4]])), \"\",Table1[[#This Row],[Column3]]*Table1[[#This Row],[Column4]])","v":""},null,null,null,null,{"$f":"IF(OR(ISBLANK(Table1[[#This Row],[Column7]]),ISBLANK(Table1[[#This Row],[Column8]])), \"\",Table1[[#This Row],[Column7]]*Table1[[#This Row],[Column8]])","v":""},null,null,null,null,{"$f":"IF(OR(ISBLANK(Table1[[#This Row],[Column12]]),ISBLANK(Table1[[#This Row],[Column13]])), \"\",Table1[[#This Row],[Column12]]*Table1[[#This Row],[Column13]])","v":""},null,null,null,null,{"$f":"IF(OR(ISBLANK(Table1[[#This Row],[Column16]]),ISBLANK(Table1[[#This Row],[Column17]])), \"\",Table1[[#This Row],[Column16]]*Table1[[#This Row],[Column17]])","v":""},null,null,null,null,{"$f":"IF(OR(ISBLANK(Table1[[#This Row],[Column21]]),ISBLANK(Table1[[#This Row],[Column22]])), \"\",Table1[[#This Row],[Column21]]*Table1[[#This Row],[Column22]])","v":""},null,null,null,null,{"$f":"IF(OR(ISBLANK(Table1[[#This Row],[Column25]]),ISBLANK(Table1[[#This Row],[Column26]])), \"\",Table1[[#This Row],[Column25]]*Table1[[#This Row],[Column26]])","v":""},null,null,null,null,{"$f":"IF(OR(ISBLANK(Table1[[#This Row],[Column30]]),ISBLANK(Table1[[#This Row],[Column31]])), \"\",Table1[[#This Row],[Column30]]*Table1[[#This Row],[Column31]])","v":""},null,null,null,null,{"$f":"IF(OR(ISBLANK(Table1[[#This Row],[Column34]]),ISBLANK(Table1[[#This Row],[Column35]])), \"\",Table1[[#This Row],[Column34]]*Table1[[#This Row],[Column35]])","v":""},null,null,null,null,{"$f":"IF(OR(ISBLANK(Table1[[#This Row],[Column39]]),ISBLANK(Table1[[#This Row],[Column40]])), \"\",Table1[[#This Row],[Column39]]*Table1[[#This Row],[Column40]])","v":""},null,null,null,null,{"$f":"IF(OR(ISBLANK(Table1[[#This Row],[Column43]]),ISBLANK(Table1[[#This Row],[Column44]])), \"\",Table1[[#This Row],[Column43]]*Table1[[#This Row],[Column44]])","v":""},null,null,null,null,{"$f":"IF(OR(ISBLANK(Table1[[#This Row],[Column48]]),ISBLANK(Table1[[#This Row],[Column49]])), \"\",Table1[[#This Row],[Column48]]*Table1[[#This Row],[Column49]])","v":""},null,null,null,null,{"$f":"IF(OR(ISBLANK(Table1[[#This Row],[Column52]]),ISBLANK(Table1[[#This Row],[Column53]])), \"\",Table1[[#This Row],[Column52]]*Table1[[#This Row],[Column53]])","v":""},null,null,null,null,{"$f":"IF(OR(ISBLANK(Table1[[#This Row],[Column57]]),ISBLANK(Table1[[#This Row],[Column58]])), \"\",Table1[[#This Row],[Column57]]*Table1[[#This Row],[Column58]])","v":""},null,null,null,null,{"$f":"IF(OR(ISBLANK(Table1[[#This Row],[Column61]]),ISBLANK(Table1[[#This Row],[Column62]])), \"\",Table1[[#This Row],[Column61]]*Table1[[#This Row],[Column62]])","v":""}]
[101,"Clostridium perfringens","N","Derived from faecal contamination. No sample data currently available but expected to be during new WQ monitoring programme.",null,null,{"$f":"IF(OR(ISBLANK(Table1[[#This Row],[Column3]]),ISBLANK(Table1[[#This Row],[Column4]])), \"\",Table1[[#This Row],[Column3]]*Table1[[#This Row],[Column4]])","v":""},null,null,null,null,{"$f":"IF(OR(ISBLANK(Table1[[#This Row],[Column7]]),ISBLANK(Table1[[#This Row],[Column8]])), \"\",Table1[[#This Row],[Column7]]*Table1[[#This Row],[Column8]])","v":""},null,null,null,null,{"$f":"IF(OR(ISBLANK(Table1[[#This Row],[Column12]]),ISBLANK(Table1[[#This Row],[Column13]])), \"\",Table1[[#This Row],[Column12]]*Table1[[#This Row],[Column13]])","v":""},null,null,null,null,{"$f":"IF(OR(ISBLANK(Table1[[#This Row],[Column16]]),ISBLANK(Table1[[#This Row],[Column17]])), \"\",Table1[[#This Row],[Column16]]*Table1[[#This Row],[Column17]])","v":""},null,null,null,null,{"$f":"IF(OR(ISBLANK(Table1[[#This Row],[Column21]]),ISBLANK(Table1[[#This Row],[Column22]])), \"\",Table1[[#This Row],[Column21]]*Table1[[#This Row],[Column22]])","v":""},null,null,null,null,{"$f":"IF(OR(ISBLANK(Table1[[#This Row],[Column25]]),ISBLANK(Table1[[#This Row],[Column26]])), \"\",Table1[[#This Row],[Column25]]*Table1[[#This Row],[Column26]])","v":""},null,null,null,null,{"$f":"IF(OR(ISBLANK(Table1[[#This Row],[Column30]]),ISBLANK(Table1[[#This Row],[Column31]])), \"\",Table1[[#This Row],[Column30]]*Table1[[#This Row],[Column31]])","v":""},null,null,null,null,{"$f":"IF(OR(ISBLANK(Table1[[#This Row],[Column34]]),ISBLANK(Table1[[#This Row],[Column35]])), \"\",Table1[[#This Row],[Column34]]*Table1[[#This Row],[Column35]])","v":""},null,null,null,null,{"$f":"IF(OR(ISBLANK(Table1[[#This Row],[Column39]]),ISBLANK(Table1[[#This Row],[Column40]])), \"\",Table1[[#This Row],[Column39]]*Table1[[#This Row],[Column40]])","v":""},null,null,null,null,{"$f":"IF(OR(ISBLANK(Table1[[#This Row],[Column43]]),ISBLANK(Table1[[#This Row],[Column44]])), \"\",Table1[[#This Row],[Column43]]*Table1[[#This Row],[Column44]])","v":""},null,null,null,null,{"$f":"IF(OR(ISBLANK(Table1[[#This Row],[Column48]]),ISBLANK(Table1[[#This Row],[Column49]])), \"\",Table1[[#This Row],[Column48]]*Table1[[#This Row],[Column49]])","v":""},null,null,null,null,{"$f":"IF(OR(ISBLANK(Table1[[#This Row],[Column52]]),ISBLANK(Table1[[#This Row],[Column53]])), \"\",Table1[[#This Row],[Column52]]*Table1[[#This Row],[Column53]])","v":""},null,null,null,null,{"$f":"IF(OR(ISBLANK(Table1[[#This Row],[Column57]]),ISBLANK(Table1[[#This Row],[Column58]])), \"\",Table1[[#This Row],[Column57]]*Table1[[#This Row],[Column58]])","v":""},null,null,null,null,{"$f":"IF(OR(ISBLANK(Table1[[#This Row],[Column61]]),ISBLANK(Table1[[#This Row],[Column62]])), \"\",Table1[[#This Row],[Column61]]*Table1[[#This Row],[Column62]])","v":""}]
[102,"Endocrine disrupting compounds","Y","Derived from industrial and domestic chemical usage.",5,5,{"$f":"IF(OR(ISBLANK(Table1[[#This Row],[Column3]]),ISBLANK(Table1[[#This Row],[Column4]])), \"\",Table1[[#This Row],[Column3]]*Table1[[#This Row],[Column4]])","v":25},"Gate 2 Water Quality Monitoring Programme shows 17B-oestradiol max value 0.0029ug/l, mean value 0.0011ug/l in Minworth WwTW effluent. Recorded values above the proposed DWD limit of 0.001ug/l (watch list).\nBisphenol A max value 137ug/l, mean value 27.7ug/l in Minworth effluent, above proposed DWI limit of 2.5ug/l.\nNonylphenol technical mix max value 0.51ug/l, above DWI watch list limit of 0.3ug/l, average value 0.28ug/l. \nSee also TBT below","None",5,5,{"$f":"IF(OR(ISBLANK(Table1[[#This Row],[Column7]]),ISBLANK(Table1[[#This Row],[Column8]])), \"\",Table1[[#This Row],[Column7]]*Table1[[#This Row],[Column8]])","v":25},"None.","None",5,5,{"$f":"IF(OR(ISBLANK(Table1[[#This Row],[Column12]]),ISBLANK(Table1[[#This Row],[Column13]])), \"\",Table1[[#This Row],[Column12]]*Table1[[#This Row],[Column13]])","v":25},"Risk profile unlikely to change","None",5,5,{"$f":"IF(OR(ISBLANK(Table1[[#This Row],[Column16]]),ISBLANK(Table1[[#This Row],[Column17]])), \"\",Table1[[#This Row],[Column16]]*Table1[[#This Row],[Column17]])","v":25},"None.","None.",5,5,{"$f":"IF(OR(ISBLANK(Table1[[#This Row],[Column21]]),ISBLANK(Table1[[#This Row],[Column22]])), \"\",Table1[[#This Row],[Column21]]*Table1[[#This Row],[Column22]])","v":25},"Risk not likely to change through conveyance","None",5,5,{"$f":"IF(OR(ISBLANK(Table1[[#This Row],[Column25]]),ISBLANK(Table1[[#This Row],[Column26]])), \"\",Table1[[#This Row],[Column25]]*Table1[[#This Row],[Column26]])","v":25},"No control so scores are cascaded from pre- to post-mitigated.","None",5,5,{"$f":"IF(OR(ISBLANK(Table1[[#This Row],[Column30]]),ISBLANK(Table1[[#This Row],[Column31]])), \"\",Table1[[#This Row],[Column30]]*Table1[[#This Row],[Column31]])","v":25},"Not sampled- likely to be high.","Mitigated through proposed Oxidation, Coagulation, flocculation and clarification, GAC/BAC and PAC ",1,5,{"$f":"IF(OR(ISBLANK(Table1[[#This Row],[Column34]]),ISBLANK(Table1[[#This Row],[Column35]])), \"\",Table1[[#This Row],[Column34]]*Table1[[#This Row],[Column35]])","v":5},"Treatment processes should mitigate risks. Residual risks may cause cancers. Ensure treatment will control endocrine disrupting compounds, especially the parameters on the DWI watch list.","Continue monitoring",1,5,{"$f":"IF(OR(ISBLANK(Table1[[#This Row],[Column39]]),ISBLANK(Table1[[#This Row],[Column40]])), \"\",Table1[[#This Row],[Column39]]*Table1[[#This Row],[Column40]])","v":5},"Risk unlikely to increase through to storage","No control measure required",1,5,{"$f":"IF(OR(ISBLANK(Table1[[#This Row],[Column43]]),ISBLANK(Table1[[#This Row],[Column44]])), \"\",Table1[[#This Row],[Column43]]*Table1[[#This Row],[Column44]])","v":5},"None","None",1,5,{"$f":"IF(OR(ISBLANK(Table1[[#This Row],[Column48]]),ISBLANK(Table1[[#This Row],[Column49]])), \"\",Table1[[#This Row],[Column48]]*Table1[[#This Row],[Column49]])","v":5},"Risk unlikely to increase during distribution","None",1,5,{"$f":"IF(OR(ISBLANK(Table1[[#This Row],[Column52]]),ISBLANK(Table1[[#This Row],[Column53]])), \"\",Table1[[#This Row],[Column52]]*Table1[[#This Row],[Column53]])","v":5},"None","None",1,5,{"$f":"IF(OR(ISBLANK(Table1[[#This Row],[Column57]]),ISBLANK(Table1[[#This Row],[Column58]])), \"\",Table1[[#This Row],[Column57]]*Table1[[#This Row],[Column58]])","v":5},"Risk unlikely to change through to customer taps","None",1,5,{"$f":"IF(OR(ISBLANK(Table1[[#This Row],[Column61]]),ISBLANK(Table1[[#This Row],[Column62]])), \"\",Table1[[#This Row],[Column61]]*Table1[[#This Row],[Column62]])","v":5},"None","None"]
[103,"beta - oestradiol ","N","Derived from industrial and domestic chemical usage. Not sampled. Covered by Endocrine Disrupting Compounds limiting hazard",null,null,{"$f":"IF(OR(ISBLANK(Table1[[#This Row],[Column3]]),ISBLANK(Table1[[#This Row],[Column4]])), \"\",Table1[[#This Row],[Column3]]*Table1[[#This Row],[Column4]])","v":""},null,null,null,null,{"$f":"IF(OR(ISBLANK(Table1[[#This Row],[Column7]]),ISBLANK(Table1[[#This Row],[Column8]])), \"\",Table1[[#This Row],[Column7]]*Table1[[#This Row],[Column8]])","v":""},null,null,null,null,{"$f":"IF(OR(ISBLANK(Table1[[#This Row],[Column12]]),ISBLANK(Table1[[#This Row],[Column13]])), \"\",Table1[[#This Row],[Column12]]*Table1[[#This Row],[Column13]])","v":""},null,null,null,null,{"$f":"IF(OR(ISBLANK(Table1[[#This Row],[Column16]]),ISBLANK(Table1[[#This Row],[Column17]])), \"\",Table1[[#This Row],[Column16]]*Table1[[#This Row],[Column17]])","v":""},null,null,null,null,{"$f":"IF(OR(ISBLANK(Table1[[#This Row],[Column21]]),ISBLANK(Table1[[#This Row],[Column22]])), \"\",Table1[[#This Row],[Column21]]*Table1[[#This Row],[Column22]])","v":""},null,null,null,null,{"$f":"IF(OR(ISBLANK(Table1[[#This Row],[Column25]]),ISBLANK(Table1[[#This Row],[Column26]])), \"\",Table1[[#This Row],[Column25]]*Table1[[#This Row],[Column26]])","v":""},null,null,null,null,{"$f":"IF(OR(ISBLANK(Table1[[#This Row],[Column30]]),ISBLANK(Table1[[#This Row],[Column31]])), \"\",Table1[[#This Row],[Column30]]*Table1[[#This Row],[Column31]])","v":""},null,null,null,null,{"$f":"IF(OR(ISBLANK(Table1[[#This Row],[Column34]]),ISBLANK(Table1[[#This Row],[Column35]])), \"\",Table1[[#This Row],[Column34]]*Table1[[#This Row],[Column35]])","v":""},null,null,null,null,{"$f":"IF(OR(ISBLANK(Table1[[#This Row],[Column39]]),ISBLANK(Table1[[#This Row],[Column40]])), \"\",Table1[[#This Row],[Column39]]*Table1[[#This Row],[Column40]])","v":""},null,null,null,null,{"$f":"IF(OR(ISBLANK(Table1[[#This Row],[Column43]]),ISBLANK(Table1[[#This Row],[Column44]])), \"\",Table1[[#This Row],[Column43]]*Table1[[#This Row],[Column44]])","v":""},null,null,null,null,{"$f":"IF(OR(ISBLANK(Table1[[#This Row],[Column48]]),ISBLANK(Table1[[#This Row],[Column49]])), \"\",Table1[[#This Row],[Column48]]*Table1[[#This Row],[Column49]])","v":""},null,null,null,null,{"$f":"IF(OR(ISBLANK(Table1[[#This Row],[Column52]]),ISBLANK(Table1[[#This Row],[Column53]])), \"\",Table1[[#This Row],[Column52]]*Table1[[#This Row],[Column53]])","v":""},null,null,null,null,{"$f":"IF(OR(ISBLANK(Table1[[#This Row],[Column57]]),ISBLANK(Table1[[#This Row],[Column58]])), \"\",Table1[[#This Row],[Column57]]*Table1[[#This Row],[Column58]])","v":""},null,null,null,null,{"$f":"IF(OR(ISBLANK(Table1[[#This Row],[Column61]]),ISBLANK(Table1[[#This Row],[Column62]])), \"\",Table1[[#This Row],[Column61]]*Table1[[#This Row],[Column62]])","v":""}]
[104,"nonylphenol ","N","Derived from production of resins and polymers.\n\nConcentrations <0.01μg/l detected (WSP)",null,null,{"$f":"IF(OR(ISBLANK(Table1[[#This Row],[Column3]]),ISBLANK(Table1[[#This Row],[Column4]])), \"\",Table1[[#This Row],[Column3]]*Table1[[#This Row],[Column4]])","v":""},null,null,null,null,{"$f":"IF(OR(ISBLANK(Table1[[#This Row],[Column7]]),ISBLANK(Table1[[#This Row],[Column8]])), \"\",Table1[[#This Row],[Column7]]*Table1[[#This Row],[Column8]])","v":""},null,null,null,null,{"$f":"IF(OR(ISBLANK(Table1[[#This Row],[Column12]]),ISBLANK(Table1[[#This Row],[Column13]])), \"\",Table1[[#This Row],[Column12]]*Table1[[#This Row],[Column13]])","v":""},null,null,null,null,{"$f":"IF(OR(ISBLANK(Table1[[#This Row],[Column16]]),ISBLANK(Table1[[#This Row],[Column17]])), \"\",Table1[[#This Row],[Column16]]*Table1[[#This Row],[Column17]])","v":""},null,null,null,null,{"$f":"IF(OR(ISBLANK(Table1[[#This Row],[Column21]]),ISBLANK(Table1[[#This Row],[Column22]])), \"\",Table1[[#This Row],[Column21]]*Table1[[#This Row],[Column22]])","v":""},null,null,null,null,{"$f":"IF(OR(ISBLANK(Table1[[#This Row],[Column25]]),ISBLANK(Table1[[#This Row],[Column26]])), \"\",Table1[[#This Row],[Column25]]*Table1[[#This Row],[Column26]])","v":""},null,null,null,null,{"$f":"IF(OR(ISBLANK(Table1[[#This Row],[Column30]]),ISBLANK(Table1[[#This Row],[Column31]])), \"\",Table1[[#This Row],[Column30]]*Table1[[#This Row],[Column31]])","v":""},null,null,null,null,{"$f":"IF(OR(ISBLANK(Table1[[#This Row],[Column34]]),ISBLANK(Table1[[#This Row],[Column35]])), \"\",Table1[[#This Row],[Column34]]*Table1[[#This Row],[Column35]])","v":""},null,null,null,null,{"$f":"IF(OR(ISBLANK(Table1[[#This Row],[Column39]]),ISBLANK(Table1[[#This Row],[Column40]])), \"\",Table1[[#This Row],[Column39]]*Table1[[#This Row],[Column40]])","v":""},null,null,null,null,{"$f":"IF(OR(ISBLANK(Table1[[#This Row],[Column43]]),ISBLANK(Table1[[#This Row],[Column44]])), \"\",Table1[[#This Row],[Column43]]*Table1[[#This Row],[Column44]])","v":""},null,null,null,null,{"$f":"IF(OR(ISBLANK(Table1[[#This Row],[Column48]]),ISBLANK(Table1[[#This Row],[Column49]])), \"\",Table1[[#This Row],[Column48]]*Table1[[#This Row],[Column49]])","v":""},null,null,null,null,{"$f":"IF(OR(ISBLANK(Table1[[#This Row],[Column52]]),ISBLANK(Table1[[#This Row],[Column53]])), \"\",Table1[[#This Row],[Column52]]*Table1[[#This Row],[Column53]])","v":""},null,null,null,null,{"$f":"IF(OR(ISBLANK(Table1[[#This Row],[Column57]]),ISBLANK(Table1[[#This Row],[Column58]])), \"\",Table1[[#This Row],[Column57]]*Table1[[#This Row],[Column58]])","v":""},null,null,null,null,{"$f":"IF(OR(ISBLANK(Table1[[#This Row],[Column61]]),ISBLANK(Table1[[#This Row],[Column62]])), \"\",Table1[[#This Row],[Column61]]*Table1[[#This Row],[Column62]])","v":""}]
[105,"bisphenol ","N","Derived from production of resins and polymers. No sample data currently available but expected to be during new WQ monitoring programme.",null,null,{"$f":"IF(OR(ISBLANK(Table1[[#This Row],[Column3]]),ISBLANK(Table1[[#This Row],[Column4]])), \"\",Table1[[#This Row],[Column3]]*Table1[[#This Row],[Column4]])","v":""},null,null,null,null,{"$f":"IF(OR(ISBLANK(Table1[[#This Row],[Column7]]),ISBLANK(Table1[[#This Row],[Column8]])), \"\",Table1[[#This Row],[Column7]]*Table1[[#This Row],[Column8]])","v":""},null,null,null,null,{"$f":"IF(OR(ISBLANK(Table1[[#This Row],[Column12]]),ISBLANK(Table1[[#This Row],[Column13]])), \"\",Table1[[#This Row],[Column12]]*Table1[[#This Row],[Column13]])","v":""},null,null,null,null,{"$f":"IF(OR(ISBLANK(Table1[[#This Row],[Column16]]),ISBLANK(Table1[[#This Row],[Column17]])), \"\",Table1[[#This Row],[Column16]]*Table1[[#This Row],[Column17]])","v":""},null,null,null,null,{"$f":"IF(OR(ISBLANK(Table1[[#This Row],[Column21]]),ISBLANK(Table1[[#This Row],[Column22]])), \"\",Table1[[#This Row],[Column21]]*Table1[[#This Row],[Column22]])","v":""},null,null,null,null,{"$f":"IF(OR(ISBLANK(Table1[[#This Row],[Column25]]),ISBLANK(Table1[[#This Row],[Column26]])), \"\",Table1[[#This Row],[Column25]]*Table1[[#This Row],[Column26]])","v":""},null,null,null,null,{"$f":"IF(OR(ISBLANK(Table1[[#This Row],[Column30]]),ISBLANK(Table1[[#This Row],[Column31]])), \"\",Table1[[#This Row],[Column30]]*Table1[[#This Row],[Column31]])","v":""},null,null,null,null,{"$f":"IF(OR(ISBLANK(Table1[[#This Row],[Column34]]),ISBLANK(Table1[[#This Row],[Column35]])), \"\",Table1[[#This Row],[Column34]]*Table1[[#This Row],[Column35]])","v":""},null,null,null,null,{"$f":"IF(OR(ISBLANK(Table1[[#This Row],[Column39]]),ISBLANK(Table1[[#This Row],[Column40]])), \"\",Table1[[#This Row],[Column39]]*Table1[[#This Row],[Column40]])","v":""},null,null,null,null,{"$f":"IF(OR(ISBLANK(Table1[[#This Row],[Column43]]),ISBLANK(Table1[[#This Row],[Column44]])), \"\",Table1[[#This Row],[Column43]]*Table1[[#This Row],[Column44]])","v":""},null,null,null,null,{"$f":"IF(OR(ISBLANK(Table1[[#This Row],[Column48]]),ISBLANK(Table1[[#This Row],[Column49]])), \"\",Table1[[#This Row],[Column48]]*Table1[[#This Row],[Column49]])","v":""},null,null,null,null,{"$f":"IF(OR(ISBLANK(Table1[[#This Row],[Column52]]),ISBLANK(Table1[[#This Row],[Column53]])), \"\",Table1[[#This Row],[Column52]]*Table1[[#This Row],[Column53]])","v":""},null,null,null,null,{"$f":"IF(OR(ISBLANK(Table1[[#This Row],[Column57]]),ISBLANK(Table1[[#This Row],[Column58]])), \"\",Table1[[#This Row],[Column57]]*Table1[[#This Row],[Column58]])","v":""},null,null,null,null,{"$f":"IF(OR(ISBLANK(Table1[[#This Row],[Column61]]),ISBLANK(Table1[[#This Row],[Column62]])), \"\",Table1[[#This Row],[Column61]]*Table1[[#This Row],[Column62]])","v":""}]
[106,"Lead","N","Derived from geology and industry.",4,5,{"$f":"IF(OR(ISBLANK(Table1[[#This Row],[Column3]]),ISBLANK(Table1[[#This Row],[Column4]])), \"\",Table1[[#This Row],[Column3]]*Table1[[#This Row],[Column4]])","v":20},"Max. concentration (8.9μg/l) close to standards value (WSP)","None",4,5,{"$f":"IF(OR(ISBLANK(Table1[[#This Row],[Column7]]),ISBLANK(Table1[[#This Row],[Column8]])), \"\",Table1[[#This Row],[Column7]]*Table1[[#This Row],[Column8]])","v":20},"Mitigated through treatment.","None",4,5,{"$f":"IF(OR(ISBLANK(Table1[[#This Row],[Column12]]),ISBLANK(Table1[[#This Row],[Column13]])), \"\",Table1[[#This Row],[Column12]]*Table1[[#This Row],[Column13]])","v":20},"Max. concentration (8.9μg/l) close to standards value (WSP)","None",4,5,{"$f":"IF(OR(ISBLANK(Table1[[#This Row],[Column16]]),ISBLANK(Table1[[#This Row],[Column17]])), \"\",Table1[[#This Row],[Column16]]*Table1[[#This Row],[Column17]])","v":20},"Mitigated through treatment.","None.",4,5,{"$f":"IF(OR(ISBLANK(Table1[[#This Row],[Column21]]),ISBLANK(Table1[[#This Row],[Column22]])), \"\",Table1[[#This Row],[Column21]]*Table1[[#This Row],[Column22]])","v":20},"Risk not likely to change through conveyance","None",4,5,{"$f":"IF(OR(ISBLANK(Table1[[#This Row],[Column25]]),ISBLANK(Table1[[#This Row],[Column26]])), \"\",Table1[[#This Row],[Column25]]*Table1[[#This Row],[Column26]])","v":20},"No control so scores are cascaded from pre- to post-mitigated.","None",4,5,{"$f":"IF(OR(ISBLANK(Table1[[#This Row],[Column30]]),ISBLANK(Table1[[#This Row],[Column31]])), \"\",Table1[[#This Row],[Column30]]*Table1[[#This Row],[Column31]])","v":20},"Present during sampling.","Controlled through Coagulation, flocculation and clarification, as well as orthophosphate dosing.",1,5,{"$f":"IF(OR(ISBLANK(Table1[[#This Row],[Column34]]),ISBLANK(Table1[[#This Row],[Column35]])), \"\",Table1[[#This Row],[Column34]]*Table1[[#This Row],[Column35]])","v":5},"Treatment to mitigate Lead entering supply.","Continue monitoring.",1,5,{"$f":"IF(OR(ISBLANK(Table1[[#This Row],[Column39]]),ISBLANK(Table1[[#This Row],[Column40]])), \"\",Table1[[#This Row],[Column39]]*Table1[[#This Row],[Column40]])","v":5},"Risk mitigated during treatment","Monitoring carried out elsewhere.",1,5,{"$f":"IF(OR(ISBLANK(Table1[[#This Row],[Column43]]),ISBLANK(Table1[[#This Row],[Column44]])), \"\",Table1[[#This Row],[Column43]]*Table1[[#This Row],[Column44]])","v":5},"None","None",1,5,{"$f":"IF(OR(ISBLANK(Table1[[#This Row],[Column48]]),ISBLANK(Table1[[#This Row],[Column49]])), \"\",Table1[[#This Row],[Column48]]*Table1[[#This Row],[Column49]])","v":5},"Risk unlikely to increase during distribution","None",1,5,{"$f":"IF(OR(ISBLANK(Table1[[#This Row],[Column52]]),ISBLANK(Table1[[#This Row],[Column53]])), \"\",Table1[[#This Row],[Column52]]*Table1[[#This Row],[Column53]])","v":5},"None","None",1,5,{"$f":"IF(OR(ISBLANK(Table1[[#This Row],[Column57]]),ISBLANK(Table1[[#This Row],[Column58]])), \"\",Table1[[#This Row],[Column57]]*Table1[[#This Row],[Column58]])","v":5},"Any risk of lead at the customer taps from distribution is to be mitigated by the use of orthophosphate dosing.","None",1,5,{"$f":"IF(OR(ISBLANK(Table1[[#This Row],[Column61]]),ISBLANK(Table1[[#This Row],[Column62]])), \"\",Table1[[#This Row],[Column61]]*Table1[[#This Row],[Column62]])","v":5},"No evidence to suggest a change of risk to customers due to GUC scheme. Controlled through orthophosphate dosing at treatment- network management.","None"]
[107,"Perfluorooctane sulfonate (PFOS)","N","Flame retardant - appears in surface waters.- Moved into new parameter of PFAS Substances",3,5,{"$f":"IF(OR(ISBLANK(Table1[[#This Row],[Column3]]),ISBLANK(Table1[[#This Row],[Column4]])), \"\",Table1[[#This Row],[Column3]]*Table1[[#This Row],[Column4]])","v":15},"Detected but did not exceed current PCV (WSP)","None",3,5,{"$f":"IF(OR(ISBLANK(Table1[[#This Row],[Column7]]),ISBLANK(Table1[[#This Row],[Column8]])), \"\",Table1[[#This Row],[Column7]]*Table1[[#This Row],[Column8]])","v":15},"Mitigated through treatment.","None",3,5,{"$f":"IF(OR(ISBLANK(Table1[[#This Row],[Column12]]),ISBLANK(Table1[[#This Row],[Column13]])), \"\",Table1[[#This Row],[Column12]]*Table1[[#This Row],[Column13]])","v":15},"Risk profile unlikely to change","None",3,5,{"$f":"IF(OR(ISBLANK(Table1[[#This Row],[Column16]]),ISBLANK(Table1[[#This Row],[Column17]])), \"\",Table1[[#This Row],[Column16]]*Table1[[#This Row],[Column17]])","v":15},"Mitigated through treatment.","None.",3,5,{"$f":"IF(OR(ISBLANK(Table1[[#This Row],[Column21]]),ISBLANK(Table1[[#This Row],[Column22]])), \"\",Table1[[#This Row],[Column21]]*Table1[[#This Row],[Column22]])","v":15},"Risk not likely to change through conveyance","None",3,5,{"$f":"IF(OR(ISBLANK(Table1[[#This Row],[Column25]]),ISBLANK(Table1[[#This Row],[Column26]])), \"\",Table1[[#This Row],[Column25]]*Table1[[#This Row],[Column26]])","v":15},"No control so scores are cascaded from pre- to post-mitigated.","None",3,5,{"$f":"IF(OR(ISBLANK(Table1[[#This Row],[Column30]]),ISBLANK(Table1[[#This Row],[Column31]])), \"\",Table1[[#This Row],[Column30]]*Table1[[#This Row],[Column31]])","v":15},"Current concentrations within PCV.","GAC/BAC",1,5,{"$f":"IF(OR(ISBLANK(Table1[[#This Row],[Column34]]),ISBLANK(Table1[[#This Row],[Column35]])), \"\",Table1[[#This Row],[Column34]]*Table1[[#This Row],[Column35]])","v":5},"GAC to provide suitable removal with sufficient contact time.","Continue monitoring, ensure meets standards if regulatory values change.",1,5,{"$f":"IF(OR(ISBLANK(Table1[[#This Row],[Column39]]),ISBLANK(Table1[[#This Row],[Column40]])), \"\",Table1[[#This Row],[Column39]]*Table1[[#This Row],[Column40]])","v":5},"Risk unlikely to increase through to storage","No control measure required",1,5,{"$f":"IF(OR(ISBLANK(Table1[[#This Row],[Column43]]),ISBLANK(Table1[[#This Row],[Column44]])), \"\",Table1[[#This Row],[Column43]]*Table1[[#This Row],[Column44]])","v":5},"None","None",1,5,{"$f":"IF(OR(ISBLANK(Table1[[#This Row],[Column48]]),ISBLANK(Table1[[#This Row],[Column49]])), \"\",Table1[[#This Row],[Column48]]*Table1[[#This Row],[Column49]])","v":5},"Risk unlikely to increase during distribution","None",1,5,{"$f":"IF(OR(ISBLANK(Table1[[#This Row],[Column52]]),ISBLANK(Table1[[#This Row],[Column53]])), \"\",Table1[[#This Row],[Column52]]*Table1[[#This Row],[Column53]])","v":5},"None","None",1,5,{"$f":"IF(OR(ISBLANK(Table1[[#This Row],[Column57]]),ISBLANK(Table1[[#This Row],[Column58]])), \"\",Table1[[#This Row],[Column57]]*Table1[[#This Row],[Column58]])","v":5},"Risk unlikely to change through to customer taps","None",1,5,{"$f":"IF(OR(ISBLANK(Table1[[#This Row],[Column61]]),ISBLANK(Table1[[#This Row],[Column62]])), \"\",Table1[[#This Row],[Column61]]*Table1[[#This Row],[Column62]])","v":5},"None","Continued monitoring is recommended to identify the magnitude of the risk"]
[108,"Perfluorooctanoic acid (PFOA)","N","Flame retardant - appears in surface waters. Controlled through PFOS limiting hazard.\n\nDetected but did not exceed current PCV (WSP)",null,null,{"$f":"IF(OR(ISBLANK(Table1[[#This Row],[Column3]]),ISBLANK(Table1[[#This Row],[Column4]])), \"\",Table1[[#This Row],[Column3]]*Table1[[#This Row],[Column4]])","v":""},null,null,null,null,{"$f":"IF(OR(ISBLANK(Table1[[#This Row],[Column7]]),ISBLANK(Table1[[#This Row],[Column8]])), \"\",Table1[[#This Row],[Column7]]*Table1[[#This Row],[Column8]])","v":""},null,null,null,null,{"$f":"IF(OR(ISBLANK(Table1[[#This Row],[Column12]]),ISBLANK(Table1[[#This Row],[Column13]])), \"\",Table1[[#This Row],[Column12]]*Table1[[#This Row],[Column13]])","v":""},null,null,null,null,{"$f":"IF(OR(ISBLANK(Table1[[#This Row],[Column16]]),ISBLANK(Table1[[#This Row],[Column17]])), \"\",Table1[[#This Row],[Column16]]*Table1[[#This Row],[Column17]])","v":""},null,null,null,null,{"$f":"IF(OR(ISBLANK(Table1[[#This Row],[Column21]]),ISBLANK(Table1[[#This Row],[Column22]])), \"\",Table1[[#This Row],[Column21]]*Table1[[#This Row],[Column22]])","v":""},null,null,null,null,{"$f":"IF(OR(ISBLANK(Table1[[#This Row],[Column25]]),ISBLANK(Table1[[#This Row],[Column26]])), \"\",Table1[[#This Row],[Column25]]*Table1[[#This Row],[Column26]])","v":""},null,null,null,null,{"$f":"IF(OR(ISBLANK(Table1[[#This Row],[Column30]]),ISBLANK(Table1[[#This Row],[Column31]])), \"\",Table1[[#This Row],[Column30]]*Table1[[#This Row],[Column31]])","v":""},null,null,null,null,{"$f":"IF(OR(ISBLANK(Table1[[#This Row],[Column34]]),ISBLANK(Table1[[#This Row],[Column35]])), \"\",Table1[[#This Row],[Column34]]*Table1[[#This Row],[Column35]])","v":""},null,null,null,null,{"$f":"IF(OR(ISBLANK(Table1[[#This Row],[Column39]]),ISBLANK(Table1[[#This Row],[Column40]])), \"\",Table1[[#This Row],[Column39]]*Table1[[#This Row],[Column40]])","v":""},null,null,null,null,{"$f":"IF(OR(ISBLANK(Table1[[#This Row],[Column43]]),ISBLANK(Table1[[#This Row],[Column44]])), \"\",Table1[[#This Row],[Column43]]*Table1[[#This Row],[Column44]])","v":""},null,null,null,null,{"$f":"IF(OR(ISBLANK(Table1[[#This Row],[Column48]]),ISBLANK(Table1[[#This Row],[Column49]])), \"\",Table1[[#This Row],[Column48]]*Table1[[#This Row],[Column49]])","v":""},null,null,null,null,{"$f":"IF(OR(ISBLANK(Table1[[#This Row],[Column52]]),ISBLANK(Table1[[#This Row],[Column53]])), \"\",Table1[[#This Row],[Column52]]*Table1[[#This Row],[Column53]])","v":""},null,null,null,null,{"$f":"IF(OR(ISBLANK(Table1[[#This Row],[Column57]]),ISBLANK(Table1[[#This Row],[Column58]])), \"\",Table1[[#This Row],[Column57]]*Table1[[#This Row],[Column58]])","v":""},null,null,null,null,{"$f":"IF(OR(ISBLANK(Table1[[#This Row],[Column61]]),ISBLANK(Table1[[#This Row],[Column62]])), \"\",Table1[[#This Row],[Column61]]*Table1[[#This Row],[Column62]])","v":""}]
[109,"Somatic coliphage","N","Viruses derived from faecal contamination and sewage. No sample data currently available, but likely to be present doe to Minworth effluent reuse. Controlled under pathogens limiting hazard.",null,null,{"$f":"IF(OR(ISBLANK(Table1[[#This Row],[Column3]]),ISBLANK(Table1[[#This Row],[Column4]])), \"\",Table1[[#This Row],[Column3]]*Table1[[#This Row],[Column4]])","v":""},null,null,null,null,{"$f":"IF(OR(ISBLANK(Table1[[#This Row],[Column7]]),ISBLANK(Table1[[#This Row],[Column8]])), \"\",Table1[[#This Row],[Column7]]*Table1[[#This Row],[Column8]])","v":""},null,null,null,null,{"$f":"IF(OR(ISBLANK(Table1[[#This Row],[Column12]]),ISBLANK(Table1[[#This Row],[Column13]])), \"\",Table1[[#This Row],[Column12]]*Table1[[#This Row],[Column13]])","v":""},null,null,null,null,{"$f":"IF(OR(ISBLANK(Table1[[#This Row],[Column16]]),ISBLANK(Table1[[#This Row],[Column17]])), \"\",Table1[[#This Row],[Column16]]*Table1[[#This Row],[Column17]])","v":""},null,null,null,null,{"$f":"IF(OR(ISBLANK(Table1[[#This Row],[Column21]]),ISBLANK(Table1[[#This Row],[Column22]])), \"\",Table1[[#This Row],[Column21]]*Table1[[#This Row],[Column22]])","v":""},null,null,null,null,{"$f":"IF(OR(ISBLANK(Table1[[#This Row],[Column25]]),ISBLANK(Table1[[#This Row],[Column26]])), \"\",Table1[[#This Row],[Column25]]*Table1[[#This Row],[Column26]])","v":""},null,null,null,null,{"$f":"IF(OR(ISBLANK(Table1[[#This Row],[Column30]]),ISBLANK(Table1[[#This Row],[Column31]])), \"\",Table1[[#This Row],[Column30]]*Table1[[#This Row],[Column31]])","v":""},null,null,null,null,{"$f":"IF(OR(ISBLANK(Table1[[#This Row],[Column34]]),ISBLANK(Table1[[#This Row],[Column35]])), \"\",Table1[[#This Row],[Column34]]*Table1[[#This Row],[Column35]])","v":""},null,null,null,null,{"$f":"IF(OR(ISBLANK(Table1[[#This Row],[Column39]]),ISBLANK(Table1[[#This Row],[Column40]])), \"\",Table1[[#This Row],[Column39]]*Table1[[#This Row],[Column40]])","v":""},null,null,null,null,{"$f":"IF(OR(ISBLANK(Table1[[#This Row],[Column43]]),ISBLANK(Table1[[#This Row],[Column44]])), \"\",Table1[[#This Row],[Column43]]*Table1[[#This Row],[Column44]])","v":""},null,null,null,null,{"$f":"IF(OR(ISBLANK(Table1[[#This Row],[Column48]]),ISBLANK(Table1[[#This Row],[Column49]])), \"\",Table1[[#This Row],[Column48]]*Table1[[#This Row],[Column49]])","v":""},null,null,null,null,{"$f":"IF(OR(ISBLANK(Table1[[#This Row],[Column52]]),ISBLANK(Table1[[#This Row],[Column53]])), \"\",Table1[[#This Row],[Column52]]*Table1[[#This Row],[Column53]])","v":""},null,null,null,null,{"$f":"IF(OR(ISBLANK(Table1[[#This Row],[Column57]]),ISBLANK(Table1[[#This Row],[Column58]])), \"\",Table1[[#This Row],[Column57]]*Table1[[#This Row],[Column58]])","v":""},null,null,null,null,{"$f":"IF(OR(ISBLANK(Table1[[#This Row],[Column61]]),ISBLANK(Table1[[#This Row],[Column62]])), \"\",Table1[[#This Row],[Column61]]*Table1[[#This Row],[Column62]])","v":""}]
[null,"General Parameters/Other",null,null,null,null,{"$f":"IF(OR(ISBLANK(Table1[[#This Row],[Column3]]),ISBLANK(Table1[[#This Row],[Column4]])), \"\",Table1[[#This Row],[Column3]]*Table1[[#This Row],[Column4]])","v":""},null,null,null,null,{"$f":"IF(OR(ISBLANK(Table1[[#This Row],[Column7]]),ISBLANK(Table1[[#This Row],[Column8]])), \"\",Table1[[#This Row],[Column7]]*Table1[[#This Row],[Column8]])","v":""},null,null,null,null,{"$f":"IF(OR(ISBLANK(Table1[[#This Row],[Column12]]),ISBLANK(Table1[[#This Row],[Column13]])), \"\",Table1[[#This Row],[Column12]]*Table1[[#This Row],[Column13]])","v":""},null,null,null,null,{"$f":"IF(OR(ISBLANK(Table1[[#This Row],[Column16]]),ISBLANK(Table1[[#This Row],[Column17]])), \"\",Table1[[#This Row],[Column16]]*Table1[[#This Row],[Column17]])","v":""},null,null,null,null,{"$f":"IF(OR(ISBLANK(Table1[[#This Row],[Column21]]),ISBLANK(Table1[[#This Row],[Column22]])), \"\",Table1[[#This Row],[Column21]]*Table1[[#This Row],[Column22]])","v":""},null,null,null,null,{"$f":"IF(OR(ISBLANK(Table1[[#This Row],[Column25]]),ISBLANK(Table1[[#This Row],[Column26]])), \"\",Table1[[#This Row],[Column25]]*Table1[[#This Row],[Column26]])","v":""},null,null,null,null,{"$f":"IF(OR(ISBLANK(Table1[[#This Row],[Column30]]),ISBLANK(Table1[[#This Row],[Column31]])), \"\",Table1[[#This Row],[Column30]]*Table1[[#This Row],[Column31]])","v":""},null,null,null,null,{"$f":"IF(OR(ISBLANK(Table1[[#This Row],[Column34]]),ISBLANK(Table1[[#This Row],[Column35]])), \"\",Table1[[#This Row],[Column34]]*Table1[[#This Row],[Column35]])","v":""},null,null,null,null,{"$f":"IF(OR(ISBLANK(Table1[[#This Row],[Column39]]),ISBLANK(Table1[[#This Row],[Column40]])), \"\",Table1[[#This Row],[Column39]]*Table1[[#This Row],[Column40]])","v":""},null,null,null,null,{"$f":"IF(OR(ISBLANK(Table1[[#This Row],[Column43]]),ISBLANK(Table1[[#This Row],[Column44]])), \"\",Table1[[#This Row],[Column43]]*Table1[[#This Row],[Column44]])","v":""},null,null,null,null,{"$f":"IF(OR(ISBLANK(Table1[[#This Row],[Column48]]),ISBLANK(Table1[[#This Row],[Column49]])), \"\",Table1[[#This Row],[Column48]]*Table1[[#This Row],[Column49]])","v":""},null,null,null,null,{"$f":"IF(OR(ISBLANK(Table1[[#This Row],[Column52]]),ISBLANK(Table1[[#This Row],[Column53]])), \"\",Table1[[#This Row],[Column52]]*Table1[[#This Row],[Column53]])","v":""},null,null,null,null,{"$f":"IF(OR(ISBLANK(Table1[[#This Row],[Column57]]),ISBLANK(Table1[[#This Row],[Column58]])), \"\",Table1[[#This Row],[Column57]]*Table1[[#This Row],[Column58]])","v":""},null,null,null,null,{"$f":"IF(OR(ISBLANK(Table1[[#This Row],[Column61]]),ISBLANK(Table1[[#This Row],[Column62]])), \"\",Table1[[#This Row],[Column61]]*Table1[[#This Row],[Column62]])","v":""}]
[null,"Turbidity ","Y","Derived from sediment transport from catchment.",5,4,{"$f":"IF(OR(ISBLANK(Table1[[#This Row],[Column3]]),ISBLANK(Table1[[#This Row],[Column4]])), \"\",Table1[[#This Row],[Column3]]*Table1[[#This Row],[Column4]])","v":20},"Gate 2 Water Quality Monitoring Programme confirms turbidity at Site 1 Minworth WwTW effluent. Max recorded value 14NTU, average reading 3.4NTU.\n\nSonde data at Grove Lock (Site 6) recorded max value 973.3NTU, 90%ile 31.7NTU, Mean value 20.5NTU.","None",5,4,{"$f":"IF(OR(ISBLANK(Table1[[#This Row],[Column7]]),ISBLANK(Table1[[#This Row],[Column8]])), \"\",Table1[[#This Row],[Column7]]*Table1[[#This Row],[Column8]])","v":20},"Mitigated through treatment- scores based on judgement.","None",5,4,{"$f":"IF(OR(ISBLANK(Table1[[#This Row],[Column12]]),ISBLANK(Table1[[#This Row],[Column13]])), \"\",Table1[[#This Row],[Column12]]*Table1[[#This Row],[Column13]])","v":20},"Risk profile unlikely to change","Raw water storage may reduce some turbidity",5,4,{"$f":"IF(OR(ISBLANK(Table1[[#This Row],[Column16]]),ISBLANK(Table1[[#This Row],[Column17]])), \"\",Table1[[#This Row],[Column16]]*Table1[[#This Row],[Column17]])","v":20},"Mitigated through treatment- scores based on judgement.","None.",5,4,{"$f":"IF(OR(ISBLANK(Table1[[#This Row],[Column21]]),ISBLANK(Table1[[#This Row],[Column22]])), \"\",Table1[[#This Row],[Column21]]*Table1[[#This Row],[Column22]])","v":20},"Risk not likely to change through conveyance","None",5,4,{"$f":"IF(OR(ISBLANK(Table1[[#This Row],[Column25]]),ISBLANK(Table1[[#This Row],[Column26]])), \"\",Table1[[#This Row],[Column25]]*Table1[[#This Row],[Column26]])","v":20},"No control so scores are cascaded from pre- to post-mitigated.","None",5,4,{"$f":"IF(OR(ISBLANK(Table1[[#This Row],[Column30]]),ISBLANK(Table1[[#This Row],[Column31]])), \"\",Table1[[#This Row],[Column30]]*Table1[[#This Row],[Column31]])","v":20},"Likely to be high.","Mitigated through Coagulation, flocculation and clarification, and UF membrane filtration. ",1,4,{"$f":"IF(OR(ISBLANK(Table1[[#This Row],[Column34]]),ISBLANK(Table1[[#This Row],[Column35]])), \"\",Table1[[#This Row],[Column34]]*Table1[[#This Row],[Column35]])","v":4},"Turbidity risk mitigated through treatment.","Continue monitoring.",1,4,{"$f":"IF(OR(ISBLANK(Table1[[#This Row],[Column39]]),ISBLANK(Table1[[#This Row],[Column40]])), \"\",Table1[[#This Row],[Column39]]*Table1[[#This Row],[Column40]])","v":4},"Risk unlikely to increase through to storage","No control measure required",1,4,{"$f":"IF(OR(ISBLANK(Table1[[#This Row],[Column43]]),ISBLANK(Table1[[#This Row],[Column44]])), \"\",Table1[[#This Row],[Column43]]*Table1[[#This Row],[Column44]])","v":4},"None","None",1,4,{"$f":"IF(OR(ISBLANK(Table1[[#This Row],[Column48]]),ISBLANK(Table1[[#This Row],[Column49]])), \"\",Table1[[#This Row],[Column48]]*Table1[[#This Row],[Column49]])","v":4},"Risk unlikely to increase during distribution","None",1,4,{"$f":"IF(OR(ISBLANK(Table1[[#This Row],[Column52]]),ISBLANK(Table1[[#This Row],[Column53]])), \"\",Table1[[#This Row],[Column52]]*Table1[[#This Row],[Column53]])","v":4},"None","None",1,4,{"$f":"IF(OR(ISBLANK(Table1[[#This Row],[Column57]]),ISBLANK(Table1[[#This Row],[Column58]])), \"\",Table1[[#This Row],[Column57]]*Table1[[#This Row],[Column58]])","v":4},"Risk unlikely to change through to customer taps","None",1,4,{"$f":"IF(OR(ISBLANK(Table1[[#This Row],[Column61]]),ISBLANK(Table1[[#This Row],[Column62]])), \"\",Table1[[#This Row],[Column61]]*Table1[[#This Row],[Column62]])","v":4},"None","None"]
[null,"Algae","Y","Algae is an informal term for a large and diverse group of photosynthetic eukaryotic organisms.",5,5,{"$f":"IF(OR(ISBLANK(Table1[[#This Row],[Column3]]),ISBLANK(Table1[[#This Row],[Column4]])), \"\",Table1[[#This Row],[Column3]]*Table1[[#This Row],[Column4]])","v":25},"Gate 1: Chlorophyll A detected in GUC, potential to be algae. (WSP)\n\nGate 2 Sonde data along the GUC confirms high concentrations of Chlorophyll as well as presence of Algal blooms. Concentrations of Chlorophyll at proposed abstraction (Site 6): Max value 147ug/l, average value 22ug/l.\n\nGate 2 Water Quality Monitoring Programme recorded max value of Chlorophyll 120ug/l in GUC (Site 14)\n\nMicrocystin LR (toxin released by cyanobacteria) below LOD (<5ug/l) in all samples of Minworth WwTW Effluent (proposed DWD limit of 1ug/l). Recommended to lower the LOD to allow assessment against the revised DWD limit.\n\nLikelihood score increased to 5 during Gate 2 ACWG Workshop. Consequence score was also increased to 5.","None",5,5,{"$f":"IF(OR(ISBLANK(Table1[[#This Row],[Column7]]),ISBLANK(Table1[[#This Row],[Column8]])), \"\",Table1[[#This Row],[Column7]]*Table1[[#This Row],[Column8]])","v":25},"Mitigated through treatment- scores based on judgement.","None",5,5,{"$f":"IF(OR(ISBLANK(Table1[[#This Row],[Column12]]),ISBLANK(Table1[[#This Row],[Column13]])), \"\",Table1[[#This Row],[Column12]]*Table1[[#This Row],[Column13]])","v":25},"Algae may increase in raw water storage. Chlorophyll A detected in GUC, as well as algal blooms spotted.","None",5,5,{"$f":"IF(OR(ISBLANK(Table1[[#This Row],[Column16]]),ISBLANK(Table1[[#This Row],[Column17]])), \"\",Table1[[#This Row],[Column16]]*Table1[[#This Row],[Column17]])","v":25},"Mitigated through treatment- scores based on judgement.","None.",5,5,{"$f":"IF(OR(ISBLANK(Table1[[#This Row],[Column21]]),ISBLANK(Table1[[#This Row],[Column22]])), \"\",Table1[[#This Row],[Column21]]*Table1[[#This Row],[Column22]])","v":25},"Risk not likely to change through conveyance","None",5,5,{"$f":"IF(OR(ISBLANK(Table1[[#This Row],[Column25]]),ISBLANK(Table1[[#This Row],[Column26]])), \"\",Table1[[#This Row],[Column25]]*Table1[[#This Row],[Column26]])","v":25},"No control so scores are cascaded from pre- to post-mitigated.","None",5,5,{"$f":"IF(OR(ISBLANK(Table1[[#This Row],[Column30]]),ISBLANK(Table1[[#This Row],[Column31]])), \"\",Table1[[#This Row],[Column30]]*Table1[[#This Row],[Column31]])","v":25},"Noted to be present through Sonde monitoring of Chlorophyll A, as well as visual identification of Algal blooms.","Mitigated through Oxidation, Coagulation, UF membrane filtration, GAC/BAC.",1,5,{"$f":"IF(OR(ISBLANK(Table1[[#This Row],[Column34]]),ISBLANK(Table1[[#This Row],[Column35]])), \"\",Table1[[#This Row],[Column34]]*Table1[[#This Row],[Column35]])","v":5},"Risks mitigated to improve aesthetics, taste and customer perception, as well as meeting regulations.","Continue monitoring.",1,5,{"$f":"IF(OR(ISBLANK(Table1[[#This Row],[Column39]]),ISBLANK(Table1[[#This Row],[Column40]])), \"\",Table1[[#This Row],[Column39]]*Table1[[#This Row],[Column40]])","v":5},"Risk unlikely to increase through to storage","No control measure required",1,5,{"$f":"IF(OR(ISBLANK(Table1[[#This Row],[Column43]]),ISBLANK(Table1[[#This Row],[Column44]])), \"\",Table1[[#This Row],[Column43]]*Table1[[#This Row],[Column44]])","v":5},"None","None",1,5,{"$f":"IF(OR(ISBLANK(Table1[[#This Row],[Column48]]),ISBLANK(Table1[[#This Row],[Column49]])), \"\",Table1[[#This Row],[Column48]]*Table1[[#This Row],[Column49]])","v":5},"Risk unlikely to increase during distribution","None",1,5,{"$f":"IF(OR(ISBLANK(Table1[[#This Row],[Column52]]),ISBLANK(Table1[[#This Row],[Column53]])), \"\",Table1[[#This Row],[Column52]]*Table1[[#This Row],[Column53]])","v":5},"None","None",1,5,{"$f":"IF(OR(ISBLANK(Table1[[#This Row],[Column57]]),ISBLANK(Table1[[#This Row],[Column58]])), \"\",Table1[[#This Row],[Column57]]*Table1[[#This Row],[Column58]])","v":5},"Risk unlikely to change through to customer taps","None",1,5,{"$f":"IF(OR(ISBLANK(Table1[[#This Row],[Column61]]),ISBLANK(Table1[[#This Row],[Column62]])), \"\",Table1[[#This Row],[Column61]]*Table1[[#This Row],[Column62]])","v":5},"None","None"]
[null,"Enter additional parameters","N","Herbicide. No sample data currently available but expected to be during new WQ monitoring programme. Controlled through pesticide limiting hazard.",null,null,{"$f":"IF(OR(ISBLANK(Table1[[#This Row],[Column3]]),ISBLANK(Table1[[#This Row],[Column4]])), \"\",Table1[[#This Row],[Column3]]*Table1[[#This Row],[Column4]])","v":""},null,null,null,null,{"$f":"IF(OR(ISBLANK(Table1[[#This Row],[Column7]]),ISBLANK(Table1[[#This Row],[Column8]])), \"\",Table1[[#This Row],[Column7]]*Table1[[#This Row],[Column8]])","v":""},null,null,null,null,{"$f":"IF(OR(ISBLANK(Table1[[#This Row],[Column12]]),ISBLANK(Table1[[#This Row],[Column13]])), \"\",Table1[[#This Row],[Column12]]*Table1[[#This Row],[Column13]])","v":""},null,null,null,null,{"$f":"IF(OR(ISBLANK(Table1[[#This Row],[Column16]]),ISBLANK(Table1[[#This Row],[Column17]])), \"\",Table1[[#This Row],[Column16]]*Table1[[#This Row],[Column17]])","v":""},null,null,null,null,{"$f":"IF(OR(ISBLANK(Table1[[#This Row],[Column21]]),ISBLANK(Table1[[#This Row],[Column22]])), \"\",Table1[[#This Row],[Column21]]*Table1[[#This Row],[Column22]])","v":""},null,null,null,null,{"$f":"IF(OR(ISBLANK(Table1[[#This Row],[Column25]]),ISBLANK(Table1[[#This Row],[Column26]])), \"\",Table1[[#This Row],[Column25]]*Table1[[#This Row],[Column26]])","v":""},null,null,null,null,{"$f":"IF(OR(ISBLANK(Table1[[#This Row],[Column30]]),ISBLANK(Table1[[#This Row],[Column31]])), \"\",Table1[[#This Row],[Column30]]*Table1[[#This Row],[Column31]])","v":""},null,null,null,null,{"$f":"IF(OR(ISBLANK(Table1[[#This Row],[Column34]]),ISBLANK(Table1[[#This Row],[Column35]])), \"\",Table1[[#This Row],[Column34]]*Table1[[#This Row],[Column35]])","v":""},null,null,null,null,{"$f":"IF(OR(ISBLANK(Table1[[#This Row],[Column39]]),ISBLANK(Table1[[#This Row],[Column40]])), \"\",Table1[[#This Row],[Column39]]*Table1[[#This Row],[Column40]])","v":""},null,null,null,null,{"$f":"IF(OR(ISBLANK(Table1[[#This Row],[Column43]]),ISBLANK(Table1[[#This Row],[Column44]])), \"\",Table1[[#This Row],[Column43]]*Table1[[#This Row],[Column44]])","v":""},null,null,null,null,{"$f":"IF(OR(ISBLANK(Table1[[#This Row],[Column48]]),ISBLANK(Table1[[#This Row],[Column49]])), \"\",Table1[[#This Row],[Column48]]*Table1[[#This Row],[Column49]])","v":""},null,null,null,null,{"$f":"IF(OR(ISBLANK(Table1[[#This Row],[Column52]]),ISBLANK(Table1[[#This Row],[Column53]])), \"\",Table1[[#This Row],[Column52]]*Table1[[#This Row],[Column53]])","v":""},null,null,null,null,{"$f":"IF(OR(ISBLANK(Table1[[#This Row],[Column57]]),ISBLANK(Table1[[#This Row],[Column58]])), \"\",Table1[[#This Row],[Column57]]*Table1[[#This Row],[Column58]])","v":""},null,null,null,null,{"$f":"IF(OR(ISBLANK(Table1[[#This Row],[Column61]]),ISBLANK(Table1[[#This Row],[Column62]])), \"\",Table1[[#This Row],[Column61]]*Table1[[#This Row],[Column62]])","v":""}]
[null,"Enter additional parameters","N","Detected in natural waters but often from the water treatment process. Controlled through limiting hazard of Iron/Lead\n\nMax concentration in the GUC measured at 844μg/l, exceeding the PCV.",null,null,{"$f":"IF(OR(ISBLANK(Table1[[#This Row],[Column3]]),ISBLANK(Table1[[#This Row],[Column4]])), \"\",Table1[[#This Row],[Column3]]*Table1[[#This Row],[Column4]])","v":""},null,null,null,null,{"$f":"IF(OR(ISBLANK(Table1[[#This Row],[Column7]]),ISBLANK(Table1[[#This Row],[Column8]])), \"\",Table1[[#This Row],[Column7]]*Table1[[#This Row],[Column8]])","v":""},null,null,null,null,{"$f":"IF(OR(ISBLANK(Table1[[#This Row],[Column12]]),ISBLANK(Table1[[#This Row],[Column13]])), \"\",Table1[[#This Row],[Column12]]*Table1[[#This Row],[Column13]])","v":""},null,null,null,null,{"$f":"IF(OR(ISBLANK(Table1[[#This Row],[Column16]]),ISBLANK(Table1[[#This Row],[Column17]])), \"\",Table1[[#This Row],[Column16]]*Table1[[#This Row],[Column17]])","v":""},null,null,null,null,{"$f":"IF(OR(ISBLANK(Table1[[#This Row],[Column21]]),ISBLANK(Table1[[#This Row],[Column22]])), \"\",Table1[[#This Row],[Column21]]*Table1[[#This Row],[Column22]])","v":""},null,null,null,null,{"$f":"IF(OR(ISBLANK(Table1[[#This Row],[Column25]]),ISBLANK(Table1[[#This Row],[Column26]])), \"\",Table1[[#This Row],[Column25]]*Table1[[#This Row],[Column26]])","v":""},null,null,null,null,{"$f":"IF(OR(ISBLANK(Table1[[#This Row],[Column30]]),ISBLANK(Table1[[#This Row],[Column31]])), \"\",Table1[[#This Row],[Column30]]*Table1[[#This Row],[Column31]])","v":""},null,null,null,null,{"$f":"IF(OR(ISBLANK(Table1[[#This Row],[Column34]]),ISBLANK(Table1[[#This Row],[Column35]])), \"\",Table1[[#This Row],[Column34]]*Table1[[#This Row],[Column35]])","v":""},null,null,null,null,{"$f":"IF(OR(ISBLANK(Table1[[#This Row],[Column39]]),ISBLANK(Table1[[#This Row],[Column40]])), \"\",Table1[[#This Row],[Column39]]*Table1[[#This Row],[Column40]])","v":""},null,null,null,null,{"$f":"IF(OR(ISBLANK(Table1[[#This Row],[Column43]]),ISBLANK(Table1[[#This Row],[Column44]])), \"\",Table1[[#This Row],[Column43]]*Table1[[#This Row],[Column44]])","v":""},null,null,null,null,{"$f":"IF(OR(ISBLANK(Table1[[#This Row],[Column48]]),ISBLANK(Table1[[#This Row],[Column49]])), \"\",Table1[[#This Row],[Column48]]*Table1[[#This Row],[Column49]])","v":""},null,null,null,null,{"$f":"IF(OR(ISBLANK(Table1[[#This Row],[Column52]]),ISBLANK(Table1[[#This Row],[Column53]])), \"\",Table1[[#This Row],[Column52]]*Table1[[#This Row],[Column53]])","v":""},null,null,null,null,{"$f":"IF(OR(ISBLANK(Table1[[#This Row],[Column57]]),ISBLANK(Table1[[#This Row],[Column58]])), \"\",Table1[[#This Row],[Column57]]*Table1[[#This Row],[Column58]])","v":""},null,null,null,null,{"$f":"IF(OR(ISBLANK(Table1[[#This Row],[Column61]]),ISBLANK(Table1[[#This Row],[Column62]])), \"\",Table1[[#This Row],[Column61]]*Table1[[#This Row],[Column62]])","v":""}]
[null,"Enter additional parameters","N","Herbicides. No sample data currently available but expected to be during new WQ monitoring programme. Controlled through pesticide limiting hazard.",null,null,{"$f":"IF(OR(ISBLANK(Table1[[#This Row],[Column3]]),ISBLANK(Table1[[#This Row],[Column4]])), \"\",Table1[[#This Row],[Column3]]*Table1[[#This Row],[Column4]])","v":""},null,null,null,null,{"$f":"IF(OR(ISBLANK(Table1[[#This Row],[Column7]]),ISBLANK(Table1[[#This Row],[Column8]])), \"\",Table1[[#This Row],[Column7]]*Table1[[#This Row],[Column8]])","v":""},null,null,null,null,{"$f":"IF(OR(ISBLANK(Table1[[#This Row],[Column12]]),ISBLANK(Table1[[#This Row],[Column13]])), \"\",Table1[[#This Row],[Column12]]*Table1[[#This Row],[Column13]])","v":""},null,null,null,null,{"$f":"IF(OR(ISBLANK(Table1[[#This Row],[Column16]]),ISBLANK(Table1[[#This Row],[Column17]])), \"\",Table1[[#This Row],[Column16]]*Table1[[#This Row],[Column17]])","v":""},null,null,null,null,{"$f":"IF(OR(ISBLANK(Table1[[#This Row],[Column21]]),ISBLANK(Table1[[#This Row],[Column22]])), \"\",Table1[[#This Row],[Column21]]*Table1[[#This Row],[Column22]])","v":""},null,null,null,null,{"$f":"IF(OR(ISBLANK(Table1[[#This Row],[Column25]]),ISBLANK(Table1[[#This Row],[Column26]])), \"\",Table1[[#This Row],[Column25]]*Table1[[#This Row],[Column26]])","v":""},null,null,null,null,{"$f":"IF(OR(ISBLANK(Table1[[#This Row],[Column30]]),ISBLANK(Table1[[#This Row],[Column31]])), \"\",Table1[[#This Row],[Column30]]*Table1[[#This Row],[Column31]])","v":""},null,null,null,null,{"$f":"IF(OR(ISBLANK(Table1[[#This Row],[Column34]]),ISBLANK(Table1[[#This Row],[Column35]])), \"\",Table1[[#This Row],[Column34]]*Table1[[#This Row],[Column35]])","v":""},null,null,null,null,{"$f":"IF(OR(ISBLANK(Table1[[#This Row],[Column39]]),ISBLANK(Table1[[#This Row],[Column40]])), \"\",Table1[[#This Row],[Column39]]*Table1[[#This Row],[Column40]])","v":""},null,null,null,null,{"$f":"IF(OR(ISBLANK(Table1[[#This Row],[Column43]]),ISBLANK(Table1[[#This Row],[Column44]])), \"\",Table1[[#This Row],[Column43]]*Table1[[#This Row],[Column44]])","v":""},null,null,null,null,{"$f":"IF(OR(ISBLANK(Table1[[#This Row],[Column48]]),ISBLANK(Table1[[#This Row],[Column49]])), \"\",Table1[[#This Row],[Column48]]*Table1[[#This Row],[Column49]])","v":""},null,null,null,null,{"$f":"IF(OR(ISBLANK(Table1[[#This Row],[Column52]]),ISBLANK(Table1[[#This Row],[Column53]])), \"\",Table1[[#This Row],[Column52]]*Table1[[#This Row],[Column53]])","v":""},null,null,null,null,{"$f":"IF(OR(ISBLANK(Table1[[#This Row],[Column57]]),ISBLANK(Table1[[#This Row],[Column58]])), \"\",Table1[[#This Row],[Column57]]*Table1[[#This Row],[Column58]])","v":""},null,null,null,null,{"$f":"IF(OR(ISBLANK(Table1[[#This Row],[Column61]]),ISBLANK(Table1[[#This Row],[Column62]])), \"\",Table1[[#This Row],[Column61]]*Table1[[#This Row],[Column62]])","v":""}]
[null,"Metaldehyde","Y","Persistent Molluscicide.",4,2,{"$f":"IF(OR(ISBLANK(Table1[[#This Row],[Column3]]),ISBLANK(Table1[[#This Row],[Column4]])), \"\",Table1[[#This Row],[Column3]]*Table1[[#This Row],[Column4]])","v":8},"Gate 2 Water Quality Monitoring Programme found max value 0.03ug/l, and mean value 0.012ug/l in Minworth WwTW effluent (Site 1). Concentrations at Site 6 were below the LOD (<0.02ug/l). Sampled Concentrations below the PCV for 'Other Pesticides' (0.1ug/l). High pre-mitigated likelihood score due to risk of increase in concentrations due to risk of historic deposits leaching into the raw water.","\nThe is expected to be a reduced risk following the outdoor use ban from 31st March 2022, however there is the potential for individuals to have kept stocks of metaldehyde which they could use beyond the outdoor use ban. Also risks of historic deposits leaching into water.",2,2,{"$f":"IF(OR(ISBLANK(Table1[[#This Row],[Column7]]),ISBLANK(Table1[[#This Row],[Column8]])), \"\",Table1[[#This Row],[Column7]]*Table1[[#This Row],[Column8]])","v":4},"Expected to be mitigated through catchment, following the outdoor use ban.","Continued surveillance through monitoring.",2,2,{"$f":"IF(OR(ISBLANK(Table1[[#This Row],[Column12]]),ISBLANK(Table1[[#This Row],[Column13]])), \"\",Table1[[#This Row],[Column12]]*Table1[[#This Row],[Column13]])","v":4},"Risk profile unlikely to change during abstraction","None",2,2,{"$f":"IF(OR(ISBLANK(Table1[[#This Row],[Column16]]),ISBLANK(Table1[[#This Row],[Column17]])), \"\",Table1[[#This Row],[Column16]]*Table1[[#This Row],[Column17]])","v":4},"Expected to be mitigated through catchment, following the outdoor use ban.","None.",2,2,{"$f":"IF(OR(ISBLANK(Table1[[#This Row],[Column21]]),ISBLANK(Table1[[#This Row],[Column22]])), \"\",Table1[[#This Row],[Column21]]*Table1[[#This Row],[Column22]])","v":4},"Risk not likely to change through conveyance","None",2,2,{"$f":"IF(OR(ISBLANK(Table1[[#This Row],[Column25]]),ISBLANK(Table1[[#This Row],[Column26]])), \"\",Table1[[#This Row],[Column25]]*Table1[[#This Row],[Column26]])","v":4},"No control so scores are cascaded from pre- to post-mitigated.","None",2,2,{"$f":"IF(OR(ISBLANK(Table1[[#This Row],[Column30]]),ISBLANK(Table1[[#This Row],[Column31]])), \"\",Table1[[#This Row],[Column30]]*Table1[[#This Row],[Column31]])","v":4},"Metaldehyde is harder to mitigate, process train to be altered to deal with if necessary as suggested in the WSP report: 'GRAND UNION CANAL - WP2 COMPANY ASSETS, ref:70075218 - 01'","Use of Biologically Activated Carbon by moving GAC upstream in the process as well as using PAC is the currently proposed control measure. Risk likelihood notes outdoor use ban the main control method for Metaldehyde.",1,2,{"$f":"IF(OR(ISBLANK(Table1[[#This Row],[Column34]]),ISBLANK(Table1[[#This Row],[Column35]])), \"\",Table1[[#This Row],[Column34]]*Table1[[#This Row],[Column35]])","v":2},"None","A watching brief to be kept on metaldehyde concentrations given the outdoor use ban in March 2022. \n\nIn treatment design, ensure addition of PAC during flocculation stage for efficient removal of pesticides if required.",1,2,{"$f":"IF(OR(ISBLANK(Table1[[#This Row],[Column39]]),ISBLANK(Table1[[#This Row],[Column40]])), \"\",Table1[[#This Row],[Column39]]*Table1[[#This Row],[Column40]])","v":2},"Risk unlikely to increase through to storage","No control measure required",1,2,{"$f":"IF(OR(ISBLANK(Table1[[#This Row],[Column43]]),ISBLANK(Table1[[#This Row],[Column44]])), \"\",Table1[[#This Row],[Column43]]*Table1[[#This Row],[Column44]])","v":2},"None","None",1,2,{"$f":"IF(OR(ISBLANK(Table1[[#This Row],[Column48]]),ISBLANK(Table1[[#This Row],[Column49]])), \"\",Table1[[#This Row],[Column48]]*Table1[[#This Row],[Column49]])","v":2},"Risk unlikely to increase during distribution","None",1,2,{"$f":"IF(OR(ISBLANK(Table1[[#This Row],[Column52]]),ISBLANK(Table1[[#This Row],[Column53]])), \"\",Table1[[#This Row],[Column52]]*Table1[[#This Row],[Column53]])","v":2},"None","None",1,2,{"$f":"IF(OR(ISBLANK(Table1[[#This Row],[Column57]]),ISBLANK(Table1[[#This Row],[Column58]])), \"\",Table1[[#This Row],[Column57]]*Table1[[#This Row],[Column58]])","v":2},"Risk unlikely to change through to customer taps","None",1,2,{"$f":"IF(OR(ISBLANK(Table1[[#This Row],[Column61]]),ISBLANK(Table1[[#This Row],[Column62]])), \"\",Table1[[#This Row],[Column61]]*Table1[[#This Row],[Column62]])","v":2},"None","Depending on monitoring outcomes, the treatment arrangements should be reviewed."]
[null,"Enter additional parameters","N","Appearance based on colloidal matter in the water. No sample data currently available but expected to be during new WQ monitoring programme.",null,null,{"$f":"IF(OR(ISBLANK(Table1[[#This Row],[Column3]]),ISBLANK(Table1[[#This Row],[Column4]])), \"\",Table1[[#This Row],[Column3]]*Table1[[#This Row],[Column4]])","v":""},null,null,null,null,{"$f":"IF(OR(ISBLANK(Table1[[#This Row],[Column7]]),ISBLANK(Table1[[#This Row],[Column8]])), \"\",Table1[[#This Row],[Column7]]*Table1[[#This Row],[Column8]])","v":""},null,null,null,null,{"$f":"IF(OR(ISBLANK(Table1[[#This Row],[Column12]]),ISBLANK(Table1[[#This Row],[Column13]])), \"\",Table1[[#This Row],[Column12]]*Table1[[#This Row],[Column13]])","v":""},null,null,null,null,{"$f":"IF(OR(ISBLANK(Table1[[#This Row],[Column16]]),ISBLANK(Table1[[#This Row],[Column17]])), \"\",Table1[[#This Row],[Column16]]*Table1[[#This Row],[Column17]])","v":""},null,null,null,null,{"$f":"IF(OR(ISBLANK(Table1[[#This Row],[Column21]]),ISBLANK(Table1[[#This Row],[Column22]])), \"\",Table1[[#This Row],[Column21]]*Table1[[#This Row],[Column22]])","v":""},null,null,null,null,{"$f":"IF(OR(ISBLANK(Table1[[#This Row],[Column25]]),ISBLANK(Table1[[#This Row],[Column26]])), \"\",Table1[[#This Row],[Column25]]*Table1[[#This Row],[Column26]])","v":""},null,null,null,null,{"$f":"IF(OR(ISBLANK(Table1[[#This Row],[Column30]]),ISBLANK(Table1[[#This Row],[Column31]])), \"\",Table1[[#This Row],[Column30]]*Table1[[#This Row],[Column31]])","v":""},null,null,null,null,{"$f":"IF(OR(ISBLANK(Table1[[#This Row],[Column34]]),ISBLANK(Table1[[#This Row],[Column35]])), \"\",Table1[[#This Row],[Column34]]*Table1[[#This Row],[Column35]])","v":""},null,null,null,null,{"$f":"IF(OR(ISBLANK(Table1[[#This Row],[Column39]]),ISBLANK(Table1[[#This Row],[Column40]])), \"\",Table1[[#This Row],[Column39]]*Table1[[#This Row],[Column40]])","v":""},null,null,null,null,{"$f":"IF(OR(ISBLANK(Table1[[#This Row],[Column43]]),ISBLANK(Table1[[#This Row],[Column44]])), \"\",Table1[[#This Row],[Column43]]*Table1[[#This Row],[Column44]])","v":""},null,null,null,null,{"$f":"IF(OR(ISBLANK(Table1[[#This Row],[Column48]]),ISBLANK(Table1[[#This Row],[Column49]])), \"\",Table1[[#This Row],[Column48]]*Table1[[#This Row],[Column49]])","v":""},null,null,null,null,{"$f":"IF(OR(ISBLANK(Table1[[#This Row],[Column52]]),ISBLANK(Table1[[#This Row],[Column53]])), \"\",Table1[[#This Row],[Column52]]*Table1[[#This Row],[Column53]])","v":""},null,null,null,null,{"$f":"IF(OR(ISBLANK(Table1[[#This Row],[Column57]]),ISBLANK(Table1[[#This Row],[Column58]])), \"\",Table1[[#This Row],[Column57]]*Table1[[#This Row],[Column58]])","v":""},null,null,null,null,{"$f":"IF(OR(ISBLANK(Table1[[#This Row],[Column61]]),ISBLANK(Table1[[#This Row],[Column62]])), \"\",Table1[[#This Row],[Column61]]*Table1[[#This Row],[Column62]])","v":""}]
[null,null,"N","Measured at 0.022mg/l , below the PCV (WSP",null,null,{"$f":"IF(OR(ISBLANK(Table1[[#This Row],[Column3]]),ISBLANK(Table1[[#This Row],[Column4]])), \"\",Table1[[#This Row],[Column3]]*Table1[[#This Row],[Column4]])","v":""},null,null,null,null,{"$f":"IF(OR(ISBLANK(Table1[[#This Row],[Column7]]),ISBLANK(Table1[[#This Row],[Column8]])), \"\",Table1[[#This Row],[Column7]]*Table1[[#This Row],[Column8]])","v":""},null,null,null,null,{"$f":"IF(OR(ISBLANK(Table1[[#This Row],[Column12]]),ISBLANK(Table1[[#This Row],[Column13]])), \"\",Table1[[#This Row],[Column12]]*Table1[[#This Row],[Column13]])","v":""},null,null,null,null,{"$f":"IF(OR(ISBLANK(Table1[[#This Row],[Column16]]),ISBLANK(Table1[[#This Row],[Column17]])), \"\",Table1[[#This Row],[Column16]]*Table1[[#This Row],[Column17]])","v":""},null,null,null,null,{"$f":"IF(OR(ISBLANK(Table1[[#This Row],[Column21]]),ISBLANK(Table1[[#This Row],[Column22]])), \"\",Table1[[#This Row],[Column21]]*Table1[[#This Row],[Column22]])","v":""},null,null,null,null,{"$f":"IF(OR(ISBLANK(Table1[[#This Row],[Column25]]),ISBLANK(Table1[[#This Row],[Column26]])), \"\",Table1[[#This Row],[Column25]]*Table1[[#This Row],[Column26]])","v":""},null,null,null,null,{"$f":"IF(OR(ISBLANK(Table1[[#This Row],[Column30]]),ISBLANK(Table1[[#This Row],[Column31]])), \"\",Table1[[#This Row],[Column30]]*Table1[[#This Row],[Column31]])","v":""},null,null,null,null,{"$f":"IF(OR(ISBLANK(Table1[[#This Row],[Column34]]),ISBLANK(Table1[[#This Row],[Column35]])), \"\",Table1[[#This Row],[Column34]]*Table1[[#This Row],[Column35]])","v":""},null,null,null,null,{"$f":"IF(OR(ISBLANK(Table1[[#This Row],[Column39]]),ISBLANK(Table1[[#This Row],[Column40]])), \"\",Table1[[#This Row],[Column39]]*Table1[[#This Row],[Column40]])","v":""},null,null,null,null,{"$f":"IF(OR(ISBLANK(Table1[[#This Row],[Column43]]),ISBLANK(Table1[[#This Row],[Column44]])), \"\",Table1[[#This Row],[Column43]]*Table1[[#This Row],[Column44]])","v":""},null,null,null,null,{"$f":"IF(OR(ISBLANK(Table1[[#This Row],[Column48]]),ISBLANK(Table1[[#This Row],[Column49]])), \"\",Table1[[#This Row],[Column48]]*Table1[[#This Row],[Column49]])","v":""},null,null,null,null,{"$f":"IF(OR(ISBLANK(Table1[[#This Row],[Column52]]),ISBLANK(Table1[[#This Row],[Column53]])), \"\",Table1[[#This Row],[Column52]]*Table1[[#This Row],[Column53]])","v":""},null,null,null,null,{"$f":"IF(OR(ISBLANK(Table1[[#This Row],[Column57]]),ISBLANK(Table1[[#This Row],[Column58]])), \"\",Table1[[#This Row],[Column57]]*Table1[[#This Row],[Column58]])","v":""},null,null,null,null,{"$f":"IF(OR(ISBLANK(Table1[[#This Row],[Column61]]),ISBLANK(Table1[[#This Row],[Column62]])), \"\",Table1[[#This Row],[Column61]]*Table1[[#This Row],[Column62]])","v":""}]
[null,null,"N","Many forms. Potential risk from industrial contamination/ navigable canal.",null,null,{"$f":"IF(OR(ISBLANK(Table1[[#This Row],[Column3]]),ISBLANK(Table1[[#This Row],[Column4]])), \"\",Table1[[#This Row],[Column3]]*Table1[[#This Row],[Column4]])","v":""},null,null,null,null,{"$f":"IF(OR(ISBLANK(Table1[[#This Row],[Column7]]),ISBLANK(Table1[[#This Row],[Column8]])), \"\",Table1[[#This Row],[Column7]]*Table1[[#This Row],[Column8]])","v":""},null,null,null,null,{"$f":"IF(OR(ISBLANK(Table1[[#This Row],[Column12]]),ISBLANK(Table1[[#This Row],[Column13]])), \"\",Table1[[#This Row],[Column12]]*Table1[[#This Row],[Column13]])","v":""},null,null,null,null,{"$f":"IF(OR(ISBLANK(Table1[[#This Row],[Column16]]),ISBLANK(Table1[[#This Row],[Column17]])), \"\",Table1[[#This Row],[Column16]]*Table1[[#This Row],[Column17]])","v":""},null,null,null,null,{"$f":"IF(OR(ISBLANK(Table1[[#This Row],[Column21]]),ISBLANK(Table1[[#This Row],[Column22]])), \"\",Table1[[#This Row],[Column21]]*Table1[[#This Row],[Column22]])","v":""},null,null,null,null,{"$f":"IF(OR(ISBLANK(Table1[[#This Row],[Column25]]),ISBLANK(Table1[[#This Row],[Column26]])), \"\",Table1[[#This Row],[Column25]]*Table1[[#This Row],[Column26]])","v":""},null,null,null,null,{"$f":"IF(OR(ISBLANK(Table1[[#This Row],[Column30]]),ISBLANK(Table1[[#This Row],[Column31]])), \"\",Table1[[#This Row],[Column30]]*Table1[[#This Row],[Column31]])","v":""},null,null,null,null,{"$f":"IF(OR(ISBLANK(Table1[[#This Row],[Column34]]),ISBLANK(Table1[[#This Row],[Column35]])), \"\",Table1[[#This Row],[Column34]]*Table1[[#This Row],[Column35]])","v":""},null,null,null,null,{"$f":"IF(OR(ISBLANK(Table1[[#This Row],[Column39]]),ISBLANK(Table1[[#This Row],[Column40]])), \"\",Table1[[#This Row],[Column39]]*Table1[[#This Row],[Column40]])","v":""},null,null,null,null,{"$f":"IF(OR(ISBLANK(Table1[[#This Row],[Column43]]),ISBLANK(Table1[[#This Row],[Column44]])), \"\",Table1[[#This Row],[Column43]]*Table1[[#This Row],[Column44]])","v":""},null,null,null,null,{"$f":"IF(OR(ISBLANK(Table1[[#This Row],[Column48]]),ISBLANK(Table1[[#This Row],[Column49]])), \"\",Table1[[#This Row],[Column48]]*Table1[[#This Row],[Column49]])","v":""},null,null,null,null,{"$f":"IF(OR(ISBLANK(Table1[[#This Row],[Column52]]),ISBLANK(Table1[[#This Row],[Column53]])), \"\",Table1[[#This Row],[Column52]]*Table1[[#This Row],[Column53]])","v":""},null,null,null,null,{"$f":"IF(OR(ISBLANK(Table1[[#This Row],[Column57]]),ISBLANK(Table1[[#This Row],[Column58]])), \"\",Table1[[#This Row],[Column57]]*Table1[[#This Row],[Column58]])","v":""},null,null,null,null,{"$f":"IF(OR(ISBLANK(Table1[[#This Row],[Column61]]),ISBLANK(Table1[[#This Row],[Column62]])), \"\",Table1[[#This Row],[Column61]]*Table1[[#This Row],[Column62]])","v":""}]
[null,null,"N","No sample data currently available but expected to be during new WQ monitoring programme. To be included in next water quality monitoring",null,null,{"$f":"IF(OR(ISBLANK(Table1[[#This Row],[Column3]]),ISBLANK(Table1[[#This Row],[Column4]])), \"\",Table1[[#This Row],[Column3]]*Table1[[#This Row],[Column4]])","v":""},null,null,null,null,{"$f":"IF(OR(ISBLANK(Table1[[#This Row],[Column7]]),ISBLANK(Table1[[#This Row],[Column8]])), \"\",Table1[[#This Row],[Column7]]*Table1[[#This Row],[Column8]])","v":""},null,null,null,null,{"$f":"IF(OR(ISBLANK(Table1[[#This Row],[Column12]]),ISBLANK(Table1[[#This Row],[Column13]])), \"\",Table1[[#This Row],[Column12]]*Table1[[#This Row],[Column13]])","v":""},null,null,null,null,{"$f":"IF(OR(ISBLANK(Table1[[#This Row],[Column16]]),ISBLANK(Table1[[#This Row],[Column17]])), \"\",Table1[[#This Row],[Column16]]*Table1[[#This Row],[Column17]])","v":""},null,null,null,null,{"$f":"IF(OR(ISBLANK(Table1[[#This Row],[Column21]]),ISBLANK(Table1[[#This Row],[Column22]])), \"\",Table1[[#This Row],[Column21]]*Table1[[#This Row],[Column22]])","v":""},null,null,null,null,{"$f":"IF(OR(ISBLANK(Table1[[#This Row],[Column25]]),ISBLANK(Table1[[#This Row],[Column26]])), \"\",Table1[[#This Row],[Column25]]*Table1[[#This Row],[Column26]])","v":""},null,null,null,null,{"$f":"IF(OR(ISBLANK(Table1[[#This Row],[Column30]]),ISBLANK(Table1[[#This Row],[Column31]])), \"\",Table1[[#This Row],[Column30]]*Table1[[#This Row],[Column31]])","v":""},null,null,null,null,{"$f":"IF(OR(ISBLANK(Table1[[#This Row],[Column34]]),ISBLANK(Table1[[#This Row],[Column35]])), \"\",Table1[[#This Row],[Column34]]*Table1[[#This Row],[Column35]])","v":""},null,null,null,null,{"$f":"IF(OR(ISBLANK(Table1[[#This Row],[Column39]]),ISBLANK(Table1[[#This Row],[Column40]])), \"\",Table1[[#This Row],[Column39]]*Table1[[#This Row],[Column40]])","v":""},null,null,null,null,{"$f":"IF(OR(ISBLANK(Table1[[#This Row],[Column43]]),ISBLANK(Table1[[#This Row],[Column44]])), \"\",Table1[[#This Row],[Column43]]*Table1[[#This Row],[Column44]])","v":""},null,null,null,null,{"$f":"IF(OR(ISBLANK(Table1[[#This Row],[Column48]]),ISBLANK(Table1[[#This Row],[Column49]])), \"\",Table1[[#This Row],[Column48]]*Table1[[#This Row],[Column49]])","v":""},null,null,null,null,{"$f":"IF(OR(ISBLANK(Table1[[#This Row],[Column52]]),ISBLANK(Table1[[#This Row],[Column53]])), \"\",Table1[[#This Row],[Column52]]*Table1[[#This Row],[Column53]])","v":""},null,null,null,null,{"$f":"IF(OR(ISBLANK(Table1[[#This Row],[Column57]]),ISBLANK(Table1[[#This Row],[Column58]])), \"\",Table1[[#This Row],[Column57]]*Table1[[#This Row],[Column58]])","v":""},null,null,null,null,{"$f":"IF(OR(ISBLANK(Table1[[#This Row],[Column61]]),ISBLANK(Table1[[#This Row],[Column62]])), \"\",Table1[[#This Row],[Column61]]*Table1[[#This Row],[Column62]])","v":""}]
[null,null,"N","Max concentration measured in GUC was 23.3μg/l.",null,null,{"$f":"IF(OR(ISBLANK(Table1[[#This Row],[Column3]]),ISBLANK(Table1[[#This Row],[Column4]])), \"\",Table1[[#This Row],[Column3]]*Table1[[#This Row],[Column4]])","v":""},null,null,null,null,{"$f":"IF(OR(ISBLANK(Table1[[#This Row],[Column7]]),ISBLANK(Table1[[#This Row],[Column8]])), \"\",Table1[[#This Row],[Column7]]*Table1[[#This Row],[Column8]])","v":""},null,null,null,null,{"$f":"IF(OR(ISBLANK(Table1[[#This Row],[Column12]]),ISBLANK(Table1[[#This Row],[Column13]])), \"\",Table1[[#This Row],[Column12]]*Table1[[#This Row],[Column13]])","v":""},null,null,null,null,{"$f":"IF(OR(ISBLANK(Table1[[#This Row],[Column16]]),ISBLANK(Table1[[#This Row],[Column17]])), \"\",Table1[[#This Row],[Column16]]*Table1[[#This Row],[Column17]])","v":""},null,null,null,null,{"$f":"IF(OR(ISBLANK(Table1[[#This Row],[Column21]]),ISBLANK(Table1[[#This Row],[Column22]])), \"\",Table1[[#This Row],[Column21]]*Table1[[#This Row],[Column22]])","v":""},null,null,null,null,{"$f":"IF(OR(ISBLANK(Table1[[#This Row],[Column25]]),ISBLANK(Table1[[#This Row],[Column26]])), \"\",Table1[[#This Row],[Column25]]*Table1[[#This Row],[Column26]])","v":""},null,null,null,null,{"$f":"IF(OR(ISBLANK(Table1[[#This Row],[Column30]]),ISBLANK(Table1[[#This Row],[Column31]])), \"\",Table1[[#This Row],[Column30]]*Table1[[#This Row],[Column31]])","v":""},null,null,null,null,{"$f":"IF(OR(ISBLANK(Table1[[#This Row],[Column34]]),ISBLANK(Table1[[#This Row],[Column35]])), \"\",Table1[[#This Row],[Column34]]*Table1[[#This Row],[Column35]])","v":""},null,null,null,null,{"$f":"IF(OR(ISBLANK(Table1[[#This Row],[Column39]]),ISBLANK(Table1[[#This Row],[Column40]])), \"\",Table1[[#This Row],[Column39]]*Table1[[#This Row],[Column40]])","v":""},null,null,null,null,{"$f":"IF(OR(ISBLANK(Table1[[#This Row],[Column43]]),ISBLANK(Table1[[#This Row],[Column44]])), \"\",Table1[[#This Row],[Column43]]*Table1[[#This Row],[Column44]])","v":""},null,null,null,null,{"$f":"IF(OR(ISBLANK(Table1[[#This Row],[Column48]]),ISBLANK(Table1[[#This Row],[Column49]])), \"\",Table1[[#This Row],[Column48]]*Table1[[#This Row],[Column49]])","v":""},null,null,null,null,{"$f":"IF(OR(ISBLANK(Table1[[#This Row],[Column52]]),ISBLANK(Table1[[#This Row],[Column53]])), \"\",Table1[[#This Row],[Column52]]*Table1[[#This Row],[Column53]])","v":""},null,null,null,null,{"$f":"IF(OR(ISBLANK(Table1[[#This Row],[Column57]]),ISBLANK(Table1[[#This Row],[Column58]])), \"\",Table1[[#This Row],[Column57]]*Table1[[#This Row],[Column58]])","v":""},null,null,null,null,{"$f":"IF(OR(ISBLANK(Table1[[#This Row],[Column61]]),ISBLANK(Table1[[#This Row],[Column62]])), \"\",Table1[[#This Row],[Column61]]*Table1[[#This Row],[Column62]])","v":""}]
[null,null,"N","Good levels of DO (5.0-13.7mg/l) detected to prevent anaerobic conditions (WSP)",null,null,{"$f":"IF(OR(ISBLANK(Table1[[#This Row],[Column3]]),ISBLANK(Table1[[#This Row],[Column4]])), \"\",Table1[[#This Row],[Column3]]*Table1[[#This Row],[Column4]])","v":""},null,null,null,null,{"$f":"IF(OR(ISBLANK(Table1[[#This Row],[Column7]]),ISBLANK(Table1[[#This Row],[Column8]])), \"\",Table1[[#This Row],[Column7]]*Table1[[#This Row],[Column8]])","v":""},null,null,null,null,{"$f":"IF(OR(ISBLANK(Table1[[#This Row],[Column12]]),ISBLANK(Table1[[#This Row],[Column13]])), \"\",Table1[[#This Row],[Column12]]*Table1[[#This Row],[Column13]])","v":""},null,null,null,null,{"$f":"IF(OR(ISBLANK(Table1[[#This Row],[Column16]]),ISBLANK(Table1[[#This Row],[Column17]])), \"\",Table1[[#This Row],[Column16]]*Table1[[#This Row],[Column17]])","v":""},null,null,null,null,{"$f":"IF(OR(ISBLANK(Table1[[#This Row],[Column21]]),ISBLANK(Table1[[#This Row],[Column22]])), \"\",Table1[[#This Row],[Column21]]*Table1[[#This Row],[Column22]])","v":""},null,null,null,null,{"$f":"IF(OR(ISBLANK(Table1[[#This Row],[Column25]]),ISBLANK(Table1[[#This Row],[Column26]])), \"\",Table1[[#This Row],[Column25]]*Table1[[#This Row],[Column26]])","v":""},null,null,null,null,{"$f":"IF(OR(ISBLANK(Table1[[#This Row],[Column30]]),ISBLANK(Table1[[#This Row],[Column31]])), \"\",Table1[[#This Row],[Column30]]*Table1[[#This Row],[Column31]])","v":""},null,null,null,null,{"$f":"IF(OR(ISBLANK(Table1[[#This Row],[Column34]]),ISBLANK(Table1[[#This Row],[Column35]])), \"\",Table1[[#This Row],[Column34]]*Table1[[#This Row],[Column35]])","v":""},null,null,null,null,{"$f":"IF(OR(ISBLANK(Table1[[#This Row],[Column39]]),ISBLANK(Table1[[#This Row],[Column40]])), \"\",Table1[[#This Row],[Column39]]*Table1[[#This Row],[Column40]])","v":""},null,null,null,null,{"$f":"IF(OR(ISBLANK(Table1[[#This Row],[Column43]]),ISBLANK(Table1[[#This Row],[Column44]])), \"\",Table1[[#This Row],[Column43]]*Table1[[#This Row],[Column44]])","v":""},null,null,null,null,{"$f":"IF(OR(ISBLANK(Table1[[#This Row],[Column48]]),ISBLANK(Table1[[#This Row],[Column49]])), \"\",Table1[[#This Row],[Column48]]*Table1[[#This Row],[Column49]])","v":""},null,null,null,null,{"$f":"IF(OR(ISBLANK(Table1[[#This Row],[Column52]]),ISBLANK(Table1[[#This Row],[Column53]])), \"\",Table1[[#This Row],[Column52]]*Table1[[#This Row],[Column53]])","v":""},null,null,null,null,{"$f":"IF(OR(ISBLANK(Table1[[#This Row],[Column57]]),ISBLANK(Table1[[#This Row],[Column58]])), \"\",Table1[[#This Row],[Column57]]*Table1[[#This Row],[Column58]])","v":""},null,null,null,null,{"$f":"IF(OR(ISBLANK(Table1[[#This Row],[Column61]]),ISBLANK(Table1[[#This Row],[Column62]])), \"\",Table1[[#This Row],[Column61]]*Table1[[#This Row],[Column62]])","v":""}]
[null,"Detergents/ Personal Care Products","Y","Potential risk from sewage effluent - substances identified by DWI in the report \"Personal Care Products and Domestic Cleaning Products - Toxicological Assessment of Prioritised List of Chemicals\" (Ref: DWI 70/2/331)",3,3,{"$f":"IF(OR(ISBLANK(Table1[[#This Row],[Column3]]),ISBLANK(Table1[[#This Row],[Column4]])), \"\",Table1[[#This Row],[Column3]]*Table1[[#This Row],[Column4]])","v":9},"Gate 2 Water Quality Monitoring Programme measured for 7 of the 8 chemical compounds associated with personal care products and domestic cleaning products which were identified by the DWI. All samples recorded at Site 1, Minworth WwTW effluent.\n\n1,2,3-benzotriazole/ 1H-benzotriazole- max value 2.68ug/l, average value 1.8ug/l\n\n(1-hydroxyethylidene) diphosphonic acid (HEDP)- no sample data\n\nDiethylenetriamine penta(methylene phosphonic acid) (DTPMP) max value 7.89ug/l average value 2.2ug/l\n\nAminotris(mthylene phosphonic acid) (ATMP) - values at LOD <1ug/l (one value LOD <10ug/l)\n\n2-(2-butoxyethoxy)ethanol (DEGBE)- all values at LOD <10ug/l\n\nLinear alkylbenzene sulphonate (LAS)- all values LOD <1ug/l\n\nCocamidopropyl betaine (CAPB)- all values LOD <1ug/l\n\nSee also: Triclosan Below","None",3,3,{"$f":"IF(OR(ISBLANK(Table1[[#This Row],[Column7]]),ISBLANK(Table1[[#This Row],[Column8]])), \"\",Table1[[#This Row],[Column7]]*Table1[[#This Row],[Column8]])","v":9},"Mitigated through treatment","None",3,3,{"$f":"IF(OR(ISBLANK(Table1[[#This Row],[Column12]]),ISBLANK(Table1[[#This Row],[Column13]])), \"\",Table1[[#This Row],[Column12]]*Table1[[#This Row],[Column13]])","v":9},"Risk profile unlikely to change in abstraction","None",3,3,{"$f":"IF(OR(ISBLANK(Table1[[#This Row],[Column16]]),ISBLANK(Table1[[#This Row],[Column17]])), \"\",Table1[[#This Row],[Column16]]*Table1[[#This Row],[Column17]])","v":9},"Mitigated through treatment","None.",3,3,{"$f":"IF(OR(ISBLANK(Table1[[#This Row],[Column21]]),ISBLANK(Table1[[#This Row],[Column22]])), \"\",Table1[[#This Row],[Column21]]*Table1[[#This Row],[Column22]])","v":9},"Risk not likely to change through conveyance","None",3,3,{"$f":"IF(OR(ISBLANK(Table1[[#This Row],[Column25]]),ISBLANK(Table1[[#This Row],[Column26]])), \"\",Table1[[#This Row],[Column25]]*Table1[[#This Row],[Column26]])","v":9},"No control so scores are cascaded from pre- to post-mitigated.","None",3,3,{"$f":"IF(OR(ISBLANK(Table1[[#This Row],[Column30]]),ISBLANK(Table1[[#This Row],[Column31]])), \"\",Table1[[#This Row],[Column30]]*Table1[[#This Row],[Column31]])","v":9},"Not sampled for but likely to be present","Flocculation, Ozonation, GAC",1,3,{"$f":"IF(OR(ISBLANK(Table1[[#This Row],[Column34]]),ISBLANK(Table1[[#This Row],[Column35]])), \"\",Table1[[#This Row],[Column34]]*Table1[[#This Row],[Column35]])","v":3},"Likely to be mitigated through selected treatment.","Review Treatment is suitable to mitigate Detergent risks",1,3,{"$f":"IF(OR(ISBLANK(Table1[[#This Row],[Column39]]),ISBLANK(Table1[[#This Row],[Column40]])), \"\",Table1[[#This Row],[Column39]]*Table1[[#This Row],[Column40]])","v":3},"Risk unlikely to increase through to storage","No control measure required",1,3,{"$f":"IF(OR(ISBLANK(Table1[[#This Row],[Column43]]),ISBLANK(Table1[[#This Row],[Column44]])), \"\",Table1[[#This Row],[Column43]]*Table1[[#This Row],[Column44]])","v":3},"N","None",1,3,{"$f":"IF(OR(ISBLANK(Table1[[#This Row],[Column48]]),ISBLANK(Table1[[#This Row],[Column49]])), \"\",Table1[[#This Row],[Column48]]*Table1[[#This Row],[Column49]])","v":3},"Risk unlikely to increase during distribution","None",1,3,{"$f":"IF(OR(ISBLANK(Table1[[#This Row],[Column52]]),ISBLANK(Table1[[#This Row],[Column53]])), \"\",Table1[[#This Row],[Column52]]*Table1[[#This Row],[Column53]])","v":3},"None","None",1,3,{"$f":"IF(OR(ISBLANK(Table1[[#This Row],[Column57]]),ISBLANK(Table1[[#This Row],[Column58]])), \"\",Table1[[#This Row],[Column57]]*Table1[[#This Row],[Column58]])","v":3},"Risk unlikely to change through to customer taps","None",1,3,{"$f":"IF(OR(ISBLANK(Table1[[#This Row],[Column61]]),ISBLANK(Table1[[#This Row],[Column62]])), \"\",Table1[[#This Row],[Column61]]*Table1[[#This Row],[Column62]])","v":3},"None","None"]
[null,null,"N","Industrial contaminant- brominated flame retardant, Sampled during 2020 GUC monitoring programme, low concentrations measured <0.01ug/l.",null,null,{"$f":"IF(OR(ISBLANK(Table1[[#This Row],[Column3]]),ISBLANK(Table1[[#This Row],[Column4]])), \"\",Table1[[#This Row],[Column3]]*Table1[[#This Row],[Column4]])","v":""},null,null,null,null,{"$f":"IF(OR(ISBLANK(Table1[[#This Row],[Column7]]),ISBLANK(Table1[[#This Row],[Column8]])), \"\",Table1[[#This Row],[Column7]]*Table1[[#This Row],[Column8]])","v":""},null,null,null,null,{"$f":"IF(OR(ISBLANK(Table1[[#This Row],[Column12]]),ISBLANK(Table1[[#This Row],[Column13]])), \"\",Table1[[#This Row],[Column12]]*Table1[[#This Row],[Column13]])","v":""},null,null,null,null,{"$f":"IF(OR(ISBLANK(Table1[[#This Row],[Column16]]),ISBLANK(Table1[[#This Row],[Column17]])), \"\",Table1[[#This Row],[Column16]]*Table1[[#This Row],[Column17]])","v":""},null,null,null,null,{"$f":"IF(OR(ISBLANK(Table1[[#This Row],[Column21]]),ISBLANK(Table1[[#This Row],[Column22]])), \"\",Table1[[#This Row],[Column21]]*Table1[[#This Row],[Column22]])","v":""},null,null,null,null,{"$f":"IF(OR(ISBLANK(Table1[[#This Row],[Column25]]),ISBLANK(Table1[[#This Row],[Column26]])), \"\",Table1[[#This Row],[Column25]]*Table1[[#This Row],[Column26]])","v":""},null,null,null,null,{"$f":"IF(OR(ISBLANK(Table1[[#This Row],[Column30]]),ISBLANK(Table1[[#This Row],[Column31]])), \"\",Table1[[#This Row],[Column30]]*Table1[[#This Row],[Column31]])","v":""},null,null,null,null,{"$f":"IF(OR(ISBLANK(Table1[[#This Row],[Column34]]),ISBLANK(Table1[[#This Row],[Column35]])), \"\",Table1[[#This Row],[Column34]]*Table1[[#This Row],[Column35]])","v":""},null,null,null,null,{"$f":"IF(OR(ISBLANK(Table1[[#This Row],[Column39]]),ISBLANK(Table1[[#This Row],[Column40]])), \"\",Table1[[#This Row],[Column39]]*Table1[[#This Row],[Column40]])","v":""},null,null,null,null,{"$f":"IF(OR(ISBLANK(Table1[[#This Row],[Column43]]),ISBLANK(Table1[[#This Row],[Column44]])), \"\",Table1[[#This Row],[Column43]]*Table1[[#This Row],[Column44]])","v":""},null,null,null,null,{"$f":"IF(OR(ISBLANK(Table1[[#This Row],[Column48]]),ISBLANK(Table1[[#This Row],[Column49]])), \"\",Table1[[#This Row],[Column48]]*Table1[[#This Row],[Column49]])","v":""},null,null,null,null,{"$f":"IF(OR(ISBLANK(Table1[[#This Row],[Column52]]),ISBLANK(Table1[[#This Row],[Column53]])), \"\",Table1[[#This Row],[Column52]]*Table1[[#This Row],[Column53]])","v":""},null,null,null,null,{"$f":"IF(OR(ISBLANK(Table1[[#This Row],[Column57]]),ISBLANK(Table1[[#This Row],[Column58]])), \"\",Table1[[#This Row],[Column57]]*Table1[[#This Row],[Column58]])","v":""},null,null,null,null,{"$f":"IF(OR(ISBLANK(Table1[[#This Row],[Column61]]),ISBLANK(Table1[[#This Row],[Column62]])), \"\",Table1[[#This Row],[Column61]]*Table1[[#This Row],[Column62]])","v":""}]
[null,"Tributyltin Compounds (TBT)","Y","Biocide paint used on boat hulls.",5,4,{"$f":"IF(OR(ISBLANK(Table1[[#This Row],[Column3]]),ISBLANK(Table1[[#This Row],[Column4]])), \"\",Table1[[#This Row],[Column3]]*Table1[[#This Row],[Column4]])","v":20},"Gate 1: Noted to exceed average annual environmental quality standards. (WSP)\n\nGate 2 Water quality monitoring programme identified max recorded value of 0.0014ug/l at Site 6, lower than previously identified in Gate 1. \n\nWHO guidelines mention a Health-based for the value Sum of TBT, TPT, DBT and DOT: 1.5 µg/l (equivalent to approximately 0.6 µg/l tin)\n\nNo current or proposed PCV to judge likelihood scores from. Likelihood scores kept the same as initially scored in Gate 1. Scores to be updated following a  greater understanding of how to score parameters of emerging concern with no current or proposed PCV. ","None",5,4,{"$f":"IF(OR(ISBLANK(Table1[[#This Row],[Column7]]),ISBLANK(Table1[[#This Row],[Column8]])), \"\",Table1[[#This Row],[Column7]]*Table1[[#This Row],[Column8]])","v":20},"Mitigated through treatment","None",5,4,{"$f":"IF(OR(ISBLANK(Table1[[#This Row],[Column12]]),ISBLANK(Table1[[#This Row],[Column13]])), \"\",Table1[[#This Row],[Column12]]*Table1[[#This Row],[Column13]])","v":20},"Noted to exceed average annual environmental quality standards. (WSP)","None",5,5,{"$f":"IF(OR(ISBLANK(Table1[[#This Row],[Column16]]),ISBLANK(Table1[[#This Row],[Column17]])), \"\",Table1[[#This Row],[Column16]]*Table1[[#This Row],[Column17]])","v":25},"Mitigated through treatment","None.",5,5,{"$f":"IF(OR(ISBLANK(Table1[[#This Row],[Column21]]),ISBLANK(Table1[[#This Row],[Column22]])), \"\",Table1[[#This Row],[Column21]]*Table1[[#This Row],[Column22]])","v":25},"Risk not likely to change through conveyance","None",5,5,{"$f":"IF(OR(ISBLANK(Table1[[#This Row],[Column25]]),ISBLANK(Table1[[#This Row],[Column26]])), \"\",Table1[[#This Row],[Column25]]*Table1[[#This Row],[Column26]])","v":25},"No control so scores are cascaded from pre- to post-mitigated.","None",5,5,{"$f":"IF(OR(ISBLANK(Table1[[#This Row],[Column30]]),ISBLANK(Table1[[#This Row],[Column31]])), \"\",Table1[[#This Row],[Column30]]*Table1[[#This Row],[Column31]])","v":25},"Noted to exceed average annual environmental quality standards.","Mitigated through Oxidation, Coagulation, flocculation and clarification, UF membrane filtration, GAC.",1,5,{"$f":"IF(OR(ISBLANK(Table1[[#This Row],[Column34]]),ISBLANK(Table1[[#This Row],[Column35]])), \"\",Table1[[#This Row],[Column34]]*Table1[[#This Row],[Column35]])","v":5},"Treatment measures selected provide effective removal","Continue monitoring",1,5,{"$f":"IF(OR(ISBLANK(Table1[[#This Row],[Column39]]),ISBLANK(Table1[[#This Row],[Column40]])), \"\",Table1[[#This Row],[Column39]]*Table1[[#This Row],[Column40]])","v":5},"Risk unlikely to increase through to storage","No control measure required",1,5,{"$f":"IF(OR(ISBLANK(Table1[[#This Row],[Column43]]),ISBLANK(Table1[[#This Row],[Column44]])), \"\",Table1[[#This Row],[Column43]]*Table1[[#This Row],[Column44]])","v":5},"None","None",1,5,{"$f":"IF(OR(ISBLANK(Table1[[#This Row],[Column48]]),ISBLANK(Table1[[#This Row],[Column49]])), \"\",Table1[[#This Row],[Column48]]*Table1[[#This Row],[Column49]])","v":5},"Risk unlikely to increase during distribution","None",1,5,{"$f":"IF(OR(ISBLANK(Table1[[#This Row],[Column52]]),ISBLANK(Table1[[#This Row],[Column53]])), \"\",Table1[[#This Row],[Column52]]*Table1[[#This Row],[Column53]])","v":5},"None","None",1,5,{"$f":"IF(OR(ISBLANK(Table1[[#This Row],[Column57]]),ISBLANK(Table1[[#This Row],[Column58]])), \"\",Table1[[#This Row],[Column57]]*Table1[[#This Row],[Column58]])","v":5},"Risk unlikely to change through to customer taps","None",1,5,{"$f":"IF(OR(ISBLANK(Table1[[#This Row],[Column61]]),ISBLANK(Table1[[#This Row],[Column62]])), \"\",Table1[[#This Row],[Column61]]*Table1[[#This Row],[Column62]])","v":5},"None","None"]
[null,"Triclosan","Y","Anti-bacterial and anti-fungal in personal care products",5,4,{"$f":"IF(OR(ISBLANK(Table1[[#This Row],[Column3]]),ISBLANK(Table1[[#This Row],[Column4]])), \"\",Table1[[#This Row],[Column3]]*Table1[[#This Row],[Column4]])","v":20},"Gate 1: Determined to have exceeded an environmental Max allowable concentration, measured at 5.05μg/l (WSP).\n\nGate 2 WQ Monitoring Programme found Max concentration in Minworth WwTW effluent 0.07ug/l. with average value 0.03ug/l. Other sites Max value 0.02ug/l, with majority of values below <0.01ug/l.\n\nNo current or proposed PCV to judge likelihood scores from. Likelihood scores kept the same as initially scored in Gate 1. Scores to be updated following a  greater understanding of how to score parameters of emerging concern with no current or proposed PCV. Scope to determine a common scoring method across the SRO's for  emerging contaminants with no current or proposed PCV","None",5,4,{"$f":"IF(OR(ISBLANK(Table1[[#This Row],[Column7]]),ISBLANK(Table1[[#This Row],[Column8]])), \"\",Table1[[#This Row],[Column7]]*Table1[[#This Row],[Column8]])","v":20},"Mitigated through treatment","None",5,4,{"$f":"IF(OR(ISBLANK(Table1[[#This Row],[Column12]]),ISBLANK(Table1[[#This Row],[Column13]])), \"\",Table1[[#This Row],[Column12]]*Table1[[#This Row],[Column13]])","v":20},"Risk profile unlikely to change during abstraction","None",5,4,{"$f":"IF(OR(ISBLANK(Table1[[#This Row],[Column16]]),ISBLANK(Table1[[#This Row],[Column17]])), \"\",Table1[[#This Row],[Column16]]*Table1[[#This Row],[Column17]])","v":20},"Mitigated through treatment","None.",5,4,{"$f":"IF(OR(ISBLANK(Table1[[#This Row],[Column21]]),ISBLANK(Table1[[#This Row],[Column22]])), \"\",Table1[[#This Row],[Column21]]*Table1[[#This Row],[Column22]])","v":20},"Risk not likely to change through conveyance","None",5,4,{"$f":"IF(OR(ISBLANK(Table1[[#This Row],[Column25]]),ISBLANK(Table1[[#This Row],[Column26]])), \"\",Table1[[#This Row],[Column25]]*Table1[[#This Row],[Column26]])","v":20},"No control so scores are cascaded from pre- to post-mitigated.","None",5,4,{"$f":"IF(OR(ISBLANK(Table1[[#This Row],[Column30]]),ISBLANK(Table1[[#This Row],[Column31]])), \"\",Table1[[#This Row],[Column30]]*Table1[[#This Row],[Column31]])","v":20},"Determined to have exceeded the max. allowable concentration.","Mitigated through Oxidation, Chlorination",1,4,{"$f":"IF(OR(ISBLANK(Table1[[#This Row],[Column34]]),ISBLANK(Table1[[#This Row],[Column35]])), \"\",Table1[[#This Row],[Column34]]*Table1[[#This Row],[Column35]])","v":4},"Treatment measures selected are expected to provide effective removal","Continue monitoring",1,4,{"$f":"IF(OR(ISBLANK(Table1[[#This Row],[Column39]]),ISBLANK(Table1[[#This Row],[Column40]])), \"\",Table1[[#This Row],[Column39]]*Table1[[#This Row],[Column40]])","v":4},"Risk unlikely to increase through to storage","No control measure required",1,4,{"$f":"IF(OR(ISBLANK(Table1[[#This Row],[Column43]]),ISBLANK(Table1[[#This Row],[Column44]])), \"\",Table1[[#This Row],[Column43]]*Table1[[#This Row],[Column44]])","v":4},"None","None",1,4,{"$f":"IF(OR(ISBLANK(Table1[[#This Row],[Column48]]),ISBLANK(Table1[[#This Row],[Column49]])), \"\",Table1[[#This Row],[Column48]]*Table1[[#This Row],[Column49]])","v":4},"Risk unlikely to increase during distribution","None",1,4,{"$f":"IF(OR(ISBLANK(Table1[[#This Row],[Column52]]),ISBLANK(Table1[[#This Row],[Column53]])), \"\",Table1[[#This Row],[Column52]]*Table1[[#This Row],[Column53]])","v":4},"None","None",1,4,{"$f":"IF(OR(ISBLANK(Table1[[#This Row],[Column57]]),ISBLANK(Table1[[#This Row],[Column58]])), \"\",Table1[[#This Row],[Column57]]*Table1[[#This Row],[Column58]])","v":4},"Risk unlikely to change through to customer taps","None",1,4,{"$f":"IF(OR(ISBLANK(Table1[[#This Row],[Column61]]),ISBLANK(Table1[[#This Row],[Column62]])), \"\",Table1[[#This Row],[Column61]]*Table1[[#This Row],[Column62]])","v":4},"None","None"]
[null,null,"N","Algae/ purple algae. Covered under Algae limiting hazard.",null,null,{"$f":"IF(OR(ISBLANK(Table1[[#This Row],[Column3]]),ISBLANK(Table1[[#This Row],[Column4]])), \"\",Table1[[#This Row],[Column3]]*Table1[[#This Row],[Column4]])","v":""},null,null,null,null,{"$f":"IF(OR(ISBLANK(Table1[[#This Row],[Column7]]),ISBLANK(Table1[[#This Row],[Column8]])), \"\",Table1[[#This Row],[Column7]]*Table1[[#This Row],[Column8]])","v":""},null,null,null,null,{"$f":"IF(OR(ISBLANK(Table1[[#This Row],[Column12]]),ISBLANK(Table1[[#This Row],[Column13]])), \"\",Table1[[#This Row],[Column12]]*Table1[[#This Row],[Column13]])","v":""},null,null,null,null,{"$f":"IF(OR(ISBLANK(Table1[[#This Row],[Column16]]),ISBLANK(Table1[[#This Row],[Column17]])), \"\",Table1[[#This Row],[Column16]]*Table1[[#This Row],[Column17]])","v":""},null,null,null,null,{"$f":"IF(OR(ISBLANK(Table1[[#This Row],[Column21]]),ISBLANK(Table1[[#This Row],[Column22]])), \"\",Table1[[#This Row],[Column21]]*Table1[[#This Row],[Column22]])","v":""},null,null,null,null,{"$f":"IF(OR(ISBLANK(Table1[[#This Row],[Column25]]),ISBLANK(Table1[[#This Row],[Column26]])), \"\",Table1[[#This Row],[Column25]]*Table1[[#This Row],[Column26]])","v":""},null,null,null,null,{"$f":"IF(OR(ISBLANK(Table1[[#This Row],[Column30]]),ISBLANK(Table1[[#This Row],[Column31]])), \"\",Table1[[#This Row],[Column30]]*Table1[[#This Row],[Column31]])","v":""},null,null,null,null,{"$f":"IF(OR(ISBLANK(Table1[[#This Row],[Column34]]),ISBLANK(Table1[[#This Row],[Column35]])), \"\",Table1[[#This Row],[Column34]]*Table1[[#This Row],[Column35]])","v":""},null,null,null,null,{"$f":"IF(OR(ISBLANK(Table1[[#This Row],[Column39]]),ISBLANK(Table1[[#This Row],[Column40]])), \"\",Table1[[#This Row],[Column39]]*Table1[[#This Row],[Column40]])","v":""},null,null,null,null,{"$f":"IF(OR(ISBLANK(Table1[[#This Row],[Column43]]),ISBLANK(Table1[[#This Row],[Column44]])), \"\",Table1[[#This Row],[Column43]]*Table1[[#This Row],[Column44]])","v":""},null,null,null,null,{"$f":"IF(OR(ISBLANK(Table1[[#This Row],[Column48]]),ISBLANK(Table1[[#This Row],[Column49]])), \"\",Table1[[#This Row],[Column48]]*Table1[[#This Row],[Column49]])","v":""},null,null,null,null,{"$f":"IF(OR(ISBLANK(Table1[[#This Row],[Column52]]),ISBLANK(Table1[[#This Row],[Column53]])), \"\",Table1[[#This Row],[Column52]]*Table1[[#This Row],[Column53]])","v":""},null,null,null,null,{"$f":"IF(OR(ISBLANK(Table1[[#This Row],[Column57]]),ISBLANK(Table1[[#This Row],[Column58]])), \"\",Table1[[#This Row],[Column57]]*Table1[[#This Row],[Column58]])","v":""},null,null,null,null,{"$f":"IF(OR(ISBLANK(Table1[[#This Row],[Column61]]),ISBLANK(Table1[[#This Row],[Column62]])), \"\",Table1[[#This Row],[Column61]]*Table1[[#This Row],[Column62]])","v":""}]
[null,null,"N","Insecticide. Covered under pesticide limiting hazard.\n\nMeasured at <0.0001μg/l (WSP).",null,null,{"$f":"IF(OR(ISBLANK(Table1[[#This Row],[Column3]]),ISBLANK(Table1[[#This Row],[Column4]])), \"\",Table1[[#This Row],[Column3]]*Table1[[#This Row],[Column4]])","v":""},null,null,null,null,{"$f":"IF(OR(ISBLANK(Table1[[#This Row],[Column7]]),ISBLANK(Table1[[#This Row],[Column8]])), \"\",Table1[[#This Row],[Column7]]*Table1[[#This Row],[Column8]])","v":""},null,null,null,null,{"$f":"IF(OR(ISBLANK(Table1[[#This Row],[Column12]]),ISBLANK(Table1[[#This Row],[Column13]])), \"\",Table1[[#This Row],[Column12]]*Table1[[#This Row],[Column13]])","v":""},null,null,null,null,{"$f":"IF(OR(ISBLANK(Table1[[#This Row],[Column16]]),ISBLANK(Table1[[#This Row],[Column17]])), \"\",Table1[[#This Row],[Column16]]*Table1[[#This Row],[Column17]])","v":""},null,null,null,null,{"$f":"IF(OR(ISBLANK(Table1[[#This Row],[Column21]]),ISBLANK(Table1[[#This Row],[Column22]])), \"\",Table1[[#This Row],[Column21]]*Table1[[#This Row],[Column22]])","v":""},null,null,null,null,{"$f":"IF(OR(ISBLANK(Table1[[#This Row],[Column25]]),ISBLANK(Table1[[#This Row],[Column26]])), \"\",Table1[[#This Row],[Column25]]*Table1[[#This Row],[Column26]])","v":""},null,null,null,null,{"$f":"IF(OR(ISBLANK(Table1[[#This Row],[Column30]]),ISBLANK(Table1[[#This Row],[Column31]])), \"\",Table1[[#This Row],[Column30]]*Table1[[#This Row],[Column31]])","v":""},null,null,null,null,{"$f":"IF(OR(ISBLANK(Table1[[#This Row],[Column34]]),ISBLANK(Table1[[#This Row],[Column35]])), \"\",Table1[[#This Row],[Column34]]*Table1[[#This Row],[Column35]])","v":""},null,null,null,null,{"$f":"IF(OR(ISBLANK(Table1[[#This Row],[Column39]]),ISBLANK(Table1[[#This Row],[Column40]])), \"\",Table1[[#This Row],[Column39]]*Table1[[#This Row],[Column40]])","v":""},null,null,null,null,{"$f":"IF(OR(ISBLANK(Table1[[#This Row],[Column43]]),ISBLANK(Table1[[#This Row],[Column44]])), \"\",Table1[[#This Row],[Column43]]*Table1[[#This Row],[Column44]])","v":""},null,null,null,null,{"$f":"IF(OR(ISBLANK(Table1[[#This Row],[Column48]]),ISBLANK(Table1[[#This Row],[Column49]])), \"\",Table1[[#This Row],[Column48]]*Table1[[#This Row],[Column49]])","v":""},null,null,null,null,{"$f":"IF(OR(ISBLANK(Table1[[#This Row],[Column52]]),ISBLANK(Table1[[#This Row],[Column53]])), \"\",Table1[[#This Row],[Column52]]*Table1[[#This Row],[Column53]])","v":""},null,null,null,null,{"$f":"IF(OR(ISBLANK(Table1[[#This Row],[Column57]]),ISBLANK(Table1[[#This Row],[Column58]])), \"\",Table1[[#This Row],[Column57]]*Table1[[#This Row],[Column58]])","v":""},null,null,null,null,{"$f":"IF(OR(ISBLANK(Table1[[#This Row],[Column61]]),ISBLANK(Table1[[#This Row],[Column62]])), \"\",Table1[[#This Row],[Column61]]*Table1[[#This Row],[Column62]])","v":""}]
[null,null,"N","Industrial contaminant- plasticizer\n\nMeasured at <0.2μg/l (WSP).",null,null,{"$f":"IF(OR(ISBLANK(Table1[[#This Row],[Column3]]),ISBLANK(Table1[[#This Row],[Column4]])), \"\",Table1[[#This Row],[Column3]]*Table1[[#This Row],[Column4]])","v":""},null,null,null,null,{"$f":"IF(OR(ISBLANK(Table1[[#This Row],[Column7]]),ISBLANK(Table1[[#This Row],[Column8]])), \"\",Table1[[#This Row],[Column7]]*Table1[[#This Row],[Column8]])","v":""},null,null,null,null,{"$f":"IF(OR(ISBLANK(Table1[[#This Row],[Column12]]),ISBLANK(Table1[[#This Row],[Column13]])), \"\",Table1[[#This Row],[Column12]]*Table1[[#This Row],[Column13]])","v":""},null,null,null,null,{"$f":"IF(OR(ISBLANK(Table1[[#This Row],[Column16]]),ISBLANK(Table1[[#This Row],[Column17]])), \"\",Table1[[#This Row],[Column16]]*Table1[[#This Row],[Column17]])","v":""},null,null,null,null,{"$f":"IF(OR(ISBLANK(Table1[[#This Row],[Column21]]),ISBLANK(Table1[[#This Row],[Column22]])), \"\",Table1[[#This Row],[Column21]]*Table1[[#This Row],[Column22]])","v":""},null,null,null,null,{"$f":"IF(OR(ISBLANK(Table1[[#This Row],[Column25]]),ISBLANK(Table1[[#This Row],[Column26]])), \"\",Table1[[#This Row],[Column25]]*Table1[[#This Row],[Column26]])","v":""},null,null,null,null,{"$f":"IF(OR(ISBLANK(Table1[[#This Row],[Column30]]),ISBLANK(Table1[[#This Row],[Column31]])), \"\",Table1[[#This Row],[Column30]]*Table1[[#This Row],[Column31]])","v":""},null,null,null,null,{"$f":"IF(OR(ISBLANK(Table1[[#This Row],[Column34]]),ISBLANK(Table1[[#This Row],[Column35]])), \"\",Table1[[#This Row],[Column34]]*Table1[[#This Row],[Column35]])","v":""},null,null,null,null,{"$f":"IF(OR(ISBLANK(Table1[[#This Row],[Column39]]),ISBLANK(Table1[[#This Row],[Column40]])), \"\",Table1[[#This Row],[Column39]]*Table1[[#This Row],[Column40]])","v":""},null,null,null,null,{"$f":"IF(OR(ISBLANK(Table1[[#This Row],[Column43]]),ISBLANK(Table1[[#This Row],[Column44]])), \"\",Table1[[#This Row],[Column43]]*Table1[[#This Row],[Column44]])","v":""},null,null,null,null,{"$f":"IF(OR(ISBLANK(Table1[[#This Row],[Column48]]),ISBLANK(Table1[[#This Row],[Column49]])), \"\",Table1[[#This Row],[Column48]]*Table1[[#This Row],[Column49]])","v":""},null,null,null,null,{"$f":"IF(OR(ISBLANK(Table1[[#This Row],[Column52]]),ISBLANK(Table1[[#This Row],[Column53]])), \"\",Table1[[#This Row],[Column52]]*Table1[[#This Row],[Column53]])","v":""},null,null,null,null,{"$f":"IF(OR(ISBLANK(Table1[[#This Row],[Column57]]),ISBLANK(Table1[[#This Row],[Column58]])), \"\",Table1[[#This Row],[Column57]]*Table1[[#This Row],[Column58]])","v":""},null,null,null,null,{"$f":"IF(OR(ISBLANK(Table1[[#This Row],[Column61]]),ISBLANK(Table1[[#This Row],[Column62]])), \"\",Table1[[#This Row],[Column61]]*Table1[[#This Row],[Column62]])","v":""}]
[null,null,"N","Industrial contaminant- flame retardant\n\nMeasured at <0.001μg/l (WSP).",null,null,{"$f":"IF(OR(ISBLANK(Table1[[#This Row],[Column3]]),ISBLANK(Table1[[#This Row],[Column4]])), \"\",Table1[[#This Row],[Column3]]*Table1[[#This Row],[Column4]])","v":""},null,null,null,null,{"$f":"IF(OR(ISBLANK(Table1[[#This Row],[Column7]]),ISBLANK(Table1[[#This Row],[Column8]])), \"\",Table1[[#This Row],[Column7]]*Table1[[#This Row],[Column8]])","v":""},null,null,null,null,{"$f":"IF(OR(ISBLANK(Table1[[#This Row],[Column12]]),ISBLANK(Table1[[#This Row],[Column13]])), \"\",Table1[[#This Row],[Column12]]*Table1[[#This Row],[Column13]])","v":""},null,null,null,null,{"$f":"IF(OR(ISBLANK(Table1[[#This Row],[Column16]]),ISBLANK(Table1[[#This Row],[Column17]])), \"\",Table1[[#This Row],[Column16]]*Table1[[#This Row],[Column17]])","v":""},null,null,null,null,{"$f":"IF(OR(ISBLANK(Table1[[#This Row],[Column21]]),ISBLANK(Table1[[#This Row],[Column22]])), \"\",Table1[[#This Row],[Column21]]*Table1[[#This Row],[Column22]])","v":""},null,null,null,null,{"$f":"IF(OR(ISBLANK(Table1[[#This Row],[Column25]]),ISBLANK(Table1[[#This Row],[Column26]])), \"\",Table1[[#This Row],[Column25]]*Table1[[#This Row],[Column26]])","v":""},null,null,null,null,{"$f":"IF(OR(ISBLANK(Table1[[#This Row],[Column30]]),ISBLANK(Table1[[#This Row],[Column31]])), \"\",Table1[[#This Row],[Column30]]*Table1[[#This Row],[Column31]])","v":""},null,null,null,null,{"$f":"IF(OR(ISBLANK(Table1[[#This Row],[Column34]]),ISBLANK(Table1[[#This Row],[Column35]])), \"\",Table1[[#This Row],[Column34]]*Table1[[#This Row],[Column35]])","v":""},null,null,null,null,{"$f":"IF(OR(ISBLANK(Table1[[#This Row],[Column39]]),ISBLANK(Table1[[#This Row],[Column40]])), \"\",Table1[[#This Row],[Column39]]*Table1[[#This Row],[Column40]])","v":""},null,null,null,null,{"$f":"IF(OR(ISBLANK(Table1[[#This Row],[Column43]]),ISBLANK(Table1[[#This Row],[Column44]])), \"\",Table1[[#This Row],[Column43]]*Table1[[#This Row],[Column44]])","v":""},null,null,null,null,{"$f":"IF(OR(ISBLANK(Table1[[#This Row],[Column48]]),ISBLANK(Table1[[#This Row],[Column49]])), \"\",Table1[[#This Row],[Column48]]*Table1[[#This Row],[Column49]])","v":""},null,null,null,null,{"$f":"IF(OR(ISBLANK(Table1[[#This Row],[Column52]]),ISBLANK(Table1[[#This Row],[Column53]])), \"\",Table1[[#This Row],[Column52]]*Table1[[#This Row],[Column53]])","v":""},null,null,null,null,{"$f":"IF(OR(ISBLANK(Table1[[#This Row],[Column57]]),ISBLANK(Table1[[#This Row],[Column58]])), \"\",Table1[[#This Row],[Column57]]*Table1[[#This Row],[Column58]])","v":""},null,null,null,null,{"$f":"IF(OR(ISBLANK(Table1[[#This Row],[Column61]]),ISBLANK(Table1[[#This Row],[Column62]])), \"\",Table1[[#This Row],[Column61]]*Table1[[#This Row],[Column62]])","v":""}]
[null,null,"N","Nutrients - ecological. Environmental hazard, limiting hazard Algae.\n\nBOD5 determined at 129.43μg/l. (WSP)",null,null,{"$f":"IF(OR(ISBLANK(Table1[[#This Row],[Column3]]),ISBLANK(Table1[[#This Row],[Column4]])), \"\",Table1[[#This Row],[Column3]]*Table1[[#This Row],[Column4]])","v":""},null,null,null,null,{"$f":"IF(OR(ISBLANK(Table1[[#This Row],[Column7]]),ISBLANK(Table1[[#This Row],[Column8]])), \"\",Table1[[#This Row],[Column7]]*Table1[[#This Row],[Column8]])","v":""},null,null,null,null,{"$f":"IF(OR(ISBLANK(Table1[[#This Row],[Column12]]),ISBLANK(Table1[[#This Row],[Column13]])), \"\",Table1[[#This Row],[Column12]]*Table1[[#This Row],[Column13]])","v":""},null,null,null,null,{"$f":"IF(OR(ISBLANK(Table1[[#This Row],[Column16]]),ISBLANK(Table1[[#This Row],[Column17]])), \"\",Table1[[#This Row],[Column16]]*Table1[[#This Row],[Column17]])","v":""},null,null,null,null,{"$f":"IF(OR(ISBLANK(Table1[[#This Row],[Column21]]),ISBLANK(Table1[[#This Row],[Column22]])), \"\",Table1[[#This Row],[Column21]]*Table1[[#This Row],[Column22]])","v":""},null,null,null,null,{"$f":"IF(OR(ISBLANK(Table1[[#This Row],[Column25]]),ISBLANK(Table1[[#This Row],[Column26]])), \"\",Table1[[#This Row],[Column25]]*Table1[[#This Row],[Column26]])","v":""},null,null,null,null,{"$f":"IF(OR(ISBLANK(Table1[[#This Row],[Column30]]),ISBLANK(Table1[[#This Row],[Column31]])), \"\",Table1[[#This Row],[Column30]]*Table1[[#This Row],[Column31]])","v":""},null,null,null,null,{"$f":"IF(OR(ISBLANK(Table1[[#This Row],[Column34]]),ISBLANK(Table1[[#This Row],[Column35]])), \"\",Table1[[#This Row],[Column34]]*Table1[[#This Row],[Column35]])","v":""},null,null,null,null,{"$f":"IF(OR(ISBLANK(Table1[[#This Row],[Column39]]),ISBLANK(Table1[[#This Row],[Column40]])), \"\",Table1[[#This Row],[Column39]]*Table1[[#This Row],[Column40]])","v":""},null,null,null,null,{"$f":"IF(OR(ISBLANK(Table1[[#This Row],[Column43]]),ISBLANK(Table1[[#This Row],[Column44]])), \"\",Table1[[#This Row],[Column43]]*Table1[[#This Row],[Column44]])","v":""},null,null,null,null,{"$f":"IF(OR(ISBLANK(Table1[[#This Row],[Column48]]),ISBLANK(Table1[[#This Row],[Column49]])), \"\",Table1[[#This Row],[Column48]]*Table1[[#This Row],[Column49]])","v":""},null,null,null,null,{"$f":"IF(OR(ISBLANK(Table1[[#This Row],[Column52]]),ISBLANK(Table1[[#This Row],[Column53]])), \"\",Table1[[#This Row],[Column52]]*Table1[[#This Row],[Column53]])","v":""},null,null,null,null,{"$f":"IF(OR(ISBLANK(Table1[[#This Row],[Column57]]),ISBLANK(Table1[[#This Row],[Column58]])), \"\",Table1[[#This Row],[Column57]]*Table1[[#This Row],[Column58]])","v":""},null,null,null,null,{"$f":"IF(OR(ISBLANK(Table1[[#This Row],[Column61]]),ISBLANK(Table1[[#This Row],[Column62]])), \"\",Table1[[#This Row],[Column61]]*Table1[[#This Row],[Column62]])","v":""}]
[null,null,"N","Nutrients - ecological.\n\nCOD determined at 50mg/l. (WSP)",null,null,{"$f":"IF(OR(ISBLANK(Table1[[#This Row],[Column3]]),ISBLANK(Table1[[#This Row],[Column4]])), \"\",Table1[[#This Row],[Column3]]*Table1[[#This Row],[Column4]])","v":""},null,null,null,null,{"$f":"IF(OR(ISBLANK(Table1[[#This Row],[Column7]]),ISBLANK(Table1[[#This Row],[Column8]])), \"\",Table1[[#This Row],[Column7]]*Table1[[#This Row],[Column8]])","v":""},null,null,null,null,{"$f":"IF(OR(ISBLANK(Table1[[#This Row],[Column12]]),ISBLANK(Table1[[#This Row],[Column13]])), \"\",Table1[[#This Row],[Column12]]*Table1[[#This Row],[Column13]])","v":""},null,null,null,null,{"$f":"IF(OR(ISBLANK(Table1[[#This Row],[Column16]]),ISBLANK(Table1[[#This Row],[Column17]])), \"\",Table1[[#This Row],[Column16]]*Table1[[#This Row],[Column17]])","v":""},null,null,null,null,{"$f":"IF(OR(ISBLANK(Table1[[#This Row],[Column21]]),ISBLANK(Table1[[#This Row],[Column22]])), \"\",Table1[[#This Row],[Column21]]*Table1[[#This Row],[Column22]])","v":""},null,null,null,null,{"$f":"IF(OR(ISBLANK(Table1[[#This Row],[Column25]]),ISBLANK(Table1[[#This Row],[Column26]])), \"\",Table1[[#This Row],[Column25]]*Table1[[#This Row],[Column26]])","v":""},null,null,null,null,{"$f":"IF(OR(ISBLANK(Table1[[#This Row],[Column30]]),ISBLANK(Table1[[#This Row],[Column31]])), \"\",Table1[[#This Row],[Column30]]*Table1[[#This Row],[Column31]])","v":""},null,null,null,null,{"$f":"IF(OR(ISBLANK(Table1[[#This Row],[Column34]]),ISBLANK(Table1[[#This Row],[Column35]])), \"\",Table1[[#This Row],[Column34]]*Table1[[#This Row],[Column35]])","v":""},null,null,null,null,{"$f":"IF(OR(ISBLANK(Table1[[#This Row],[Column39]]),ISBLANK(Table1[[#This Row],[Column40]])), \"\",Table1[[#This Row],[Column39]]*Table1[[#This Row],[Column40]])","v":""},null,null,null,null,{"$f":"IF(OR(ISBLANK(Table1[[#This Row],[Column43]]),ISBLANK(Table1[[#This Row],[Column44]])), \"\",Table1[[#This Row],[Column43]]*Table1[[#This Row],[Column44]])","v":""},null,null,null,null,{"$f":"IF(OR(ISBLANK(Table1[[#This Row],[Column48]]),ISBLANK(Table1[[#This Row],[Column49]])), \"\",Table1[[#This Row],[Column48]]*Table1[[#This Row],[Column49]])","v":""},null,null,null,null,{"$f":"IF(OR(ISBLANK(Table1[[#This Row],[Column52]]),ISBLANK(Table1[[#This Row],[Column53]])), \"\",Table1[[#This Row],[Column52]]*Table1[[#This Row],[Column53]])","v":""},null,null,null,null,{"$f":"IF(OR(ISBLANK(Table1[[#This Row],[Column57]]),ISBLANK(Table1[[#This Row],[Column58]])), \"\",Table1[[#This Row],[Column57]]*Table1[[#This Row],[Column58]])","v":""},null,null,null,null,{"$f":"IF(OR(ISBLANK(Table1[[#This Row],[Column61]]),ISBLANK(Table1[[#This Row],[Column62]])), \"\",Table1[[#This Row],[Column61]]*Table1[[#This Row],[Column62]])","v":""}]
[null,null,"N","Nutrients - ecological, Derived primarily from sewage and agriculture.\n\nAverage values of P in the Minworth STW effluent measured at 0.6 mg/l. Maximum value measured in GUC measured at 1.1mg/l (WSP)\n\nCoMag to be installed at Minworth STW.",null,null,{"$f":"IF(OR(ISBLANK(Table1[[#This Row],[Column3]]),ISBLANK(Table1[[#This Row],[Column4]])), \"\",Table1[[#This Row],[Column3]]*Table1[[#This Row],[Column4]])","v":""},null,null,null,null,{"$f":"IF(OR(ISBLANK(Table1[[#This Row],[Column7]]),ISBLANK(Table1[[#This Row],[Column8]])), \"\",Table1[[#This Row],[Column7]]*Table1[[#This Row],[Column8]])","v":""},null,null,null,null,{"$f":"IF(OR(ISBLANK(Table1[[#This Row],[Column12]]),ISBLANK(Table1[[#This Row],[Column13]])), \"\",Table1[[#This Row],[Column12]]*Table1[[#This Row],[Column13]])","v":""},null,null,null,null,{"$f":"IF(OR(ISBLANK(Table1[[#This Row],[Column16]]),ISBLANK(Table1[[#This Row],[Column17]])), \"\",Table1[[#This Row],[Column16]]*Table1[[#This Row],[Column17]])","v":""},null,null,null,null,{"$f":"IF(OR(ISBLANK(Table1[[#This Row],[Column21]]),ISBLANK(Table1[[#This Row],[Column22]])), \"\",Table1[[#This Row],[Column21]]*Table1[[#This Row],[Column22]])","v":""},null,null,null,null,{"$f":"IF(OR(ISBLANK(Table1[[#This Row],[Column25]]),ISBLANK(Table1[[#This Row],[Column26]])), \"\",Table1[[#This Row],[Column25]]*Table1[[#This Row],[Column26]])","v":""},null,null,null,null,{"$f":"IF(OR(ISBLANK(Table1[[#This Row],[Column30]]),ISBLANK(Table1[[#This Row],[Column31]])), \"\",Table1[[#This Row],[Column30]]*Table1[[#This Row],[Column31]])","v":""},null,null,null,null,{"$f":"IF(OR(ISBLANK(Table1[[#This Row],[Column34]]),ISBLANK(Table1[[#This Row],[Column35]])), \"\",Table1[[#This Row],[Column34]]*Table1[[#This Row],[Column35]])","v":""},null,null,null,null,{"$f":"IF(OR(ISBLANK(Table1[[#This Row],[Column39]]),ISBLANK(Table1[[#This Row],[Column40]])), \"\",Table1[[#This Row],[Column39]]*Table1[[#This Row],[Column40]])","v":""},null,null,null,null,{"$f":"IF(OR(ISBLANK(Table1[[#This Row],[Column43]]),ISBLANK(Table1[[#This Row],[Column44]])), \"\",Table1[[#This Row],[Column43]]*Table1[[#This Row],[Column44]])","v":""},null,null,null,null,{"$f":"IF(OR(ISBLANK(Table1[[#This Row],[Column48]]),ISBLANK(Table1[[#This Row],[Column49]])), \"\",Table1[[#This Row],[Column48]]*Table1[[#This Row],[Column49]])","v":""},null,null,null,null,{"$f":"IF(OR(ISBLANK(Table1[[#This Row],[Column52]]),ISBLANK(Table1[[#This Row],[Column53]])), \"\",Table1[[#This Row],[Column52]]*Table1[[#This Row],[Column53]])","v":""},null,null,null,null,{"$f":"IF(OR(ISBLANK(Table1[[#This Row],[Column57]]),ISBLANK(Table1[[#This Row],[Column58]])), \"\",Table1[[#This Row],[Column57]]*Table1[[#This Row],[Column58]])","v":""},null,null,null,null,{"$f":"IF(OR(ISBLANK(Table1[[#This Row],[Column61]]),ISBLANK(Table1[[#This Row],[Column62]])), \"\",Table1[[#This Row],[Column61]]*Table1[[#This Row],[Column62]])","v":""}]
[null,"Fluoranthene","Y","Industrial (PAH family)",4,4,{"$f":"IF(OR(ISBLANK(Table1[[#This Row],[Column3]]),ISBLANK(Table1[[#This Row],[Column4]])), \"\",Table1[[#This Row],[Column3]]*Table1[[#This Row],[Column4]])","v":16},"Gate 1: Measured to be just exceeding the annual average environmental quality standards at some Northern sample sites (0.0674ug/l). (WSP)\n\nGate 2 water quality monitoring programme had max recorded value 0.109ug/l at site 6, average reading 0.019ug/l as fluoranthene. \n\nBenzo(b)fluoranthene is a regulated  parameter under the PAH PCV, and produced a Max value 0.109ug/l (greater than PCV of 0.1ug/l), with mean value (0.03ug/l) at Site 6. Confirms presence of PAHs.","None",4,4,{"$f":"IF(OR(ISBLANK(Table1[[#This Row],[Column7]]),ISBLANK(Table1[[#This Row],[Column8]])), \"\",Table1[[#This Row],[Column7]]*Table1[[#This Row],[Column8]])","v":16},"Mitigated through treatment.","None",4,4,{"$f":"IF(OR(ISBLANK(Table1[[#This Row],[Column12]]),ISBLANK(Table1[[#This Row],[Column13]])), \"\",Table1[[#This Row],[Column12]]*Table1[[#This Row],[Column13]])","v":16},"Risk profile unlikely to change during abstraction","None",4,4,{"$f":"IF(OR(ISBLANK(Table1[[#This Row],[Column16]]),ISBLANK(Table1[[#This Row],[Column17]])), \"\",Table1[[#This Row],[Column16]]*Table1[[#This Row],[Column17]])","v":16},"Mitigated through treatment.","None.",4,4,{"$f":"IF(OR(ISBLANK(Table1[[#This Row],[Column21]]),ISBLANK(Table1[[#This Row],[Column22]])), \"\",Table1[[#This Row],[Column21]]*Table1[[#This Row],[Column22]])","v":16},"Risk not likely to change through conveyance","None",4,4,{"$f":"IF(OR(ISBLANK(Table1[[#This Row],[Column25]]),ISBLANK(Table1[[#This Row],[Column26]])), \"\",Table1[[#This Row],[Column25]]*Table1[[#This Row],[Column26]])","v":16},"No control so scores are cascaded from pre- to post-mitigated.","None",4,4,{"$f":"IF(OR(ISBLANK(Table1[[#This Row],[Column30]]),ISBLANK(Table1[[#This Row],[Column31]])), \"\",Table1[[#This Row],[Column30]]*Table1[[#This Row],[Column31]])","v":16},"Likelihood still high ","Mitigated through Coagulation, flocculation and clarification, GAC contractors",1,3,{"$f":"IF(OR(ISBLANK(Table1[[#This Row],[Column34]]),ISBLANK(Table1[[#This Row],[Column35]])), \"\",Table1[[#This Row],[Column34]]*Table1[[#This Row],[Column35]])","v":3},"Mitigated through treatment.","Continue Monitoring",1,3,{"$f":"IF(OR(ISBLANK(Table1[[#This Row],[Column39]]),ISBLANK(Table1[[#This Row],[Column40]])), \"\",Table1[[#This Row],[Column39]]*Table1[[#This Row],[Column40]])","v":3},"Risk unlikely to increase through to storage","No control measure required",1,3,{"$f":"IF(OR(ISBLANK(Table1[[#This Row],[Column43]]),ISBLANK(Table1[[#This Row],[Column44]])), \"\",Table1[[#This Row],[Column43]]*Table1[[#This Row],[Column44]])","v":3},"None","None",1,3,{"$f":"IF(OR(ISBLANK(Table1[[#This Row],[Column48]]),ISBLANK(Table1[[#This Row],[Column49]])), \"\",Table1[[#This Row],[Column48]]*Table1[[#This Row],[Column49]])","v":3},"Risk unlikely to increase during distribution","None",1,3,{"$f":"IF(OR(ISBLANK(Table1[[#This Row],[Column52]]),ISBLANK(Table1[[#This Row],[Column53]])), \"\",Table1[[#This Row],[Column52]]*Table1[[#This Row],[Column53]])","v":3},"None","None",1,3,{"$f":"IF(OR(ISBLANK(Table1[[#This Row],[Column57]]),ISBLANK(Table1[[#This Row],[Column58]])), \"\",Table1[[#This Row],[Column57]]*Table1[[#This Row],[Column58]])","v":3},"Risk unlikely to change through to customer taps","None",1,3,{"$f":"IF(OR(ISBLANK(Table1[[#This Row],[Column61]]),ISBLANK(Table1[[#This Row],[Column62]])), \"\",Table1[[#This Row],[Column61]]*Table1[[#This Row],[Column62]])","v":3},"None","None"]
[null,"PFAS Substances","Y","Flame retardant - appears in surface waters.\nThis Limiting Hazard covers all 51 PFAS substances identified by the DWI \"Requirements for Poly and Perfluorinated Alkyl Substances (PFAS)\nmonitoring by water companies in England and Wales\" (DWI, October 2021), including PFOS and PFOA.",3,5,{"$f":"IF(OR(ISBLANK(Table1[[#This Row],[Column3]]),ISBLANK(Table1[[#This Row],[Column4]])), \"\",Table1[[#This Row],[Column3]]*Table1[[#This Row],[Column4]])","v":15},"Gate 1: Detected but did not exceed current PCV (WSP)\n\nGate 2 Water Quality Monitoring Programme monitored for 20 PFAS substances in Minworth WwTW effluent, with PFOS & PFOA monitored at the remaining sites. Many of the individual PFAS substances at Minworth sampled below the LOD. Minworth maximum sum of values 0.073ug/l, mean value 0.060ug/l. These values are above the Tier 2 action limit (>0.01ug/l), but below the Tier 3 action limit (>0.1ug/l).\n\nIn the GUC, Max value 0.114ug/l of PFOS at Site 13 above Tier 3 action limit, second max value  0.0361ug/l (Site 5). Note these values are only for one sample point for only one parameter, and so does not give an indication to the total PFAS or sum of PFAS in the GUC\n\nTier 2 Actions involve: monitoring levels in drinking water in order to support estimates of long-term \nexposure to PFOA/PFOS and related chemicals; \n• consult with local health professionals (e.g. CCDCs / Directors of Public \nHealth and Local Authority Environmental Health Officers.\n\nTier 3 Actions involve: consult with local health professionals (e.g. CCDCs / Directors of Public Health and Local Authority Environmental Health Officers) regarding strategies for reducing exposure to PFOA/PFOS and related chemicals; \n• put in place measures to reduce concentrations to below 0.1 µg/l as soon as is practicable; \n• monitor levels in drinking water in order to support estimates of long term exposure to PFOA/PFOS and related chemicals. \n","None",3,5,{"$f":"IF(OR(ISBLANK(Table1[[#This Row],[Column7]]),ISBLANK(Table1[[#This Row],[Column8]])), \"\",Table1[[#This Row],[Column7]]*Table1[[#This Row],[Column8]])","v":15},"Mitigated through treatment.","Consider increasing the monitoring suite to include the 51 named PFAS substances now that analytical methods are available. ",3,5,{"$f":"IF(OR(ISBLANK(Table1[[#This Row],[Column12]]),ISBLANK(Table1[[#This Row],[Column13]])), \"\",Table1[[#This Row],[Column12]]*Table1[[#This Row],[Column13]])","v":15},"Risk profile unlikely to change in Abstraction","None",3,5,{"$f":"IF(OR(ISBLANK(Table1[[#This Row],[Column16]]),ISBLANK(Table1[[#This Row],[Column17]])), \"\",Table1[[#This Row],[Column16]]*Table1[[#This Row],[Column17]])","v":15},"Mitigated through treatment.","None.",3,5,{"$f":"IF(OR(ISBLANK(Table1[[#This Row],[Column21]]),ISBLANK(Table1[[#This Row],[Column22]])), \"\",Table1[[#This Row],[Column21]]*Table1[[#This Row],[Column22]])","v":15},"Risk not likely to change through conveyance","None",3,5,{"$f":"IF(OR(ISBLANK(Table1[[#This Row],[Column25]]),ISBLANK(Table1[[#This Row],[Column26]])), \"\",Table1[[#This Row],[Column25]]*Table1[[#This Row],[Column26]])","v":15},"No control so scores are cascaded from pre- to post-mitigated.","None",3,5,{"$f":"IF(OR(ISBLANK(Table1[[#This Row],[Column30]]),ISBLANK(Table1[[#This Row],[Column31]])), \"\",Table1[[#This Row],[Column30]]*Table1[[#This Row],[Column31]])","v":15},"Current concentrations within PCV.","GAC/BAC",1,5,{"$f":"IF(OR(ISBLANK(Table1[[#This Row],[Column34]]),ISBLANK(Table1[[#This Row],[Column35]])), \"\",Table1[[#This Row],[Column34]]*Table1[[#This Row],[Column35]])","v":5},"GAC to provide suitable removal with sufficient contact time.","Continue monitoring, ensure meets standards if regulatory values change.",1,5,{"$f":"IF(OR(ISBLANK(Table1[[#This Row],[Column39]]),ISBLANK(Table1[[#This Row],[Column40]])), \"\",Table1[[#This Row],[Column39]]*Table1[[#This Row],[Column40]])","v":5},"Risk unlikely to increase through to storage","No control measure required",1,5,{"$f":"IF(OR(ISBLANK(Table1[[#This Row],[Column43]]),ISBLANK(Table1[[#This Row],[Column44]])), \"\",Table1[[#This Row],[Column43]]*Table1[[#This Row],[Column44]])","v":5},"None","None",1,5,{"$f":"IF(OR(ISBLANK(Table1[[#This Row],[Column48]]),ISBLANK(Table1[[#This Row],[Column49]])), \"\",Table1[[#This Row],[Column48]]*Table1[[#This Row],[Column49]])","v":5},"Risk unlikely to increase during distribution","None",1,5,{"$f":"IF(OR(ISBLANK(Table1[[#This Row],[Column52]]),ISBLANK(Table1[[#This Row],[Column53]])), \"\",Table1[[#This Row],[Column52]]*Table1[[#This Row],[Column53]])","v":5},"None","None",1,5,{"$f":"IF(OR(ISBLANK(Table1[[#This Row],[Column57]]),ISBLANK(Table1[[#This Row],[Column58]])), \"\",Table1[[#This Row],[Column57]]*Table1[[#This Row],[Column58]])","v":5},"Risk unlikely to change through to customer taps","None",1,5,{"$f":"IF(OR(ISBLANK(Table1[[#This Row],[Column61]]),ISBLANK(Table1[[#This Row],[Column62]])), \"\",Table1[[#This Row],[Column61]]*Table1[[#This Row],[Column62]])","v":5},"None","Continued monitoring is recommended to identify the magnitude of the risk"]
[null,null,null,null,null,null,{"$f":"IF(OR(ISBLANK(Table1[[#This Row],[Column3]]),ISBLANK(Table1[[#This Row],[Column4]])), \"\",Table1[[#This Row],[Column3]]*Table1[[#This Row],[Column4]])","v":""},null,null,null,null,{"$f":"IF(OR(ISBLANK(Table1[[#This Row],[Column7]]),ISBLANK(Table1[[#This Row],[Column8]])), \"\",Table1[[#This Row],[Column7]]*Table1[[#This Row],[Column8]])","v":""},null,null,null,null,{"$f":"IF(OR(ISBLANK(Table1[[#This Row],[Column12]]),ISBLANK(Table1[[#This Row],[Column13]])), \"\",Table1[[#This Row],[Column12]]*Table1[[#This Row],[Column13]])","v":""},null,null,null,null,{"$f":"IF(OR(ISBLANK(Table1[[#This Row],[Column16]]),ISBLANK(Table1[[#This Row],[Column17]])), \"\",Table1[[#This Row],[Column16]]*Table1[[#This Row],[Column17]])","v":""},null,null,null,null,{"$f":"IF(OR(ISBLANK(Table1[[#This Row],[Column21]]),ISBLANK(Table1[[#This Row],[Column22]])), \"\",Table1[[#This Row],[Column21]]*Table1[[#This Row],[Column22]])","v":""},null,null,null,null,{"$f":"IF(OR(ISBLANK(Table1[[#This Row],[Column25]]),ISBLANK(Table1[[#This Row],[Column26]])), \"\",Table1[[#This Row],[Column25]]*Table1[[#This Row],[Column26]])","v":""},null,null,null,null,{"$f":"IF(OR(ISBLANK(Table1[[#This Row],[Column30]]),ISBLANK(Table1[[#This Row],[Column31]])), \"\",Table1[[#This Row],[Column30]]*Table1[[#This Row],[Column31]])","v":""},null,null,null,null,{"$f":"IF(OR(ISBLANK(Table1[[#This Row],[Column34]]),ISBLANK(Table1[[#This Row],[Column35]])), \"\",Table1[[#This Row],[Column34]]*Table1[[#This Row],[Column35]])","v":""},null,null,null,null,{"$f":"IF(OR(ISBLANK(Table1[[#This Row],[Column39]]),ISBLANK(Table1[[#This Row],[Column40]])), \"\",Table1[[#This Row],[Column39]]*Table1[[#This Row],[Column40]])","v":""},null,null,null,null,{"$f":"IF(OR(ISBLANK(Table1[[#This Row],[Column43]]),ISBLANK(Table1[[#This Row],[Column44]])), \"\",Table1[[#This Row],[Column43]]*Table1[[#This Row],[Column44]])","v":""},null,null,null,null,{"$f":"IF(OR(ISBLANK(Table1[[#This Row],[Column48]]),ISBLANK(Table1[[#This Row],[Column49]])), \"\",Table1[[#This Row],[Column48]]*Table1[[#This Row],[Column49]])","v":""},null,null,null,null,{"$f":"IF(OR(ISBLANK(Table1[[#This Row],[Column52]]),ISBLANK(Table1[[#This Row],[Column53]])), \"\",Table1[[#This Row],[Column52]]*Table1[[#This Row],[Column53]])","v":""},null,null,null,null,{"$f":"IF(OR(ISBLANK(Table1[[#This Row],[Column57]]),ISBLANK(Table1[[#This Row],[Column58]])), \"\",Table1[[#This Row],[Column57]]*Table1[[#This Row],[Column58]])","v":""},null,null,null,null,{"$f":"IF(OR(ISBLANK(Table1[[#This Row],[Column61]]),ISBLANK(Table1[[#This Row],[Column62]])), \"\",Table1[[#This Row],[Column61]]*Table1[[#This Row],[Column62]])","v":""}]
[null,null,null,null,null,null,{"$f":"IF(OR(ISBLANK(Table1[[#This Row],[Column3]]),ISBLANK(Table1[[#This Row],[Column4]])), \"\",Table1[[#This Row],[Column3]]*Table1[[#This Row],[Column4]])","v":""},null,null,null,null,{"$f":"IF(OR(ISBLANK(Table1[[#This Row],[Column7]]),ISBLANK(Table1[[#This Row],[Column8]])), \"\",Table1[[#This Row],[Column7]]*Table1[[#This Row],[Column8]])","v":""},null,null,null,null,{"$f":"IF(OR(ISBLANK(Table1[[#This Row],[Column12]]),ISBLANK(Table1[[#This Row],[Column13]])), \"\",Table1[[#This Row],[Column12]]*Table1[[#This Row],[Column13]])","v":""},null,null,null,null,{"$f":"IF(OR(ISBLANK(Table1[[#This Row],[Column16]]),ISBLANK(Table1[[#This Row],[Column17]])), \"\",Table1[[#This Row],[Column16]]*Table1[[#This Row],[Column17]])","v":""},null,null,null,null,{"$f":"IF(OR(ISBLANK(Table1[[#This Row],[Column21]]),ISBLANK(Table1[[#This Row],[Column22]])), \"\",Table1[[#This Row],[Column21]]*Table1[[#This Row],[Column22]])","v":""},null,null,null,null,{"$f":"IF(OR(ISBLANK(Table1[[#This Row],[Column25]]),ISBLANK(Table1[[#This Row],[Column26]])), \"\",Table1[[#This Row],[Column25]]*Table1[[#This Row],[Column26]])","v":""},null,null,null,null,{"$f":"IF(OR(ISBLANK(Table1[[#This Row],[Column30]]),ISBLANK(Table1[[#This Row],[Column31]])), \"\",Table1[[#This Row],[Column30]]*Table1[[#This Row],[Column31]])","v":""},null,null,null,null,{"$f":"IF(OR(ISBLANK(Table1[[#This Row],[Column34]]),ISBLANK(Table1[[#This Row],[Column35]])), \"\",Table1[[#This Row],[Column34]]*Table1[[#This Row],[Column35]])","v":""},null,null,null,null,{"$f":"IF(OR(ISBLANK(Table1[[#This Row],[Column39]]),ISBLANK(Table1[[#This Row],[Column40]])), \"\",Table1[[#This Row],[Column39]]*Table1[[#This Row],[Column40]])","v":""},null,null,null,null,{"$f":"IF(OR(ISBLANK(Table1[[#This Row],[Column43]]),ISBLANK(Table1[[#This Row],[Column44]])), \"\",Table1[[#This Row],[Column43]]*Table1[[#This Row],[Column44]])","v":""},null,null,null,null,{"$f":"IF(OR(ISBLANK(Table1[[#This Row],[Column48]]),ISBLANK(Table1[[#This Row],[Column49]])), \"\",Table1[[#This Row],[Column48]]*Table1[[#This Row],[Column49]])","v":""},null,null,null,null,{"$f":"IF(OR(ISBLANK(Table1[[#This Row],[Column52]]),ISBLANK(Table1[[#This Row],[Column53]])), \"\",Table1[[#This Row],[Column52]]*Table1[[#This Row],[Column53]])","v":""},null,null,null,null,{"$f":"IF(OR(ISBLANK(Table1[[#This Row],[Column57]]),ISBLANK(Table1[[#This Row],[Column58]])), \"\",Table1[[#This Row],[Column57]]*Table1[[#This Row],[Column58]])","v":""},null,null,null,null,{"$f":"IF(OR(ISBLANK(Table1[[#This Row],[Column61]]),ISBLANK(Table1[[#This Row],[Column62]])), \"\",Table1[[#This Row],[Column61]]*Table1[[#This Row],[Column62]])","v":""}]
[null,null,null,null,null,null,{"$f":"IF(OR(ISBLANK(Table1[[#This Row],[Column3]]),ISBLANK(Table1[[#This Row],[Column4]])), \"\",Table1[[#This Row],[Column3]]*Table1[[#This Row],[Column4]])","v":""},null,null,null,null,{"$f":"IF(OR(ISBLANK(Table1[[#This Row],[Column7]]),ISBLANK(Table1[[#This Row],[Column8]])), \"\",Table1[[#This Row],[Column7]]*Table1[[#This Row],[Column8]])","v":""},null,null,null,null,{"$f":"IF(OR(ISBLANK(Table1[[#This Row],[Column12]]),ISBLANK(Table1[[#This Row],[Column13]])), \"\",Table1[[#This Row],[Column12]]*Table1[[#This Row],[Column13]])","v":""},null,null,null,null,{"$f":"IF(OR(ISBLANK(Table1[[#This Row],[Column16]]),ISBLANK(Table1[[#This Row],[Column17]])), \"\",Table1[[#This Row],[Column16]]*Table1[[#This Row],[Column17]])","v":""},null,null,null,null,{"$f":"IF(OR(ISBLANK(Table1[[#This Row],[Column21]]),ISBLANK(Table1[[#This Row],[Column22]])), \"\",Table1[[#This Row],[Column21]]*Table1[[#This Row],[Column22]])","v":""},null,null,null,null,{"$f":"IF(OR(ISBLANK(Table1[[#This Row],[Column25]]),ISBLANK(Table1[[#This Row],[Column26]])), \"\",Table1[[#This Row],[Column25]]*Table1[[#This Row],[Column26]])","v":""},null,null,null,null,{"$f":"IF(OR(ISBLANK(Table1[[#This Row],[Column30]]),ISBLANK(Table1[[#This Row],[Column31]])), \"\",Table1[[#This Row],[Column30]]*Table1[[#This Row],[Column31]])","v":""},null,null,null,null,{"$f":"IF(OR(ISBLANK(Table1[[#This Row],[Column34]]),ISBLANK(Table1[[#This Row],[Column35]])), \"\",Table1[[#This Row],[Column34]]*Table1[[#This Row],[Column35]])","v":""},null,null,null,null,{"$f":"IF(OR(ISBLANK(Table1[[#This Row],[Column39]]),ISBLANK(Table1[[#This Row],[Column40]])), \"\",Table1[[#This Row],[Column39]]*Table1[[#This Row],[Column40]])","v":""},null,null,null,null,{"$f":"IF(OR(ISBLANK(Table1[[#This Row],[Column43]]),ISBLANK(Table1[[#This Row],[Column44]])), \"\",Table1[[#This Row],[Column43]]*Table1[[#This Row],[Column44]])","v":""},null,null,null,null,{"$f":"IF(OR(ISBLANK(Table1[[#This Row],[Column48]]),ISBLANK(Table1[[#This Row],[Column49]])), \"\",Table1[[#This Row],[Column48]]*Table1[[#This Row],[Column49]])","v":""},null,null,null,null,{"$f":"IF(OR(ISBLANK(Table1[[#This Row],[Column52]]),ISBLANK(Table1[[#This Row],[Column53]])), \"\",Table1[[#This Row],[Column52]]*Table1[[#This Row],[Column53]])","v":""},null,null,null,null,{"$f":"IF(OR(ISBLANK(Table1[[#This Row],[Column57]]),ISBLANK(Table1[[#This Row],[Column58]])), \"\",Table1[[#This Row],[Column57]]*Table1[[#This Row],[Column58]])","v":""},null,null,null,null,{"$f":"IF(OR(ISBLANK(Table1[[#This Row],[Column61]]),ISBLANK(Table1[[#This Row],[Column62]])), \"\",Table1[[#This Row],[Column61]]*Table1[[#This Row],[Column62]])","v":""}]
[null,null,null,null,null,null,{"$f":"IF(OR(ISBLANK(Table1[[#This Row],[Column3]]),ISBLANK(Table1[[#This Row],[Column4]])), \"\",Table1[[#This Row],[Column3]]*Table1[[#This Row],[Column4]])","v":""},null,null,null,null,{"$f":"IF(OR(ISBLANK(Table1[[#This Row],[Column7]]),ISBLANK(Table1[[#This Row],[Column8]])), \"\",Table1[[#This Row],[Column7]]*Table1[[#This Row],[Column8]])","v":""},null,null,null,null,{"$f":"IF(OR(ISBLANK(Table1[[#This Row],[Column12]]),ISBLANK(Table1[[#This Row],[Column13]])), \"\",Table1[[#This Row],[Column12]]*Table1[[#This Row],[Column13]])","v":""},null,null,null,null,{"$f":"IF(OR(ISBLANK(Table1[[#This Row],[Column16]]),ISBLANK(Table1[[#This Row],[Column17]])), \"\",Table1[[#This Row],[Column16]]*Table1[[#This Row],[Column17]])","v":""},null,null,null,null,{"$f":"IF(OR(ISBLANK(Table1[[#This Row],[Column21]]),ISBLANK(Table1[[#This Row],[Column22]])), \"\",Table1[[#This Row],[Column21]]*Table1[[#This Row],[Column22]])","v":""},null,null,null,null,{"$f":"IF(OR(ISBLANK(Table1[[#This Row],[Column25]]),ISBLANK(Table1[[#This Row],[Column26]])), \"\",Table1[[#This Row],[Column25]]*Table1[[#This Row],[Column26]])","v":""},null,null,null,null,{"$f":"IF(OR(ISBLANK(Table1[[#This Row],[Column30]]),ISBLANK(Table1[[#This Row],[Column31]])), \"\",Table1[[#This Row],[Column30]]*Table1[[#This Row],[Column31]])","v":""},null,null,null,null,{"$f":"IF(OR(ISBLANK(Table1[[#This Row],[Column34]]),ISBLANK(Table1[[#This Row],[Column35]])), \"\",Table1[[#This Row],[Column34]]*Table1[[#This Row],[Column35]])","v":""},null,null,null,null,{"$f":"IF(OR(ISBLANK(Table1[[#This Row],[Column39]]),ISBLANK(Table1[[#This Row],[Column40]])), \"\",Table1[[#This Row],[Column39]]*Table1[[#This Row],[Column40]])","v":""},null,null,null,null,{"$f":"IF(OR(ISBLANK(Table1[[#This Row],[Column43]]),ISBLANK(Table1[[#This Row],[Column44]])), \"\",Table1[[#This Row],[Column43]]*Table1[[#This Row],[Column44]])","v":""},null,null,null,null,{"$f":"IF(OR(ISBLANK(Table1[[#This Row],[Column48]]),ISBLANK(Table1[[#This Row],[Column49]])), \"\",Table1[[#This Row],[Column48]]*Table1[[#This Row],[Column49]])","v":""},null,null,null,null,{"$f":"IF(OR(ISBLANK(Table1[[#This Row],[Column52]]),ISBLANK(Table1[[#This Row],[Column53]])), \"\",Table1[[#This Row],[Column52]]*Table1[[#This Row],[Column53]])","v":""},null,null,null,null,{"$f":"IF(OR(ISBLANK(Table1[[#This Row],[Column57]]),ISBLANK(Table1[[#This Row],[Column58]])), \"\",Table1[[#This Row],[Column57]]*Table1[[#This Row],[Column58]])","v":""},null,null,null,null,{"$f":"IF(OR(ISBLANK(Table1[[#This Row],[Column61]]),ISBLANK(Table1[[#This Row],[Column62]])), \"\",Table1[[#This Row],[Column61]]*Table1[[#This Row],[Column62]])","v":""}]
[null,null,null,null,null,null,{"$f":"IF(OR(ISBLANK(Table1[[#This Row],[Column3]]),ISBLANK(Table1[[#This Row],[Column4]])), \"\",Table1[[#This Row],[Column3]]*Table1[[#This Row],[Column4]])","v":""},null,null,null,null,{"$f":"IF(OR(ISBLANK(Table1[[#This Row],[Column7]]),ISBLANK(Table1[[#This Row],[Column8]])), \"\",Table1[[#This Row],[Column7]]*Table1[[#This Row],[Column8]])","v":""},null,null,null,null,{"$f":"IF(OR(ISBLANK(Table1[[#This Row],[Column12]]),ISBLANK(Table1[[#This Row],[Column13]])), \"\",Table1[[#This Row],[Column12]]*Table1[[#This Row],[Column13]])","v":""},null,null,null,null,{"$f":"IF(OR(ISBLANK(Table1[[#This Row],[Column16]]),ISBLANK(Table1[[#This Row],[Column17]])), \"\",Table1[[#This Row],[Column16]]*Table1[[#This Row],[Column17]])","v":""},null,null,null,null,{"$f":"IF(OR(ISBLANK(Table1[[#This Row],[Column21]]),ISBLANK(Table1[[#This Row],[Column22]])), \"\",Table1[[#This Row],[Column21]]*Table1[[#This Row],[Column22]])","v":""},null,null,null,null,{"$f":"IF(OR(ISBLANK(Table1[[#This Row],[Column25]]),ISBLANK(Table1[[#This Row],[Column26]])), \"\",Table1[[#This Row],[Column25]]*Table1[[#This Row],[Column26]])","v":""},null,null,null,null,{"$f":"IF(OR(ISBLANK(Table1[[#This Row],[Column30]]),ISBLANK(Table1[[#This Row],[Column31]])), \"\",Table1[[#This Row],[Column30]]*Table1[[#This Row],[Column31]])","v":""},null,null,null,null,{"$f":"IF(OR(ISBLANK(Table1[[#This Row],[Column34]]),ISBLANK(Table1[[#This Row],[Column35]])), \"\",Table1[[#This Row],[Column34]]*Table1[[#This Row],[Column35]])","v":""},null,null,null,null,{"$f":"IF(OR(ISBLANK(Table1[[#This Row],[Column39]]),ISBLANK(Table1[[#This Row],[Column40]])), \"\",Table1[[#This Row],[Column39]]*Table1[[#This Row],[Column40]])","v":""},null,null,null,null,{"$f":"IF(OR(ISBLANK(Table1[[#This Row],[Column43]]),ISBLANK(Table1[[#This Row],[Column44]])), \"\",Table1[[#This Row],[Column43]]*Table1[[#This Row],[Column44]])","v":""},null,null,null,null,{"$f":"IF(OR(ISBLANK(Table1[[#This Row],[Column48]]),ISBLANK(Table1[[#This Row],[Column49]])), \"\",Table1[[#This Row],[Column48]]*Table1[[#This Row],[Column49]])","v":""},null,null,null,null,{"$f":"IF(OR(ISBLANK(Table1[[#This Row],[Column52]]),ISBLANK(Table1[[#This Row],[Column53]])), \"\",Table1[[#This Row],[Column52]]*Table1[[#This Row],[Column53]])","v":""},null,null,null,null,{"$f":"IF(OR(ISBLANK(Table1[[#This Row],[Column57]]),ISBLANK(Table1[[#This Row],[Column58]])), \"\",Table1[[#This Row],[Column57]]*Table1[[#This Row],[Column58]])","v":""},null,null,null,null,{"$f":"IF(OR(ISBLANK(Table1[[#This Row],[Column61]]),ISBLANK(Table1[[#This Row],[Column62]])), \"\",Table1[[#This Row],[Column61]]*Table1[[#This Row],[Column62]])","v":""}]
[null,null,null,null,null,null,{"$f":"IF(OR(ISBLANK(Table1[[#This Row],[Column3]]),ISBLANK(Table1[[#This Row],[Column4]])), \"\",Table1[[#This Row],[Column3]]*Table1[[#This Row],[Column4]])","v":""},null,null,null,null,{"$f":"IF(OR(ISBLANK(Table1[[#This Row],[Column7]]),ISBLANK(Table1[[#This Row],[Column8]])), \"\",Table1[[#This Row],[Column7]]*Table1[[#This Row],[Column8]])","v":""},null,null,null,null,{"$f":"IF(OR(ISBLANK(Table1[[#This Row],[Column12]]),ISBLANK(Table1[[#This Row],[Column13]])), \"\",Table1[[#This Row],[Column12]]*Table1[[#This Row],[Column13]])","v":""},null,null,null,null,{"$f":"IF(OR(ISBLANK(Table1[[#This Row],[Column16]]),ISBLANK(Table1[[#This Row],[Column17]])), \"\",Table1[[#This Row],[Column16]]*Table1[[#This Row],[Column17]])","v":""},null,null,null,null,{"$f":"IF(OR(ISBLANK(Table1[[#This Row],[Column21]]),ISBLANK(Table1[[#This Row],[Column22]])), \"\",Table1[[#This Row],[Column21]]*Table1[[#This Row],[Column22]])","v":""},null,null,null,null,{"$f":"IF(OR(ISBLANK(Table1[[#This Row],[Column25]]),ISBLANK(Table1[[#This Row],[Column26]])), \"\",Table1[[#This Row],[Column25]]*Table1[[#This Row],[Column26]])","v":""},null,null,null,null,{"$f":"IF(OR(ISBLANK(Table1[[#This Row],[Column30]]),ISBLANK(Table1[[#This Row],[Column31]])), \"\",Table1[[#This Row],[Column30]]*Table1[[#This Row],[Column31]])","v":""},null,null,null,null,{"$f":"IF(OR(ISBLANK(Table1[[#This Row],[Column34]]),ISBLANK(Table1[[#This Row],[Column35]])), \"\",Table1[[#This Row],[Column34]]*Table1[[#This Row],[Column35]])","v":""},null,null,null,null,{"$f":"IF(OR(ISBLANK(Table1[[#This Row],[Column39]]),ISBLANK(Table1[[#This Row],[Column40]])), \"\",Table1[[#This Row],[Column39]]*Table1[[#This Row],[Column40]])","v":""},null,null,null,null,{"$f":"IF(OR(ISBLANK(Table1[[#This Row],[Column43]]),ISBLANK(Table1[[#This Row],[Column44]])), \"\",Table1[[#This Row],[Column43]]*Table1[[#This Row],[Column44]])","v":""},null,null,null,null,{"$f":"IF(OR(ISBLANK(Table1[[#This Row],[Column48]]),ISBLANK(Table1[[#This Row],[Column49]])), \"\",Table1[[#This Row],[Column48]]*Table1[[#This Row],[Column49]])","v":""},null,null,null,null,{"$f":"IF(OR(ISBLANK(Table1[[#This Row],[Column52]]),ISBLANK(Table1[[#This Row],[Column53]])), \"\",Table1[[#This Row],[Column52]]*Table1[[#This Row],[Column53]])","v":""},null,null,null,null,{"$f":"IF(OR(ISBLANK(Table1[[#This Row],[Column57]]),ISBLANK(Table1[[#This Row],[Column58]])), \"\",Table1[[#This Row],[Column57]]*Table1[[#This Row],[Column58]])","v":""},null,null,null,null,{"$f":"IF(OR(ISBLANK(Table1[[#This Row],[Column61]]),ISBLANK(Table1[[#This Row],[Column62]])), \"\",Table1[[#This Row],[Column61]]*Table1[[#This Row],[Column62]])","v":""}]
[null,null,null,null,null,null,{"$f":"IF(OR(ISBLANK(Table1[[#This Row],[Column3]]),ISBLANK(Table1[[#This Row],[Column4]])), \"\",Table1[[#This Row],[Column3]]*Table1[[#This Row],[Column4]])","v":""},null,null,null,null,{"$f":"IF(OR(ISBLANK(Table1[[#This Row],[Column7]]),ISBLANK(Table1[[#This Row],[Column8]])), \"\",Table1[[#This Row],[Column7]]*Table1[[#This Row],[Column8]])","v":""},null,null,null,null,{"$f":"IF(OR(ISBLANK(Table1[[#This Row],[Column12]]),ISBLANK(Table1[[#This Row],[Column13]])), \"\",Table1[[#This Row],[Column12]]*Table1[[#This Row],[Column13]])","v":""},null,null,null,null,{"$f":"IF(OR(ISBLANK(Table1[[#This Row],[Column16]]),ISBLANK(Table1[[#This Row],[Column17]])), \"\",Table1[[#This Row],[Column16]]*Table1[[#This Row],[Column17]])","v":""},null,null,null,null,{"$f":"IF(OR(ISBLANK(Table1[[#This Row],[Column21]]),ISBLANK(Table1[[#This Row],[Column22]])), \"\",Table1[[#This Row],[Column21]]*Table1[[#This Row],[Column22]])","v":""},null,null,null,null,{"$f":"IF(OR(ISBLANK(Table1[[#This Row],[Column25]]),ISBLANK(Table1[[#This Row],[Column26]])), \"\",Table1[[#This Row],[Column25]]*Table1[[#This Row],[Column26]])","v":""},null,null,null,null,{"$f":"IF(OR(ISBLANK(Table1[[#This Row],[Column30]]),ISBLANK(Table1[[#This Row],[Column31]])), \"\",Table1[[#This Row],[Column30]]*Table1[[#This Row],[Column31]])","v":""},null,null,null,null,{"$f":"IF(OR(ISBLANK(Table1[[#This Row],[Column34]]),ISBLANK(Table1[[#This Row],[Column35]])), \"\",Table1[[#This Row],[Column34]]*Table1[[#This Row],[Column35]])","v":""},null,null,null,null,{"$f":"IF(OR(ISBLANK(Table1[[#This Row],[Column39]]),ISBLANK(Table1[[#This Row],[Column40]])), \"\",Table1[[#This Row],[Column39]]*Table1[[#This Row],[Column40]])","v":""},null,null,null,null,{"$f":"IF(OR(ISBLANK(Table1[[#This Row],[Column43]]),ISBLANK(Table1[[#This Row],[Column44]])), \"\",Table1[[#This Row],[Column43]]*Table1[[#This Row],[Column44]])","v":""},null,null,null,null,{"$f":"IF(OR(ISBLANK(Table1[[#This Row],[Column48]]),ISBLANK(Table1[[#This Row],[Column49]])), \"\",Table1[[#This Row],[Column48]]*Table1[[#This Row],[Column49]])","v":""},null,null,null,null,{"$f":"IF(OR(ISBLANK(Table1[[#This Row],[Column52]]),ISBLANK(Table1[[#This Row],[Column53]])), \"\",Table1[[#This Row],[Column52]]*Table1[[#This Row],[Column53]])","v":""},null,null,null,null,{"$f":"IF(OR(ISBLANK(Table1[[#This Row],[Column57]]),ISBLANK(Table1[[#This Row],[Column58]])), \"\",Table1[[#This Row],[Column57]]*Table1[[#This Row],[Column58]])","v":""},null,null,null,null,{"$f":"IF(OR(ISBLANK(Table1[[#This Row],[Column61]]),ISBLANK(Table1[[#This Row],[Column62]])), \"\",Table1[[#This Row],[Column61]]*Table1[[#This Row],[Column62]])","v":""}]
[null,null,null,null,null,null,{"$f":"IF(OR(ISBLANK(Table1[[#This Row],[Column3]]),ISBLANK(Table1[[#This Row],[Column4]])), \"\",Table1[[#This Row],[Column3]]*Table1[[#This Row],[Column4]])","v":""},null,null,null,null,{"$f":"IF(OR(ISBLANK(Table1[[#This Row],[Column7]]),ISBLANK(Table1[[#This Row],[Column8]])), \"\",Table1[[#This Row],[Column7]]*Table1[[#This Row],[Column8]])","v":""},null,null,null,null,{"$f":"IF(OR(ISBLANK(Table1[[#This Row],[Column12]]),ISBLANK(Table1[[#This Row],[Column13]])), \"\",Table1[[#This Row],[Column12]]*Table1[[#This Row],[Column13]])","v":""},null,null,null,null,{"$f":"IF(OR(ISBLANK(Table1[[#This Row],[Column16]]),ISBLANK(Table1[[#This Row],[Column17]])), \"\",Table1[[#This Row],[Column16]]*Table1[[#This Row],[Column17]])","v":""},null,null,null,null,{"$f":"IF(OR(ISBLANK(Table1[[#This Row],[Column21]]),ISBLANK(Table1[[#This Row],[Column22]])), \"\",Table1[[#This Row],[Column21]]*Table1[[#This Row],[Column22]])","v":""},null,null,null,null,{"$f":"IF(OR(ISBLANK(Table1[[#This Row],[Column25]]),ISBLANK(Table1[[#This Row],[Column26]])), \"\",Table1[[#This Row],[Column25]]*Table1[[#This Row],[Column26]])","v":""},null,null,null,null,{"$f":"IF(OR(ISBLANK(Table1[[#This Row],[Column30]]),ISBLANK(Table1[[#This Row],[Column31]])), \"\",Table1[[#This Row],[Column30]]*Table1[[#This Row],[Column31]])","v":""},null,null,null,null,{"$f":"IF(OR(ISBLANK(Table1[[#This Row],[Column34]]),ISBLANK(Table1[[#This Row],[Column35]])), \"\",Table1[[#This Row],[Column34]]*Table1[[#This Row],[Column35]])","v":""},null,null,null,null,{"$f":"IF(OR(ISBLANK(Table1[[#This Row],[Column39]]),ISBLANK(Table1[[#This Row],[Column40]])), \"\",Table1[[#This Row],[Column39]]*Table1[[#This Row],[Column40]])","v":""},null,null,null,null,{"$f":"IF(OR(ISBLANK(Table1[[#This Row],[Column43]]),ISBLANK(Table1[[#This Row],[Column44]])), \"\",Table1[[#This Row],[Column43]]*Table1[[#This Row],[Column44]])","v":""},null,null,null,null,{"$f":"IF(OR(ISBLANK(Table1[[#This Row],[Column48]]),ISBLANK(Table1[[#This Row],[Column49]])), \"\",Table1[[#This Row],[Column48]]*Table1[[#This Row],[Column49]])","v":""},null,null,null,null,{"$f":"IF(OR(ISBLANK(Table1[[#This Row],[Column52]]),ISBLANK(Table1[[#This Row],[Column53]])), \"\",Table1[[#This Row],[Column52]]*Table1[[#This Row],[Column53]])","v":""},null,null,null,null,{"$f":"IF(OR(ISBLANK(Table1[[#This Row],[Column57]]),ISBLANK(Table1[[#This Row],[Column58]])), \"\",Table1[[#This Row],[Column57]]*Table1[[#This Row],[Column58]])","v":""},null,null,null,null,{"$f":"IF(OR(ISBLANK(Table1[[#This Row],[Column61]]),ISBLANK(Table1[[#This Row],[Column62]])), \"\",Table1[[#This Row],[Column61]]*Table1[[#This Row],[Column62]])","v":""}]
[null,null,null,null,null,null,{"$f":"IF(OR(ISBLANK(Table1[[#This Row],[Column3]]),ISBLANK(Table1[[#This Row],[Column4]])), \"\",Table1[[#This Row],[Column3]]*Table1[[#This Row],[Column4]])","v":""},null,null,null,null,{"$f":"IF(OR(ISBLANK(Table1[[#This Row],[Column7]]),ISBLANK(Table1[[#This Row],[Column8]])), \"\",Table1[[#This Row],[Column7]]*Table1[[#This Row],[Column8]])","v":""},null,null,null,null,{"$f":"IF(OR(ISBLANK(Table1[[#This Row],[Column12]]),ISBLANK(Table1[[#This Row],[Column13]])), \"\",Table1[[#This Row],[Column12]]*Table1[[#This Row],[Column13]])","v":""},null,null,null,null,{"$f":"IF(OR(ISBLANK(Table1[[#This Row],[Column16]]),ISBLANK(Table1[[#This Row],[Column17]])), \"\",Table1[[#This Row],[Column16]]*Table1[[#This Row],[Column17]])","v":""},null,null,null,null,{"$f":"IF(OR(ISBLANK(Table1[[#This Row],[Column21]]),ISBLANK(Table1[[#This Row],[Column22]])), \"\",Table1[[#This Row],[Column21]]*Table1[[#This Row],[Column22]])","v":""},null,null,null,null,{"$f":"IF(OR(ISBLANK(Table1[[#This Row],[Column25]]),ISBLANK(Table1[[#This Row],[Column26]])), \"\",Table1[[#This Row],[Column25]]*Table1[[#This Row],[Column26]])","v":""},null,null,null,null,{"$f":"IF(OR(ISBLANK(Table1[[#This Row],[Column30]]),ISBLANK(Table1[[#This Row],[Column31]])), \"\",Table1[[#This Row],[Column30]]*Table1[[#This Row],[Column31]])","v":""},null,null,null,null,{"$f":"IF(OR(ISBLANK(Table1[[#This Row],[Column34]]),ISBLANK(Table1[[#This Row],[Column35]])), \"\",Table1[[#This Row],[Column34]]*Table1[[#This Row],[Column35]])","v":""},null,null,null,null,{"$f":"IF(OR(ISBLANK(Table1[[#This Row],[Column39]]),ISBLANK(Table1[[#This Row],[Column40]])), \"\",Table1[[#This Row],[Column39]]*Table1[[#This Row],[Column40]])","v":""},null,null,null,null,{"$f":"IF(OR(ISBLANK(Table1[[#This Row],[Column43]]),ISBLANK(Table1[[#This Row],[Column44]])), \"\",Table1[[#This Row],[Column43]]*Table1[[#This Row],[Column44]])","v":""},null,null,null,null,{"$f":"IF(OR(ISBLANK(Table1[[#This Row],[Column48]]),ISBLANK(Table1[[#This Row],[Column49]])), \"\",Table1[[#This Row],[Column48]]*Table1[[#This Row],[Column49]])","v":""},null,null,null,null,{"$f":"IF(OR(ISBLANK(Table1[[#This Row],[Column52]]),ISBLANK(Table1[[#This Row],[Column53]])), \"\",Table1[[#This Row],[Column52]]*Table1[[#This Row],[Column53]])","v":""},null,null,null,null,{"$f":"IF(OR(ISBLANK(Table1[[#This Row],[Column57]]),ISBLANK(Table1[[#This Row],[Column58]])), \"\",Table1[[#This Row],[Column57]]*Table1[[#This Row],[Column58]])","v":""},null,null,null,null,{"$f":"IF(OR(ISBLANK(Table1[[#This Row],[Column61]]),ISBLANK(Table1[[#This Row],[Column62]])), \"\",Table1[[#This Row],[Column61]]*Table1[[#This Row],[Column62]])","v":""}]
[null,null,null,null,null,null,{"$f":"IF(OR(ISBLANK(Table1[[#This Row],[Column3]]),ISBLANK(Table1[[#This Row],[Column4]])), \"\",Table1[[#This Row],[Column3]]*Table1[[#This Row],[Column4]])","v":""},null,null,null,null,{"$f":"IF(OR(ISBLANK(Table1[[#This Row],[Column7]]),ISBLANK(Table1[[#This Row],[Column8]])), \"\",Table1[[#This Row],[Column7]]*Table1[[#This Row],[Column8]])","v":""},null,null,null,null,{"$f":"IF(OR(ISBLANK(Table1[[#This Row],[Column12]]),ISBLANK(Table1[[#This Row],[Column13]])), \"\",Table1[[#This Row],[Column12]]*Table1[[#This Row],[Column13]])","v":""},null,null,null,null,{"$f":"IF(OR(ISBLANK(Table1[[#This Row],[Column16]]),ISBLANK(Table1[[#This Row],[Column17]])), \"\",Table1[[#This Row],[Column16]]*Table1[[#This Row],[Column17]])","v":""},null,null,null,null,{"$f":"IF(OR(ISBLANK(Table1[[#This Row],[Column21]]),ISBLANK(Table1[[#This Row],[Column22]])), \"\",Table1[[#This Row],[Column21]]*Table1[[#This Row],[Column22]])","v":""},null,null,null,null,{"$f":"IF(OR(ISBLANK(Table1[[#This Row],[Column25]]),ISBLANK(Table1[[#This Row],[Column26]])), \"\",Table1[[#This Row],[Column25]]*Table1[[#This Row],[Column26]])","v":""},null,null,null,null,{"$f":"IF(OR(ISBLANK(Table1[[#This Row],[Column30]]),ISBLANK(Table1[[#This Row],[Column31]])), \"\",Table1[[#This Row],[Column30]]*Table1[[#This Row],[Column31]])","v":""},null,null,null,null,{"$f":"IF(OR(ISBLANK(Table1[[#This Row],[Column34]]),ISBLANK(Table1[[#This Row],[Column35]])), \"\",Table1[[#This Row],[Column34]]*Table1[[#This Row],[Column35]])","v":""},null,null,null,null,{"$f":"IF(OR(ISBLANK(Table1[[#This Row],[Column39]]),ISBLANK(Table1[[#This Row],[Column40]])), \"\",Table1[[#This Row],[Column39]]*Table1[[#This Row],[Column40]])","v":""},null,null,null,null,{"$f":"IF(OR(ISBLANK(Table1[[#This Row],[Column43]]),ISBLANK(Table1[[#This Row],[Column44]])), \"\",Table1[[#This Row],[Column43]]*Table1[[#This Row],[Column44]])","v":""},null,null,null,null,{"$f":"IF(OR(ISBLANK(Table1[[#This Row],[Column48]]),ISBLANK(Table1[[#This Row],[Column49]])), \"\",Table1[[#This Row],[Column48]]*Table1[[#This Row],[Column49]])","v":""},null,null,null,null,{"$f":"IF(OR(ISBLANK(Table1[[#This Row],[Column52]]),ISBLANK(Table1[[#This Row],[Column53]])), \"\",Table1[[#This Row],[Column52]]*Table1[[#This Row],[Column53]])","v":""},null,null,null,null,{"$f":"IF(OR(ISBLANK(Table1[[#This Row],[Column57]]),ISBLANK(Table1[[#This Row],[Column58]])), \"\",Table1[[#This Row],[Column57]]*Table1[[#This Row],[Column58]])","v":""},null,null,null,null,{"$f":"IF(OR(ISBLANK(Table1[[#This Row],[Column61]]),ISBLANK(Table1[[#This Row],[Column62]])), \"\",Table1[[#This Row],[Column61]]*Table1[[#This Row],[Column62]])","v":""}]
[null,null,null,null,null,null,{"$f":"IF(OR(ISBLANK(Table1[[#This Row],[Column3]]),ISBLANK(Table1[[#This Row],[Column4]])), \"\",Table1[[#This Row],[Column3]]*Table1[[#This Row],[Column4]])","v":""},null,null,null,null,{"$f":"IF(OR(ISBLANK(Table1[[#This Row],[Column7]]),ISBLANK(Table1[[#This Row],[Column8]])), \"\",Table1[[#This Row],[Column7]]*Table1[[#This Row],[Column8]])","v":""},null,null,null,null,{"$f":"IF(OR(ISBLANK(Table1[[#This Row],[Column12]]),ISBLANK(Table1[[#This Row],[Column13]])), \"\",Table1[[#This Row],[Column12]]*Table1[[#This Row],[Column13]])","v":""},null,null,null,null,{"$f":"IF(OR(ISBLANK(Table1[[#This Row],[Column16]]),ISBLANK(Table1[[#This Row],[Column17]])), \"\",Table1[[#This Row],[Column16]]*Table1[[#This Row],[Column17]])","v":""},null,null,null,null,{"$f":"IF(OR(ISBLANK(Table1[[#This Row],[Column21]]),ISBLANK(Table1[[#This Row],[Column22]])), \"\",Table1[[#This Row],[Column21]]*Table1[[#This Row],[Column22]])","v":""},null,null,null,null,{"$f":"IF(OR(ISBLANK(Table1[[#This Row],[Column25]]),ISBLANK(Table1[[#This Row],[Column26]])), \"\",Table1[[#This Row],[Column25]]*Table1[[#This Row],[Column26]])","v":""},null,null,null,null,{"$f":"IF(OR(ISBLANK(Table1[[#This Row],[Column30]]),ISBLANK(Table1[[#This Row],[Column31]])), \"\",Table1[[#This Row],[Column30]]*Table1[[#This Row],[Column31]])","v":""},null,null,null,null,{"$f":"IF(OR(ISBLANK(Table1[[#This Row],[Column34]]),ISBLANK(Table1[[#This Row],[Column35]])), \"\",Table1[[#This Row],[Column34]]*Table1[[#This Row],[Column35]])","v":""},null,null,null,null,{"$f":"IF(OR(ISBLANK(Table1[[#This Row],[Column39]]),ISBLANK(Table1[[#This Row],[Column40]])), \"\",Table1[[#This Row],[Column39]]*Table1[[#This Row],[Column40]])","v":""},null,null,null,null,{"$f":"IF(OR(ISBLANK(Table1[[#This Row],[Column43]]),ISBLANK(Table1[[#This Row],[Column44]])), \"\",Table1[[#This Row],[Column43]]*Table1[[#This Row],[Column44]])","v":""},null,null,null,null,{"$f":"IF(OR(ISBLANK(Table1[[#This Row],[Column48]]),ISBLANK(Table1[[#This Row],[Column49]])), \"\",Table1[[#This Row],[Column48]]*Table1[[#This Row],[Column49]])","v":""},null,null,null,null,{"$f":"IF(OR(ISBLANK(Table1[[#This Row],[Column52]]),ISBLANK(Table1[[#This Row],[Column53]])), \"\",Table1[[#This Row],[Column52]]*Table1[[#This Row],[Column53]])","v":""},null,null,null,null,{"$f":"IF(OR(ISBLANK(Table1[[#This Row],[Column57]]),ISBLANK(Table1[[#This Row],[Column58]])), \"\",Table1[[#This Row],[Column57]]*Table1[[#This Row],[Column58]])","v":""},null,null,null,null,{"$f":"IF(OR(ISBLANK(Table1[[#This Row],[Column61]]),ISBLANK(Table1[[#This Row],[Column62]])), \"\",Table1[[#This Row],[Column61]]*Table1[[#This Row],[Column62]])","v":""}]
[null,null,null,null,null,null,{"$f":"IF(OR(ISBLANK(Table1[[#This Row],[Column3]]),ISBLANK(Table1[[#This Row],[Column4]])), \"\",Table1[[#This Row],[Column3]]*Table1[[#This Row],[Column4]])","v":""},null,null,null,null,{"$f":"IF(OR(ISBLANK(Table1[[#This Row],[Column7]]),ISBLANK(Table1[[#This Row],[Column8]])), \"\",Table1[[#This Row],[Column7]]*Table1[[#This Row],[Column8]])","v":""},null,null,null,null,{"$f":"IF(OR(ISBLANK(Table1[[#This Row],[Column12]]),ISBLANK(Table1[[#This Row],[Column13]])), \"\",Table1[[#This Row],[Column12]]*Table1[[#This Row],[Column13]])","v":""},null,null,null,null,{"$f":"IF(OR(ISBLANK(Table1[[#This Row],[Column16]]),ISBLANK(Table1[[#This Row],[Column17]])), \"\",Table1[[#This Row],[Column16]]*Table1[[#This Row],[Column17]])","v":""},null,null,null,null,{"$f":"IF(OR(ISBLANK(Table1[[#This Row],[Column21]]),ISBLANK(Table1[[#This Row],[Column22]])), \"\",Table1[[#This Row],[Column21]]*Table1[[#This Row],[Column22]])","v":""},null,null,null,null,{"$f":"IF(OR(ISBLANK(Table1[[#This Row],[Column25]]),ISBLANK(Table1[[#This Row],[Column26]])), \"\",Table1[[#This Row],[Column25]]*Table1[[#This Row],[Column26]])","v":""},null,null,null,null,{"$f":"IF(OR(ISBLANK(Table1[[#This Row],[Column30]]),ISBLANK(Table1[[#This Row],[Column31]])), \"\",Table1[[#This Row],[Column30]]*Table1[[#This Row],[Column31]])","v":""},null,null,null,null,{"$f":"IF(OR(ISBLANK(Table1[[#This Row],[Column34]]),ISBLANK(Table1[[#This Row],[Column35]])), \"\",Table1[[#This Row],[Column34]]*Table1[[#This Row],[Column35]])","v":""},null,null,null,null,{"$f":"IF(OR(ISBLANK(Table1[[#This Row],[Column39]]),ISBLANK(Table1[[#This Row],[Column40]])), \"\",Table1[[#This Row],[Column39]]*Table1[[#This Row],[Column40]])","v":""},null,null,null,null,{"$f":"IF(OR(ISBLANK(Table1[[#This Row],[Column43]]),ISBLANK(Table1[[#This Row],[Column44]])), \"\",Table1[[#This Row],[Column43]]*Table1[[#This Row],[Column44]])","v":""},null,null,null,null,{"$f":"IF(OR(ISBLANK(Table1[[#This Row],[Column48]]),ISBLANK(Table1[[#This Row],[Column49]])), \"\",Table1[[#This Row],[Column48]]*Table1[[#This Row],[Column49]])","v":""},null,null,null,null,{"$f":"IF(OR(ISBLANK(Table1[[#This Row],[Column52]]),ISBLANK(Table1[[#This Row],[Column53]])), \"\",Table1[[#This Row],[Column52]]*Table1[[#This Row],[Column53]])","v":""},null,null,null,null,{"$f":"IF(OR(ISBLANK(Table1[[#This Row],[Column57]]),ISBLANK(Table1[[#This Row],[Column58]])), \"\",Table1[[#This Row],[Column57]]*Table1[[#This Row],[Column58]])","v":""},null,null,null,null,{"$f":"IF(OR(ISBLANK(Table1[[#This Row],[Column61]]),ISBLANK(Table1[[#This Row],[Column62]])), \"\",Table1[[#This Row],[Column61]]*Table1[[#This Row],[Column62]])","v":""}]
[null,null,null,null,null,null,{"$f":"IF(OR(ISBLANK(Table1[[#This Row],[Column3]]),ISBLANK(Table1[[#This Row],[Column4]])), \"\",Table1[[#This Row],[Column3]]*Table1[[#This Row],[Column4]])","v":""},null,null,null,null,{"$f":"IF(OR(ISBLANK(Table1[[#This Row],[Column7]]),ISBLANK(Table1[[#This Row],[Column8]])), \"\",Table1[[#This Row],[Column7]]*Table1[[#This Row],[Column8]])","v":""},null,null,null,null,{"$f":"IF(OR(ISBLANK(Table1[[#This Row],[Column12]]),ISBLANK(Table1[[#This Row],[Column13]])), \"\",Table1[[#This Row],[Column12]]*Table1[[#This Row],[Column13]])","v":""},null,null,null,null,{"$f":"IF(OR(ISBLANK(Table1[[#This Row],[Column16]]),ISBLANK(Table1[[#This Row],[Column17]])), \"\",Table1[[#This Row],[Column16]]*Table1[[#This Row],[Column17]])","v":""},null,null,null,null,{"$f":"IF(OR(ISBLANK(Table1[[#This Row],[Column21]]),ISBLANK(Table1[[#This Row],[Column22]])), \"\",Table1[[#This Row],[Column21]]*Table1[[#This Row],[Column22]])","v":""},null,null,null,null,{"$f":"IF(OR(ISBLANK(Table1[[#This Row],[Column25]]),ISBLANK(Table1[[#This Row],[Column26]])), \"\",Table1[[#This Row],[Column25]]*Table1[[#This Row],[Column26]])","v":""},null,null,null,null,{"$f":"IF(OR(ISBLANK(Table1[[#This Row],[Column30]]),ISBLANK(Table1[[#This Row],[Column31]])), \"\",Table1[[#This Row],[Column30]]*Table1[[#This Row],[Column31]])","v":""},null,null,null,null,{"$f":"IF(OR(ISBLANK(Table1[[#This Row],[Column34]]),ISBLANK(Table1[[#This Row],[Column35]])), \"\",Table1[[#This Row],[Column34]]*Table1[[#This Row],[Column35]])","v":""},null,null,null,null,{"$f":"IF(OR(ISBLANK(Table1[[#This Row],[Column39]]),ISBLANK(Table1[[#This Row],[Column40]])), \"\",Table1[[#This Row],[Column39]]*Table1[[#This Row],[Column40]])","v":""},null,null,null,null,{"$f":"IF(OR(ISBLANK(Table1[[#This Row],[Column43]]),ISBLANK(Table1[[#This Row],[Column44]])), \"\",Table1[[#This Row],[Column43]]*Table1[[#This Row],[Column44]])","v":""},null,null,null,null,{"$f":"IF(OR(ISBLANK(Table1[[#This Row],[Column48]]),ISBLANK(Table1[[#This Row],[Column49]])), \"\",Table1[[#This Row],[Column48]]*Table1[[#This Row],[Column49]])","v":""},null,null,null,null,{"$f":"IF(OR(ISBLANK(Table1[[#This Row],[Column52]]),ISBLANK(Table1[[#This Row],[Column53]])), \"\",Table1[[#This Row],[Column52]]*Table1[[#This Row],[Column53]])","v":""},null,null,null,null,{"$f":"IF(OR(ISBLANK(Table1[[#This Row],[Column57]]),ISBLANK(Table1[[#This Row],[Column58]])), \"\",Table1[[#This Row],[Column57]]*Table1[[#This Row],[Column58]])","v":""},null,null,null,null,{"$f":"IF(OR(ISBLANK(Table1[[#This Row],[Column61]]),ISBLANK(Table1[[#This Row],[Column62]])), \"\",Table1[[#This Row],[Column61]]*Table1[[#This Row],[Column62]])","v":""}]
[null,null,null,null,null,null,{"$f":"IF(OR(ISBLANK(Table1[[#This Row],[Column3]]),ISBLANK(Table1[[#This Row],[Column4]])), \"\",Table1[[#This Row],[Column3]]*Table1[[#This Row],[Column4]])","v":""},null,null,null,null,{"$f":"IF(OR(ISBLANK(Table1[[#This Row],[Column7]]),ISBLANK(Table1[[#This Row],[Column8]])), \"\",Table1[[#This Row],[Column7]]*Table1[[#This Row],[Column8]])","v":""},null,null,null,null,{"$f":"IF(OR(ISBLANK(Table1[[#This Row],[Column12]]),ISBLANK(Table1[[#This Row],[Column13]])), \"\",Table1[[#This Row],[Column12]]*Table1[[#This Row],[Column13]])","v":""},null,null,null,null,{"$f":"IF(OR(ISBLANK(Table1[[#This Row],[Column16]]),ISBLANK(Table1[[#This Row],[Column17]])), \"\",Table1[[#This Row],[Column16]]*Table1[[#This Row],[Column17]])","v":""},null,null,null,null,{"$f":"IF(OR(ISBLANK(Table1[[#This Row],[Column21]]),ISBLANK(Table1[[#This Row],[Column22]])), \"\",Table1[[#This Row],[Column21]]*Table1[[#This Row],[Column22]])","v":""},null,null,null,null,{"$f":"IF(OR(ISBLANK(Table1[[#This Row],[Column25]]),ISBLANK(Table1[[#This Row],[Column26]])), \"\",Table1[[#This Row],[Column25]]*Table1[[#This Row],[Column26]])","v":""},null,null,null,null,{"$f":"IF(OR(ISBLANK(Table1[[#This Row],[Column30]]),ISBLANK(Table1[[#This Row],[Column31]])), \"\",Table1[[#This Row],[Column30]]*Table1[[#This Row],[Column31]])","v":""},null,null,null,null,{"$f":"IF(OR(ISBLANK(Table1[[#This Row],[Column34]]),ISBLANK(Table1[[#This Row],[Column35]])), \"\",Table1[[#This Row],[Column34]]*Table1[[#This Row],[Column35]])","v":""},null,null,null,null,{"$f":"IF(OR(ISBLANK(Table1[[#This Row],[Column39]]),ISBLANK(Table1[[#This Row],[Column40]])), \"\",Table1[[#This Row],[Column39]]*Table1[[#This Row],[Column40]])","v":""},null,null,null,null,{"$f":"IF(OR(ISBLANK(Table1[[#This Row],[Column43]]),ISBLANK(Table1[[#This Row],[Column44]])), \"\",Table1[[#This Row],[Column43]]*Table1[[#This Row],[Column44]])","v":""},null,null,null,null,{"$f":"IF(OR(ISBLANK(Table1[[#This Row],[Column48]]),ISBLANK(Table1[[#This Row],[Column49]])), \"\",Table1[[#This Row],[Column48]]*Table1[[#This Row],[Column49]])","v":""},null,null,null,null,{"$f":"IF(OR(ISBLANK(Table1[[#This Row],[Column52]]),ISBLANK(Table1[[#This Row],[Column53]])), \"\",Table1[[#This Row],[Column52]]*Table1[[#This Row],[Column53]])","v":""},null,null,null,null,{"$f":"IF(OR(ISBLANK(Table1[[#This Row],[Column57]]),ISBLANK(Table1[[#This Row],[Column58]])), \"\",Table1[[#This Row],[Column57]]*Table1[[#This Row],[Column58]])","v":""},null,null,null,null,{"$f":"IF(OR(ISBLANK(Table1[[#This Row],[Column61]]),ISBLANK(Table1[[#This Row],[Column62]])), \"\",Table1[[#This Row],[Column61]]*Table1[[#This Row],[Column62]])","v":""}]
[null,null,null,null,null,null,{"$f":"IF(OR(ISBLANK(Table1[[#This Row],[Column3]]),ISBLANK(Table1[[#This Row],[Column4]])), \"\",Table1[[#This Row],[Column3]]*Table1[[#This Row],[Column4]])","v":""},null,null,null,null,{"$f":"IF(OR(ISBLANK(Table1[[#This Row],[Column7]]),ISBLANK(Table1[[#This Row],[Column8]])), \"\",Table1[[#This Row],[Column7]]*Table1[[#This Row],[Column8]])","v":""},null,null,null,null,{"$f":"IF(OR(ISBLANK(Table1[[#This Row],[Column12]]),ISBLANK(Table1[[#This Row],[Column13]])), \"\",Table1[[#This Row],[Column12]]*Table1[[#This Row],[Column13]])","v":""},null,null,null,null,{"$f":"IF(OR(ISBLANK(Table1[[#This Row],[Column16]]),ISBLANK(Table1[[#This Row],[Column17]])), \"\",Table1[[#This Row],[Column16]]*Table1[[#This Row],[Column17]])","v":""},null,null,null,null,{"$f":"IF(OR(ISBLANK(Table1[[#This Row],[Column21]]),ISBLANK(Table1[[#This Row],[Column22]])), \"\",Table1[[#This Row],[Column21]]*Table1[[#This Row],[Column22]])","v":""},null,null,null,null,{"$f":"IF(OR(ISBLANK(Table1[[#This Row],[Column25]]),ISBLANK(Table1[[#This Row],[Column26]])), \"\",Table1[[#This Row],[Column25]]*Table1[[#This Row],[Column26]])","v":""},null,null,null,null,{"$f":"IF(OR(ISBLANK(Table1[[#This Row],[Column30]]),ISBLANK(Table1[[#This Row],[Column31]])), \"\",Table1[[#This Row],[Column30]]*Table1[[#This Row],[Column31]])","v":""},null,null,null,null,{"$f":"IF(OR(ISBLANK(Table1[[#This Row],[Column34]]),ISBLANK(Table1[[#This Row],[Column35]])), \"\",Table1[[#This Row],[Column34]]*Table1[[#This Row],[Column35]])","v":""},null,null,null,null,{"$f":"IF(OR(ISBLANK(Table1[[#This Row],[Column39]]),ISBLANK(Table1[[#This Row],[Column40]])), \"\",Table1[[#This Row],[Column39]]*Table1[[#This Row],[Column40]])","v":""},null,null,null,null,{"$f":"IF(OR(ISBLANK(Table1[[#This Row],[Column43]]),ISBLANK(Table1[[#This Row],[Column44]])), \"\",Table1[[#This Row],[Column43]]*Table1[[#This Row],[Column44]])","v":""},null,null,null,null,{"$f":"IF(OR(ISBLANK(Table1[[#This Row],[Column48]]),ISBLANK(Table1[[#This Row],[Column49]])), \"\",Table1[[#This Row],[Column48]]*Table1[[#This Row],[Column49]])","v":""},null,null,null,null,{"$f":"IF(OR(ISBLANK(Table1[[#This Row],[Column52]]),ISBLANK(Table1[[#This Row],[Column53]])), \"\",Table1[[#This Row],[Column52]]*Table1[[#This Row],[Column53]])","v":""},null,null,null,null,{"$f":"IF(OR(ISBLANK(Table1[[#This Row],[Column57]]),ISBLANK(Table1[[#This Row],[Column58]])), \"\",Table1[[#This Row],[Column57]]*Table1[[#This Row],[Column58]])","v":""},null,null,null,null,{"$f":"IF(OR(ISBLANK(Table1[[#This Row],[Column61]]),ISBLANK(Table1[[#This Row],[Column62]])), \"\",Table1[[#This Row],[Column61]]*Table1[[#This Row],[Column62]])","v":""}]
[null,null,null,null,null,null,{"$f":"IF(OR(ISBLANK(Table1[[#This Row],[Column3]]),ISBLANK(Table1[[#This Row],[Column4]])), \"\",Table1[[#This Row],[Column3]]*Table1[[#This Row],[Column4]])","v":""},null,null,null,null,{"$f":"IF(OR(ISBLANK(Table1[[#This Row],[Column7]]),ISBLANK(Table1[[#This Row],[Column8]])), \"\",Table1[[#This Row],[Column7]]*Table1[[#This Row],[Column8]])","v":""},null,null,null,null,{"$f":"IF(OR(ISBLANK(Table1[[#This Row],[Column12]]),ISBLANK(Table1[[#This Row],[Column13]])), \"\",Table1[[#This Row],[Column12]]*Table1[[#This Row],[Column13]])","v":""},null,null,null,null,{"$f":"IF(OR(ISBLANK(Table1[[#This Row],[Column16]]),ISBLANK(Table1[[#This Row],[Column17]])), \"\",Table1[[#This Row],[Column16]]*Table1[[#This Row],[Column17]])","v":""},null,null,null,null,{"$f":"IF(OR(ISBLANK(Table1[[#This Row],[Column21]]),ISBLANK(Table1[[#This Row],[Column22]])), \"\",Table1[[#This Row],[Column21]]*Table1[[#This Row],[Column22]])","v":""},null,null,null,null,{"$f":"IF(OR(ISBLANK(Table1[[#This Row],[Column25]]),ISBLANK(Table1[[#This Row],[Column26]])), \"\",Table1[[#This Row],[Column25]]*Table1[[#This Row],[Column26]])","v":""},null,null,null,null,{"$f":"IF(OR(ISBLANK(Table1[[#This Row],[Column30]]),ISBLANK(Table1[[#This Row],[Column31]])), \"\",Table1[[#This Row],[Column30]]*Table1[[#This Row],[Column31]])","v":""},null,null,null,null,{"$f":"IF(OR(ISBLANK(Table1[[#This Row],[Column34]]),ISBLANK(Table1[[#This Row],[Column35]])), \"\",Table1[[#This Row],[Column34]]*Table1[[#This Row],[Column35]])","v":""},null,null,null,null,{"$f":"IF(OR(ISBLANK(Table1[[#This Row],[Column39]]),ISBLANK(Table1[[#This Row],[Column40]])), \"\",Table1[[#This Row],[Column39]]*Table1[[#This Row],[Column40]])","v":""},null,null,null,null,{"$f":"IF(OR(ISBLANK(Table1[[#This Row],[Column43]]),ISBLANK(Table1[[#This Row],[Column44]])), \"\",Table1[[#This Row],[Column43]]*Table1[[#This Row],[Column44]])","v":""},null,null,null,null,{"$f":"IF(OR(ISBLANK(Table1[[#This Row],[Column48]]),ISBLANK(Table1[[#This Row],[Column49]])), \"\",Table1[[#This Row],[Column48]]*Table1[[#This Row],[Column49]])","v":""},null,null,null,null,{"$f":"IF(OR(ISBLANK(Table1[[#This Row],[Column52]]),ISBLANK(Table1[[#This Row],[Column53]])), \"\",Table1[[#This Row],[Column52]]*Table1[[#This Row],[Column53]])","v":""},null,null,null,null,{"$f":"IF(OR(ISBLANK(Table1[[#This Row],[Column57]]),ISBLANK(Table1[[#This Row],[Column58]])), \"\",Table1[[#This Row],[Column57]]*Table1[[#This Row],[Column58]])","v":""},null,null,null,null,{"$f":"IF(OR(ISBLANK(Table1[[#This Row],[Column61]]),ISBLANK(Table1[[#This Row],[Column62]])), \"\",Table1[[#This Row],[Column61]]*Table1[[#This Row],[Column62]])","v":""}]
[null,null,null,null,null,null,{"$f":"IF(OR(ISBLANK(Table1[[#This Row],[Column3]]),ISBLANK(Table1[[#This Row],[Column4]])), \"\",Table1[[#This Row],[Column3]]*Table1[[#This Row],[Column4]])","v":""},null,null,null,null,{"$f":"IF(OR(ISBLANK(Table1[[#This Row],[Column7]]),ISBLANK(Table1[[#This Row],[Column8]])), \"\",Table1[[#This Row],[Column7]]*Table1[[#This Row],[Column8]])","v":""},null,null,null,null,{"$f":"IF(OR(ISBLANK(Table1[[#This Row],[Column12]]),ISBLANK(Table1[[#This Row],[Column13]])), \"\",Table1[[#This Row],[Column12]]*Table1[[#This Row],[Column13]])","v":""},null,null,null,null,{"$f":"IF(OR(ISBLANK(Table1[[#This Row],[Column16]]),ISBLANK(Table1[[#This Row],[Column17]])), \"\",Table1[[#This Row],[Column16]]*Table1[[#This Row],[Column17]])","v":""},null,null,null,null,{"$f":"IF(OR(ISBLANK(Table1[[#This Row],[Column21]]),ISBLANK(Table1[[#This Row],[Column22]])), \"\",Table1[[#This Row],[Column21]]*Table1[[#This Row],[Column22]])","v":""},null,null,null,null,{"$f":"IF(OR(ISBLANK(Table1[[#This Row],[Column25]]),ISBLANK(Table1[[#This Row],[Column26]])), \"\",Table1[[#This Row],[Column25]]*Table1[[#This Row],[Column26]])","v":""},null,null,null,null,{"$f":"IF(OR(ISBLANK(Table1[[#This Row],[Column30]]),ISBLANK(Table1[[#This Row],[Column31]])), \"\",Table1[[#This Row],[Column30]]*Table1[[#This Row],[Column31]])","v":""},null,null,null,null,{"$f":"IF(OR(ISBLANK(Table1[[#This Row],[Column34]]),ISBLANK(Table1[[#This Row],[Column35]])), \"\",Table1[[#This Row],[Column34]]*Table1[[#This Row],[Column35]])","v":""},null,null,null,null,{"$f":"IF(OR(ISBLANK(Table1[[#This Row],[Column39]]),ISBLANK(Table1[[#This Row],[Column40]])), \"\",Table1[[#This Row],[Column39]]*Table1[[#This Row],[Column40]])","v":""},null,null,null,null,{"$f":"IF(OR(ISBLANK(Table1[[#This Row],[Column43]]),ISBLANK(Table1[[#This Row],[Column44]])), \"\",Table1[[#This Row],[Column43]]*Table1[[#This Row],[Column44]])","v":""},null,null,null,null,{"$f":"IF(OR(ISBLANK(Table1[[#This Row],[Column48]]),ISBLANK(Table1[[#This Row],[Column49]])), \"\",Table1[[#This Row],[Column48]]*Table1[[#This Row],[Column49]])","v":""},null,null,null,null,{"$f":"IF(OR(ISBLANK(Table1[[#This Row],[Column52]]),ISBLANK(Table1[[#This Row],[Column53]])), \"\",Table1[[#This Row],[Column52]]*Table1[[#This Row],[Column53]])","v":""},null,null,null,null,{"$f":"IF(OR(ISBLANK(Table1[[#This Row],[Column57]]),ISBLANK(Table1[[#This Row],[Column58]])), \"\",Table1[[#This Row],[Column57]]*Table1[[#This Row],[Column58]])","v":""},null,null,null,null,{"$f":"IF(OR(ISBLANK(Table1[[#This Row],[Column61]]),ISBLANK(Table1[[#This Row],[Column62]])), \"\",Table1[[#This Row],[Column61]]*Table1[[#This Row],[Column62]])","v":""}]
[null,null,null,null,null,null,{"$f":"IF(OR(ISBLANK(Table1[[#This Row],[Column3]]),ISBLANK(Table1[[#This Row],[Column4]])), \"\",Table1[[#This Row],[Column3]]*Table1[[#This Row],[Column4]])","v":""},null,null,null,null,{"$f":"IF(OR(ISBLANK(Table1[[#This Row],[Column7]]),ISBLANK(Table1[[#This Row],[Column8]])), \"\",Table1[[#This Row],[Column7]]*Table1[[#This Row],[Column8]])","v":""},null,null,null,null,{"$f":"IF(OR(ISBLANK(Table1[[#This Row],[Column12]]),ISBLANK(Table1[[#This Row],[Column13]])), \"\",Table1[[#This Row],[Column12]]*Table1[[#This Row],[Column13]])","v":""},null,null,null,null,{"$f":"IF(OR(ISBLANK(Table1[[#This Row],[Column16]]),ISBLANK(Table1[[#This Row],[Column17]])), \"\",Table1[[#This Row],[Column16]]*Table1[[#This Row],[Column17]])","v":""},null,null,null,null,{"$f":"IF(OR(ISBLANK(Table1[[#This Row],[Column21]]),ISBLANK(Table1[[#This Row],[Column22]])), \"\",Table1[[#This Row],[Column21]]*Table1[[#This Row],[Column22]])","v":""},null,null,null,null,{"$f":"IF(OR(ISBLANK(Table1[[#This Row],[Column25]]),ISBLANK(Table1[[#This Row],[Column26]])), \"\",Table1[[#This Row],[Column25]]*Table1[[#This Row],[Column26]])","v":""},null,null,null,null,{"$f":"IF(OR(ISBLANK(Table1[[#This Row],[Column30]]),ISBLANK(Table1[[#This Row],[Column31]])), \"\",Table1[[#This Row],[Column30]]*Table1[[#This Row],[Column31]])","v":""},null,null,null,null,{"$f":"IF(OR(ISBLANK(Table1[[#This Row],[Column34]]),ISBLANK(Table1[[#This Row],[Column35]])), \"\",Table1[[#This Row],[Column34]]*Table1[[#This Row],[Column35]])","v":""},null,null,null,null,{"$f":"IF(OR(ISBLANK(Table1[[#This Row],[Column39]]),ISBLANK(Table1[[#This Row],[Column40]])), \"\",Table1[[#This Row],[Column39]]*Table1[[#This Row],[Column40]])","v":""},null,null,null,null,{"$f":"IF(OR(ISBLANK(Table1[[#This Row],[Column43]]),ISBLANK(Table1[[#This Row],[Column44]])), \"\",Table1[[#This Row],[Column43]]*Table1[[#This Row],[Column44]])","v":""},null,null,null,null,{"$f":"IF(OR(ISBLANK(Table1[[#This Row],[Column48]]),ISBLANK(Table1[[#This Row],[Column49]])), \"\",Table1[[#This Row],[Column48]]*Table1[[#This Row],[Column49]])","v":""},null,null,null,null,{"$f":"IF(OR(ISBLANK(Table1[[#This Row],[Column52]]),ISBLANK(Table1[[#This Row],[Column53]])), \"\",Table1[[#This Row],[Column52]]*Table1[[#This Row],[Column53]])","v":""},null,null,null,null,{"$f":"IF(OR(ISBLANK(Table1[[#This Row],[Column57]]),ISBLANK(Table1[[#This Row],[Column58]])), \"\",Table1[[#This Row],[Column57]]*Table1[[#This Row],[Column58]])","v":""},null,null,null,null,{"$f":"IF(OR(ISBLANK(Table1[[#This Row],[Column61]]),ISBLANK(Table1[[#This Row],[Column62]])), \"\",Table1[[#This Row],[Column61]]*Table1[[#This Row],[Column62]])","v":""}]
[null,null,null,null,null,null,{"$f":"IF(OR(ISBLANK(Table1[[#This Row],[Column3]]),ISBLANK(Table1[[#This Row],[Column4]])), \"\",Table1[[#This Row],[Column3]]*Table1[[#This Row],[Column4]])","v":""},null,null,null,null,{"$f":"IF(OR(ISBLANK(Table1[[#This Row],[Column7]]),ISBLANK(Table1[[#This Row],[Column8]])), \"\",Table1[[#This Row],[Column7]]*Table1[[#This Row],[Column8]])","v":""},null,null,null,null,{"$f":"IF(OR(ISBLANK(Table1[[#This Row],[Column12]]),ISBLANK(Table1[[#This Row],[Column13]])), \"\",Table1[[#This Row],[Column12]]*Table1[[#This Row],[Column13]])","v":""},null,null,null,null,{"$f":"IF(OR(ISBLANK(Table1[[#This Row],[Column16]]),ISBLANK(Table1[[#This Row],[Column17]])), \"\",Table1[[#This Row],[Column16]]*Table1[[#This Row],[Column17]])","v":""},null,null,null,null,{"$f":"IF(OR(ISBLANK(Table1[[#This Row],[Column21]]),ISBLANK(Table1[[#This Row],[Column22]])), \"\",Table1[[#This Row],[Column21]]*Table1[[#This Row],[Column22]])","v":""},null,null,null,null,{"$f":"IF(OR(ISBLANK(Table1[[#This Row],[Column25]]),ISBLANK(Table1[[#This Row],[Column26]])), \"\",Table1[[#This Row],[Column25]]*Table1[[#This Row],[Column26]])","v":""},null,null,null,null,{"$f":"IF(OR(ISBLANK(Table1[[#This Row],[Column30]]),ISBLANK(Table1[[#This Row],[Column31]])), \"\",Table1[[#This Row],[Column30]]*Table1[[#This Row],[Column31]])","v":""},null,null,null,null,{"$f":"IF(OR(ISBLANK(Table1[[#This Row],[Column34]]),ISBLANK(Table1[[#This Row],[Column35]])), \"\",Table1[[#This Row],[Column34]]*Table1[[#This Row],[Column35]])","v":""},null,null,null,null,{"$f":"IF(OR(ISBLANK(Table1[[#This Row],[Column39]]),ISBLANK(Table1[[#This Row],[Column40]])), \"\",Table1[[#This Row],[Column39]]*Table1[[#This Row],[Column40]])","v":""},null,null,null,null,{"$f":"IF(OR(ISBLANK(Table1[[#This Row],[Column43]]),ISBLANK(Table1[[#This Row],[Column44]])), \"\",Table1[[#This Row],[Column43]]*Table1[[#This Row],[Column44]])","v":""},null,null,null,null,{"$f":"IF(OR(ISBLANK(Table1[[#This Row],[Column48]]),ISBLANK(Table1[[#This Row],[Column49]])), \"\",Table1[[#This Row],[Column48]]*Table1[[#This Row],[Column49]])","v":""},null,null,null,null,{"$f":"IF(OR(ISBLANK(Table1[[#This Row],[Column52]]),ISBLANK(Table1[[#This Row],[Column53]])), \"\",Table1[[#This Row],[Column52]]*Table1[[#This Row],[Column53]])","v":""},null,null,null,null,{"$f":"IF(OR(ISBLANK(Table1[[#This Row],[Column57]]),ISBLANK(Table1[[#This Row],[Column58]])), \"\",Table1[[#This Row],[Column57]]*Table1[[#This Row],[Column58]])","v":""},null,null,null,null,{"$f":"IF(OR(ISBLANK(Table1[[#This Row],[Column61]]),ISBLANK(Table1[[#This Row],[Column62]])), \"\",Table1[[#This Row],[Column61]]*Table1[[#This Row],[Column62]])","v":""}]
[null,null,null,null,null,null,{"$f":"IF(OR(ISBLANK(Table1[[#This Row],[Column3]]),ISBLANK(Table1[[#This Row],[Column4]])), \"\",Table1[[#This Row],[Column3]]*Table1[[#This Row],[Column4]])","v":""},null,null,null,null,{"$f":"IF(OR(ISBLANK(Table1[[#This Row],[Column7]]),ISBLANK(Table1[[#This Row],[Column8]])), \"\",Table1[[#This Row],[Column7]]*Table1[[#This Row],[Column8]])","v":""},null,null,null,null,{"$f":"IF(OR(ISBLANK(Table1[[#This Row],[Column12]]),ISBLANK(Table1[[#This Row],[Column13]])), \"\",Table1[[#This Row],[Column12]]*Table1[[#This Row],[Column13]])","v":""},null,null,null,null,{"$f":"IF(OR(ISBLANK(Table1[[#This Row],[Column16]]),ISBLANK(Table1[[#This Row],[Column17]])), \"\",Table1[[#This Row],[Column16]]*Table1[[#This Row],[Column17]])","v":""},null,null,null,null,{"$f":"IF(OR(ISBLANK(Table1[[#This Row],[Column21]]),ISBLANK(Table1[[#This Row],[Column22]])), \"\",Table1[[#This Row],[Column21]]*Table1[[#This Row],[Column22]])","v":""},null,null,null,null,{"$f":"IF(OR(ISBLANK(Table1[[#This Row],[Column25]]),ISBLANK(Table1[[#This Row],[Column26]])), \"\",Table1[[#This Row],[Column25]]*Table1[[#This Row],[Column26]])","v":""},null,null,null,null,{"$f":"IF(OR(ISBLANK(Table1[[#This Row],[Column30]]),ISBLANK(Table1[[#This Row],[Column31]])), \"\",Table1[[#This Row],[Column30]]*Table1[[#This Row],[Column31]])","v":""},null,null,null,null,{"$f":"IF(OR(ISBLANK(Table1[[#This Row],[Column34]]),ISBLANK(Table1[[#This Row],[Column35]])), \"\",Table1[[#This Row],[Column34]]*Table1[[#This Row],[Column35]])","v":""},null,null,null,null,{"$f":"IF(OR(ISBLANK(Table1[[#This Row],[Column39]]),ISBLANK(Table1[[#This Row],[Column40]])), \"\",Table1[[#This Row],[Column39]]*Table1[[#This Row],[Column40]])","v":""},null,null,null,null,{"$f":"IF(OR(ISBLANK(Table1[[#This Row],[Column43]]),ISBLANK(Table1[[#This Row],[Column44]])), \"\",Table1[[#This Row],[Column43]]*Table1[[#This Row],[Column44]])","v":""},null,null,null,null,{"$f":"IF(OR(ISBLANK(Table1[[#This Row],[Column48]]),ISBLANK(Table1[[#This Row],[Column49]])), \"\",Table1[[#This Row],[Column48]]*Table1[[#This Row],[Column49]])","v":""},null,null,null,null,{"$f":"IF(OR(ISBLANK(Table1[[#This Row],[Column52]]),ISBLANK(Table1[[#This Row],[Column53]])), \"\",Table1[[#This Row],[Column52]]*Table1[[#This Row],[Column53]])","v":""},null,null,null,null,{"$f":"IF(OR(ISBLANK(Table1[[#This Row],[Column57]]),ISBLANK(Table1[[#This Row],[Column58]])), \"\",Table1[[#This Row],[Column57]]*Table1[[#This Row],[Column58]])","v":""},null,null,null,null,{"$f":"IF(OR(ISBLANK(Table1[[#This Row],[Column61]]),ISBLANK(Table1[[#This Row],[Column62]])), \"\",Table1[[#This Row],[Column61]]*Table1[[#This Row],[Column62]])","v":""}]
[null,null,null,null,null,null,{"$f":"IF(OR(ISBLANK(Table1[[#This Row],[Column3]]),ISBLANK(Table1[[#This Row],[Column4]])), \"\",Table1[[#This Row],[Column3]]*Table1[[#This Row],[Column4]])","v":""},null,null,null,null,{"$f":"IF(OR(ISBLANK(Table1[[#This Row],[Column7]]),ISBLANK(Table1[[#This Row],[Column8]])), \"\",Table1[[#This Row],[Column7]]*Table1[[#This Row],[Column8]])","v":""},null,null,null,null,{"$f":"IF(OR(ISBLANK(Table1[[#This Row],[Column12]]),ISBLANK(Table1[[#This Row],[Column13]])), \"\",Table1[[#This Row],[Column12]]*Table1[[#This Row],[Column13]])","v":""},null,null,null,null,{"$f":"IF(OR(ISBLANK(Table1[[#This Row],[Column16]]),ISBLANK(Table1[[#This Row],[Column17]])), \"\",Table1[[#This Row],[Column16]]*Table1[[#This Row],[Column17]])","v":""},null,null,null,null,{"$f":"IF(OR(ISBLANK(Table1[[#This Row],[Column21]]),ISBLANK(Table1[[#This Row],[Column22]])), \"\",Table1[[#This Row],[Column21]]*Table1[[#This Row],[Column22]])","v":""},null,null,null,null,{"$f":"IF(OR(ISBLANK(Table1[[#This Row],[Column25]]),ISBLANK(Table1[[#This Row],[Column26]])), \"\",Table1[[#This Row],[Column25]]*Table1[[#This Row],[Column26]])","v":""},null,null,null,null,{"$f":"IF(OR(ISBLANK(Table1[[#This Row],[Column30]]),ISBLANK(Table1[[#This Row],[Column31]])), \"\",Table1[[#This Row],[Column30]]*Table1[[#This Row],[Column31]])","v":""},null,null,null,null,{"$f":"IF(OR(ISBLANK(Table1[[#This Row],[Column34]]),ISBLANK(Table1[[#This Row],[Column35]])), \"\",Table1[[#This Row],[Column34]]*Table1[[#This Row],[Column35]])","v":""},null,null,null,null,{"$f":"IF(OR(ISBLANK(Table1[[#This Row],[Column39]]),ISBLANK(Table1[[#This Row],[Column40]])), \"\",Table1[[#This Row],[Column39]]*Table1[[#This Row],[Column40]])","v":""},null,null,null,null,{"$f":"IF(OR(ISBLANK(Table1[[#This Row],[Column43]]),ISBLANK(Table1[[#This Row],[Column44]])), \"\",Table1[[#This Row],[Column43]]*Table1[[#This Row],[Column44]])","v":""},null,null,null,null,{"$f":"IF(OR(ISBLANK(Table1[[#This Row],[Column48]]),ISBLANK(Table1[[#This Row],[Column49]])), \"\",Table1[[#This Row],[Column48]]*Table1[[#This Row],[Column49]])","v":""},null,null,null,null,{"$f":"IF(OR(ISBLANK(Table1[[#This Row],[Column52]]),ISBLANK(Table1[[#This Row],[Column53]])), \"\",Table1[[#This Row],[Column52]]*Table1[[#This Row],[Column53]])","v":""},null,null,null,null,{"$f":"IF(OR(ISBLANK(Table1[[#This Row],[Column57]]),ISBLANK(Table1[[#This Row],[Column58]])), \"\",Table1[[#This Row],[Column57]]*Table1[[#This Row],[Column58]])","v":""},null,null,null,null,{"$f":"IF(OR(ISBLANK(Table1[[#This Row],[Column61]]),ISBLANK(Table1[[#This Row],[Column62]])), \"\",Table1[[#This Row],[Column61]]*Table1[[#This Row],[Column62]])","v":""}]
[null,null,null,null,null,null,{"$f":"IF(OR(ISBLANK(Table1[[#This Row],[Column3]]),ISBLANK(Table1[[#This Row],[Column4]])), \"\",Table1[[#This Row],[Column3]]*Table1[[#This Row],[Column4]])","v":""},null,null,null,null,{"$f":"IF(OR(ISBLANK(Table1[[#This Row],[Column7]]),ISBLANK(Table1[[#This Row],[Column8]])), \"\",Table1[[#This Row],[Column7]]*Table1[[#This Row],[Column8]])","v":""},null,null,null,null,{"$f":"IF(OR(ISBLANK(Table1[[#This Row],[Column12]]),ISBLANK(Table1[[#This Row],[Column13]])), \"\",Table1[[#This Row],[Column12]]*Table1[[#This Row],[Column13]])","v":""},null,null,null,null,{"$f":"IF(OR(ISBLANK(Table1[[#This Row],[Column16]]),ISBLANK(Table1[[#This Row],[Column17]])), \"\",Table1[[#This Row],[Column16]]*Table1[[#This Row],[Column17]])","v":""},null,null,null,null,{"$f":"IF(OR(ISBLANK(Table1[[#This Row],[Column21]]),ISBLANK(Table1[[#This Row],[Column22]])), \"\",Table1[[#This Row],[Column21]]*Table1[[#This Row],[Column22]])","v":""},null,null,null,null,{"$f":"IF(OR(ISBLANK(Table1[[#This Row],[Column25]]),ISBLANK(Table1[[#This Row],[Column26]])), \"\",Table1[[#This Row],[Column25]]*Table1[[#This Row],[Column26]])","v":""},null,null,null,null,{"$f":"IF(OR(ISBLANK(Table1[[#This Row],[Column30]]),ISBLANK(Table1[[#This Row],[Column31]])), \"\",Table1[[#This Row],[Column30]]*Table1[[#This Row],[Column31]])","v":""},null,null,null,null,{"$f":"IF(OR(ISBLANK(Table1[[#This Row],[Column34]]),ISBLANK(Table1[[#This Row],[Column35]])), \"\",Table1[[#This Row],[Column34]]*Table1[[#This Row],[Column35]])","v":""},null,null,null,null,{"$f":"IF(OR(ISBLANK(Table1[[#This Row],[Column39]]),ISBLANK(Table1[[#This Row],[Column40]])), \"\",Table1[[#This Row],[Column39]]*Table1[[#This Row],[Column40]])","v":""},null,null,null,null,{"$f":"IF(OR(ISBLANK(Table1[[#This Row],[Column43]]),ISBLANK(Table1[[#This Row],[Column44]])), \"\",Table1[[#This Row],[Column43]]*Table1[[#This Row],[Column44]])","v":""},null,null,null,null,{"$f":"IF(OR(ISBLANK(Table1[[#This Row],[Column48]]),ISBLANK(Table1[[#This Row],[Column49]])), \"\",Table1[[#This Row],[Column48]]*Table1[[#This Row],[Column49]])","v":""},null,null,null,null,{"$f":"IF(OR(ISBLANK(Table1[[#This Row],[Column52]]),ISBLANK(Table1[[#This Row],[Column53]])), \"\",Table1[[#This Row],[Column52]]*Table1[[#This Row],[Column53]])","v":""},null,null,null,null,{"$f":"IF(OR(ISBLANK(Table1[[#This Row],[Column57]]),ISBLANK(Table1[[#This Row],[Column58]])), \"\",Table1[[#This Row],[Column57]]*Table1[[#This Row],[Column58]])","v":""},null,null,null,null,{"$f":"IF(OR(ISBLANK(Table1[[#This Row],[Column61]]),ISBLANK(Table1[[#This Row],[Column62]])), \"\",Table1[[#This Row],[Column61]]*Table1[[#This Row],[Column62]])","v":""}]
[null,null,null,null,null,null,{"$f":"IF(OR(ISBLANK(Table1[[#This Row],[Column3]]),ISBLANK(Table1[[#This Row],[Column4]])), \"\",Table1[[#This Row],[Column3]]*Table1[[#This Row],[Column4]])","v":""},null,null,null,null,{"$f":"IF(OR(ISBLANK(Table1[[#This Row],[Column7]]),ISBLANK(Table1[[#This Row],[Column8]])), \"\",Table1[[#This Row],[Column7]]*Table1[[#This Row],[Column8]])","v":""},null,null,null,null,{"$f":"IF(OR(ISBLANK(Table1[[#This Row],[Column12]]),ISBLANK(Table1[[#This Row],[Column13]])), \"\",Table1[[#This Row],[Column12]]*Table1[[#This Row],[Column13]])","v":""},null,null,null,null,{"$f":"IF(OR(ISBLANK(Table1[[#This Row],[Column16]]),ISBLANK(Table1[[#This Row],[Column17]])), \"\",Table1[[#This Row],[Column16]]*Table1[[#This Row],[Column17]])","v":""},null,null,null,null,{"$f":"IF(OR(ISBLANK(Table1[[#This Row],[Column21]]),ISBLANK(Table1[[#This Row],[Column22]])), \"\",Table1[[#This Row],[Column21]]*Table1[[#This Row],[Column22]])","v":""},null,null,null,null,{"$f":"IF(OR(ISBLANK(Table1[[#This Row],[Column25]]),ISBLANK(Table1[[#This Row],[Column26]])), \"\",Table1[[#This Row],[Column25]]*Table1[[#This Row],[Column26]])","v":""},null,null,null,null,{"$f":"IF(OR(ISBLANK(Table1[[#This Row],[Column30]]),ISBLANK(Table1[[#This Row],[Column31]])), \"\",Table1[[#This Row],[Column30]]*Table1[[#This Row],[Column31]])","v":""},null,null,null,null,{"$f":"IF(OR(ISBLANK(Table1[[#This Row],[Column34]]),ISBLANK(Table1[[#This Row],[Column35]])), \"\",Table1[[#This Row],[Column34]]*Table1[[#This Row],[Column35]])","v":""},null,null,null,null,{"$f":"IF(OR(ISBLANK(Table1[[#This Row],[Column39]]),ISBLANK(Table1[[#This Row],[Column40]])), \"\",Table1[[#This Row],[Column39]]*Table1[[#This Row],[Column40]])","v":""},null,null,null,null,{"$f":"IF(OR(ISBLANK(Table1[[#This Row],[Column43]]),ISBLANK(Table1[[#This Row],[Column44]])), \"\",Table1[[#This Row],[Column43]]*Table1[[#This Row],[Column44]])","v":""},null,null,null,null,{"$f":"IF(OR(ISBLANK(Table1[[#This Row],[Column48]]),ISBLANK(Table1[[#This Row],[Column49]])), \"\",Table1[[#This Row],[Column48]]*Table1[[#This Row],[Column49]])","v":""},null,null,null,null,{"$f":"IF(OR(ISBLANK(Table1[[#This Row],[Column52]]),ISBLANK(Table1[[#This Row],[Column53]])), \"\",Table1[[#This Row],[Column52]]*Table1[[#This Row],[Column53]])","v":""},null,null,null,null,{"$f":"IF(OR(ISBLANK(Table1[[#This Row],[Column57]]),ISBLANK(Table1[[#This Row],[Column58]])), \"\",Table1[[#This Row],[Column57]]*Table1[[#This Row],[Column58]])","v":""},null,null,null,null,{"$f":"IF(OR(ISBLANK(Table1[[#This Row],[Column61]]),ISBLANK(Table1[[#This Row],[Column62]])), \"\",Table1[[#This Row],[Column61]]*Table1[[#This Row],[Column62]])","v":""}]
[null,null,null,null,null,null,{"$f":"IF(OR(ISBLANK(Table1[[#This Row],[Column3]]),ISBLANK(Table1[[#This Row],[Column4]])), \"\",Table1[[#This Row],[Column3]]*Table1[[#This Row],[Column4]])","v":""},null,null,null,null,{"$f":"IF(OR(ISBLANK(Table1[[#This Row],[Column7]]),ISBLANK(Table1[[#This Row],[Column8]])), \"\",Table1[[#This Row],[Column7]]*Table1[[#This Row],[Column8]])","v":""},null,null,null,null,{"$f":"IF(OR(ISBLANK(Table1[[#This Row],[Column12]]),ISBLANK(Table1[[#This Row],[Column13]])), \"\",Table1[[#This Row],[Column12]]*Table1[[#This Row],[Column13]])","v":""},null,null,null,null,{"$f":"IF(OR(ISBLANK(Table1[[#This Row],[Column16]]),ISBLANK(Table1[[#This Row],[Column17]])), \"\",Table1[[#This Row],[Column16]]*Table1[[#This Row],[Column17]])","v":""},null,null,null,null,{"$f":"IF(OR(ISBLANK(Table1[[#This Row],[Column21]]),ISBLANK(Table1[[#This Row],[Column22]])), \"\",Table1[[#This Row],[Column21]]*Table1[[#This Row],[Column22]])","v":""},null,null,null,null,{"$f":"IF(OR(ISBLANK(Table1[[#This Row],[Column25]]),ISBLANK(Table1[[#This Row],[Column26]])), \"\",Table1[[#This Row],[Column25]]*Table1[[#This Row],[Column26]])","v":""},null,null,null,null,{"$f":"IF(OR(ISBLANK(Table1[[#This Row],[Column30]]),ISBLANK(Table1[[#This Row],[Column31]])), \"\",Table1[[#This Row],[Column30]]*Table1[[#This Row],[Column31]])","v":""},null,null,null,null,{"$f":"IF(OR(ISBLANK(Table1[[#This Row],[Column34]]),ISBLANK(Table1[[#This Row],[Column35]])), \"\",Table1[[#This Row],[Column34]]*Table1[[#This Row],[Column35]])","v":""},null,null,null,null,{"$f":"IF(OR(ISBLANK(Table1[[#This Row],[Column39]]),ISBLANK(Table1[[#This Row],[Column40]])), \"\",Table1[[#This Row],[Column39]]*Table1[[#This Row],[Column40]])","v":""},null,null,null,null,{"$f":"IF(OR(ISBLANK(Table1[[#This Row],[Column43]]),ISBLANK(Table1[[#This Row],[Column44]])), \"\",Table1[[#This Row],[Column43]]*Table1[[#This Row],[Column44]])","v":""},null,null,null,null,{"$f":"IF(OR(ISBLANK(Table1[[#This Row],[Column48]]),ISBLANK(Table1[[#This Row],[Column49]])), \"\",Table1[[#This Row],[Column48]]*Table1[[#This Row],[Column49]])","v":""},null,null,null,null,{"$f":"IF(OR(ISBLANK(Table1[[#This Row],[Column52]]),ISBLANK(Table1[[#This Row],[Column53]])), \"\",Table1[[#This Row],[Column52]]*Table1[[#This Row],[Column53]])","v":""},null,null,null,null,{"$f":"IF(OR(ISBLANK(Table1[[#This Row],[Column57]]),ISBLANK(Table1[[#This Row],[Column58]])), \"\",Table1[[#This Row],[Column57]]*Table1[[#This Row],[Column58]])","v":""},null,null,null,null,{"$f":"IF(OR(ISBLANK(Table1[[#This Row],[Column61]]),ISBLANK(Table1[[#This Row],[Column62]])), \"\",Table1[[#This Row],[Column61]]*Table1[[#This Row],[Column62]])","v":""}]
[null,null,null,null,null,null,{"$f":"IF(OR(ISBLANK(Table1[[#This Row],[Column3]]),ISBLANK(Table1[[#This Row],[Column4]])), \"\",Table1[[#This Row],[Column3]]*Table1[[#This Row],[Column4]])","v":""},null,null,null,null,{"$f":"IF(OR(ISBLANK(Table1[[#This Row],[Column7]]),ISBLANK(Table1[[#This Row],[Column8]])), \"\",Table1[[#This Row],[Column7]]*Table1[[#This Row],[Column8]])","v":""},null,null,null,null,{"$f":"IF(OR(ISBLANK(Table1[[#This Row],[Column12]]),ISBLANK(Table1[[#This Row],[Column13]])), \"\",Table1[[#This Row],[Column12]]*Table1[[#This Row],[Column13]])","v":""},null,null,null,null,{"$f":"IF(OR(ISBLANK(Table1[[#This Row],[Column16]]),ISBLANK(Table1[[#This Row],[Column17]])), \"\",Table1[[#This Row],[Column16]]*Table1[[#This Row],[Column17]])","v":""},null,null,null,null,{"$f":"IF(OR(ISBLANK(Table1[[#This Row],[Column21]]),ISBLANK(Table1[[#This Row],[Column22]])), \"\",Table1[[#This Row],[Column21]]*Table1[[#This Row],[Column22]])","v":""},null,null,null,null,{"$f":"IF(OR(ISBLANK(Table1[[#This Row],[Column25]]),ISBLANK(Table1[[#This Row],[Column26]])), \"\",Table1[[#This Row],[Column25]]*Table1[[#This Row],[Column26]])","v":""},null,null,null,null,{"$f":"IF(OR(ISBLANK(Table1[[#This Row],[Column30]]),ISBLANK(Table1[[#This Row],[Column31]])), \"\",Table1[[#This Row],[Column30]]*Table1[[#This Row],[Column31]])","v":""},null,null,null,null,{"$f":"IF(OR(ISBLANK(Table1[[#This Row],[Column34]]),ISBLANK(Table1[[#This Row],[Column35]])), \"\",Table1[[#This Row],[Column34]]*Table1[[#This Row],[Column35]])","v":""},null,null,null,null,{"$f":"IF(OR(ISBLANK(Table1[[#This Row],[Column39]]),ISBLANK(Table1[[#This Row],[Column40]])), \"\",Table1[[#This Row],[Column39]]*Table1[[#This Row],[Column40]])","v":""},null,null,null,null,{"$f":"IF(OR(ISBLANK(Table1[[#This Row],[Column43]]),ISBLANK(Table1[[#This Row],[Column44]])), \"\",Table1[[#This Row],[Column43]]*Table1[[#This Row],[Column44]])","v":""},null,null,null,null,{"$f":"IF(OR(ISBLANK(Table1[[#This Row],[Column48]]),ISBLANK(Table1[[#This Row],[Column49]])), \"\",Table1[[#This Row],[Column48]]*Table1[[#This Row],[Column49]])","v":""},null,null,null,null,{"$f":"IF(OR(ISBLANK(Table1[[#This Row],[Column52]]),ISBLANK(Table1[[#This Row],[Column53]])), \"\",Table1[[#This Row],[Column52]]*Table1[[#This Row],[Column53]])","v":""},null,null,null,null,{"$f":"IF(OR(ISBLANK(Table1[[#This Row],[Column57]]),ISBLANK(Table1[[#This Row],[Column58]])), \"\",Table1[[#This Row],[Column57]]*Table1[[#This Row],[Column58]])","v":""},null,null,null,null,{"$f":"IF(OR(ISBLANK(Table1[[#This Row],[Column61]]),ISBLANK(Table1[[#This Row],[Column62]])), \"\",Table1[[#This Row],[Column61]]*Table1[[#This Row],[Column62]])","v":""}]
[null,null,null,null,null,null,{"$f":"IF(OR(ISBLANK(Table1[[#This Row],[Column3]]),ISBLANK(Table1[[#This Row],[Column4]])), \"\",Table1[[#This Row],[Column3]]*Table1[[#This Row],[Column4]])","v":""},null,null,null,null,{"$f":"IF(OR(ISBLANK(Table1[[#This Row],[Column7]]),ISBLANK(Table1[[#This Row],[Column8]])), \"\",Table1[[#This Row],[Column7]]*Table1[[#This Row],[Column8]])","v":""},null,null,null,null,{"$f":"IF(OR(ISBLANK(Table1[[#This Row],[Column12]]),ISBLANK(Table1[[#This Row],[Column13]])), \"\",Table1[[#This Row],[Column12]]*Table1[[#This Row],[Column13]])","v":""},null,null,null,null,{"$f":"IF(OR(ISBLANK(Table1[[#This Row],[Column16]]),ISBLANK(Table1[[#This Row],[Column17]])), \"\",Table1[[#This Row],[Column16]]*Table1[[#This Row],[Column17]])","v":""},null,null,null,null,{"$f":"IF(OR(ISBLANK(Table1[[#This Row],[Column21]]),ISBLANK(Table1[[#This Row],[Column22]])), \"\",Table1[[#This Row],[Column21]]*Table1[[#This Row],[Column22]])","v":""},null,null,null,null,{"$f":"IF(OR(ISBLANK(Table1[[#This Row],[Column25]]),ISBLANK(Table1[[#This Row],[Column26]])), \"\",Table1[[#This Row],[Column25]]*Table1[[#This Row],[Column26]])","v":""},null,null,null,null,{"$f":"IF(OR(ISBLANK(Table1[[#This Row],[Column30]]),ISBLANK(Table1[[#This Row],[Column31]])), \"\",Table1[[#This Row],[Column30]]*Table1[[#This Row],[Column31]])","v":""},null,null,null,null,{"$f":"IF(OR(ISBLANK(Table1[[#This Row],[Column34]]),ISBLANK(Table1[[#This Row],[Column35]])), \"\",Table1[[#This Row],[Column34]]*Table1[[#This Row],[Column35]])","v":""},null,null,null,null,{"$f":"IF(OR(ISBLANK(Table1[[#This Row],[Column39]]),ISBLANK(Table1[[#This Row],[Column40]])), \"\",Table1[[#This Row],[Column39]]*Table1[[#This Row],[Column40]])","v":""},null,null,null,null,{"$f":"IF(OR(ISBLANK(Table1[[#This Row],[Column43]]),ISBLANK(Table1[[#This Row],[Column44]])), \"\",Table1[[#This Row],[Column43]]*Table1[[#This Row],[Column44]])","v":""},null,null,null,null,{"$f":"IF(OR(ISBLANK(Table1[[#This Row],[Column48]]),ISBLANK(Table1[[#This Row],[Column49]])), \"\",Table1[[#This Row],[Column48]]*Table1[[#This Row],[Column49]])","v":""},null,null,null,null,{"$f":"IF(OR(ISBLANK(Table1[[#This Row],[Column52]]),ISBLANK(Table1[[#This Row],[Column53]])), \"\",Table1[[#This Row],[Column52]]*Table1[[#This Row],[Column53]])","v":""},null,null,null,null,{"$f":"IF(OR(ISBLANK(Table1[[#This Row],[Column57]]),ISBLANK(Table1[[#This Row],[Column58]])), \"\",Table1[[#This Row],[Column57]]*Table1[[#This Row],[Column58]])","v":""},null,null,null,null,{"$f":"IF(OR(ISBLANK(Table1[[#This Row],[Column61]]),ISBLANK(Table1[[#This Row],[Column62]])), \"\",Table1[[#This Row],[Column61]]*Table1[[#This Row],[Column62]])","v":""}]
[null,null,null,null,null,null,{"$f":"IF(OR(ISBLANK(Table1[[#This Row],[Column3]]),ISBLANK(Table1[[#This Row],[Column4]])), \"\",Table1[[#This Row],[Column3]]*Table1[[#This Row],[Column4]])","v":""},null,null,null,null,{"$f":"IF(OR(ISBLANK(Table1[[#This Row],[Column7]]),ISBLANK(Table1[[#This Row],[Column8]])), \"\",Table1[[#This Row],[Column7]]*Table1[[#This Row],[Column8]])","v":""},null,null,null,null,{"$f":"IF(OR(ISBLANK(Table1[[#This Row],[Column12]]),ISBLANK(Table1[[#This Row],[Column13]])), \"\",Table1[[#This Row],[Column12]]*Table1[[#This Row],[Column13]])","v":""},null,null,null,null,{"$f":"IF(OR(ISBLANK(Table1[[#This Row],[Column16]]),ISBLANK(Table1[[#This Row],[Column17]])), \"\",Table1[[#This Row],[Column16]]*Table1[[#This Row],[Column17]])","v":""},null,null,null,null,{"$f":"IF(OR(ISBLANK(Table1[[#This Row],[Column21]]),ISBLANK(Table1[[#This Row],[Column22]])), \"\",Table1[[#This Row],[Column21]]*Table1[[#This Row],[Column22]])","v":""},null,null,null,null,{"$f":"IF(OR(ISBLANK(Table1[[#This Row],[Column25]]),ISBLANK(Table1[[#This Row],[Column26]])), \"\",Table1[[#This Row],[Column25]]*Table1[[#This Row],[Column26]])","v":""},null,null,null,null,{"$f":"IF(OR(ISBLANK(Table1[[#This Row],[Column30]]),ISBLANK(Table1[[#This Row],[Column31]])), \"\",Table1[[#This Row],[Column30]]*Table1[[#This Row],[Column31]])","v":""},null,null,null,null,{"$f":"IF(OR(ISBLANK(Table1[[#This Row],[Column34]]),ISBLANK(Table1[[#This Row],[Column35]])), \"\",Table1[[#This Row],[Column34]]*Table1[[#This Row],[Column35]])","v":""},null,null,null,null,{"$f":"IF(OR(ISBLANK(Table1[[#This Row],[Column39]]),ISBLANK(Table1[[#This Row],[Column40]])), \"\",Table1[[#This Row],[Column39]]*Table1[[#This Row],[Column40]])","v":""},null,null,null,null,{"$f":"IF(OR(ISBLANK(Table1[[#This Row],[Column43]]),ISBLANK(Table1[[#This Row],[Column44]])), \"\",Table1[[#This Row],[Column43]]*Table1[[#This Row],[Column44]])","v":""},null,null,null,null,{"$f":"IF(OR(ISBLANK(Table1[[#This Row],[Column48]]),ISBLANK(Table1[[#This Row],[Column49]])), \"\",Table1[[#This Row],[Column48]]*Table1[[#This Row],[Column49]])","v":""},null,null,null,null,{"$f":"IF(OR(ISBLANK(Table1[[#This Row],[Column52]]),ISBLANK(Table1[[#This Row],[Column53]])), \"\",Table1[[#This Row],[Column52]]*Table1[[#This Row],[Column53]])","v":""},null,null,null,null,{"$f":"IF(OR(ISBLANK(Table1[[#This Row],[Column57]]),ISBLANK(Table1[[#This Row],[Column58]])), \"\",Table1[[#This Row],[Column57]]*Table1[[#This Row],[Column58]])","v":""},null,null,null,null,{"$f":"IF(OR(ISBLANK(Table1[[#This Row],[Column61]]),ISBLANK(Table1[[#This Row],[Column62]])), \"\",Table1[[#This Row],[Column61]]*Table1[[#This Row],[Column62]])","v":""}]
[null,null,null,null,null,null,{"$f":"IF(OR(ISBLANK(Table1[[#This Row],[Column3]]),ISBLANK(Table1[[#This Row],[Column4]])), \"\",Table1[[#This Row],[Column3]]*Table1[[#This Row],[Column4]])","v":""},null,null,null,null,{"$f":"IF(OR(ISBLANK(Table1[[#This Row],[Column7]]),ISBLANK(Table1[[#This Row],[Column8]])), \"\",Table1[[#This Row],[Column7]]*Table1[[#This Row],[Column8]])","v":""},null,null,null,null,{"$f":"IF(OR(ISBLANK(Table1[[#This Row],[Column12]]),ISBLANK(Table1[[#This Row],[Column13]])), \"\",Table1[[#This Row],[Column12]]*Table1[[#This Row],[Column13]])","v":""},null,null,null,null,{"$f":"IF(OR(ISBLANK(Table1[[#This Row],[Column16]]),ISBLANK(Table1[[#This Row],[Column17]])), \"\",Table1[[#This Row],[Column16]]*Table1[[#This Row],[Column17]])","v":""},null,null,null,null,{"$f":"IF(OR(ISBLANK(Table1[[#This Row],[Column21]]),ISBLANK(Table1[[#This Row],[Column22]])), \"\",Table1[[#This Row],[Column21]]*Table1[[#This Row],[Column22]])","v":""},null,null,null,null,{"$f":"IF(OR(ISBLANK(Table1[[#This Row],[Column25]]),ISBLANK(Table1[[#This Row],[Column26]])), \"\",Table1[[#This Row],[Column25]]*Table1[[#This Row],[Column26]])","v":""},null,null,null,null,{"$f":"IF(OR(ISBLANK(Table1[[#This Row],[Column30]]),ISBLANK(Table1[[#This Row],[Column31]])), \"\",Table1[[#This Row],[Column30]]*Table1[[#This Row],[Column31]])","v":""},null,null,null,null,{"$f":"IF(OR(ISBLANK(Table1[[#This Row],[Column34]]),ISBLANK(Table1[[#This Row],[Column35]])), \"\",Table1[[#This Row],[Column34]]*Table1[[#This Row],[Column35]])","v":""},null,null,null,null,{"$f":"IF(OR(ISBLANK(Table1[[#This Row],[Column39]]),ISBLANK(Table1[[#This Row],[Column40]])), \"\",Table1[[#This Row],[Column39]]*Table1[[#This Row],[Column40]])","v":""},null,null,null,null,{"$f":"IF(OR(ISBLANK(Table1[[#This Row],[Column43]]),ISBLANK(Table1[[#This Row],[Column44]])), \"\",Table1[[#This Row],[Column43]]*Table1[[#This Row],[Column44]])","v":""},null,null,null,null,{"$f":"IF(OR(ISBLANK(Table1[[#This Row],[Column48]]),ISBLANK(Table1[[#This Row],[Column49]])), \"\",Table1[[#This Row],[Column48]]*Table1[[#This Row],[Column49]])","v":""},null,null,null,null,{"$f":"IF(OR(ISBLANK(Table1[[#This Row],[Column52]]),ISBLANK(Table1[[#This Row],[Column53]])), \"\",Table1[[#This Row],[Column52]]*Table1[[#This Row],[Column53]])","v":""},null,null,null,null,{"$f":"IF(OR(ISBLANK(Table1[[#This Row],[Column57]]),ISBLANK(Table1[[#This Row],[Column58]])), \"\",Table1[[#This Row],[Column57]]*Table1[[#This Row],[Column58]])","v":""},null,null,null,null,{"$f":"IF(OR(ISBLANK(Table1[[#This Row],[Column61]]),ISBLANK(Table1[[#This Row],[Column62]])), \"\",Table1[[#This Row],[Column61]]*Table1[[#This Row],[Column62]])","v":""}]
[null,null,null,null,null,null,{"$f":"IF(OR(ISBLANK(Table1[[#This Row],[Column3]]),ISBLANK(Table1[[#This Row],[Column4]])), \"\",Table1[[#This Row],[Column3]]*Table1[[#This Row],[Column4]])","v":""},null,null,null,null,{"$f":"IF(OR(ISBLANK(Table1[[#This Row],[Column7]]),ISBLANK(Table1[[#This Row],[Column8]])), \"\",Table1[[#This Row],[Column7]]*Table1[[#This Row],[Column8]])","v":""},null,null,null,null,{"$f":"IF(OR(ISBLANK(Table1[[#This Row],[Column12]]),ISBLANK(Table1[[#This Row],[Column13]])), \"\",Table1[[#This Row],[Column12]]*Table1[[#This Row],[Column13]])","v":""},null,null,null,null,{"$f":"IF(OR(ISBLANK(Table1[[#This Row],[Column16]]),ISBLANK(Table1[[#This Row],[Column17]])), \"\",Table1[[#This Row],[Column16]]*Table1[[#This Row],[Column17]])","v":""},null,null,null,null,{"$f":"IF(OR(ISBLANK(Table1[[#This Row],[Column21]]),ISBLANK(Table1[[#This Row],[Column22]])), \"\",Table1[[#This Row],[Column21]]*Table1[[#This Row],[Column22]])","v":""},null,null,null,null,{"$f":"IF(OR(ISBLANK(Table1[[#This Row],[Column25]]),ISBLANK(Table1[[#This Row],[Column26]])), \"\",Table1[[#This Row],[Column25]]*Table1[[#This Row],[Column26]])","v":""},null,null,null,null,{"$f":"IF(OR(ISBLANK(Table1[[#This Row],[Column30]]),ISBLANK(Table1[[#This Row],[Column31]])), \"\",Table1[[#This Row],[Column30]]*Table1[[#This Row],[Column31]])","v":""},null,null,null,null,{"$f":"IF(OR(ISBLANK(Table1[[#This Row],[Column34]]),ISBLANK(Table1[[#This Row],[Column35]])), \"\",Table1[[#This Row],[Column34]]*Table1[[#This Row],[Column35]])","v":""},null,null,null,null,{"$f":"IF(OR(ISBLANK(Table1[[#This Row],[Column39]]),ISBLANK(Table1[[#This Row],[Column40]])), \"\",Table1[[#This Row],[Column39]]*Table1[[#This Row],[Column40]])","v":""},null,null,null,null,{"$f":"IF(OR(ISBLANK(Table1[[#This Row],[Column43]]),ISBLANK(Table1[[#This Row],[Column44]])), \"\",Table1[[#This Row],[Column43]]*Table1[[#This Row],[Column44]])","v":""},null,null,null,null,{"$f":"IF(OR(ISBLANK(Table1[[#This Row],[Column48]]),ISBLANK(Table1[[#This Row],[Column49]])), \"\",Table1[[#This Row],[Column48]]*Table1[[#This Row],[Column49]])","v":""},null,null,null,null,{"$f":"IF(OR(ISBLANK(Table1[[#This Row],[Column52]]),ISBLANK(Table1[[#This Row],[Column53]])), \"\",Table1[[#This Row],[Column52]]*Table1[[#This Row],[Column53]])","v":""},null,null,null,null,{"$f":"IF(OR(ISBLANK(Table1[[#This Row],[Column57]]),ISBLANK(Table1[[#This Row],[Column58]])), \"\",Table1[[#This Row],[Column57]]*Table1[[#This Row],[Column58]])","v":""},null,null,null,null,{"$f":"IF(OR(ISBLANK(Table1[[#This Row],[Column61]]),ISBLANK(Table1[[#This Row],[Column62]])), \"\",Table1[[#This Row],[Column61]]*Table1[[#This Row],[Column62]])","v":""}]
[null,null,null,null,null,null,{"$f":"IF(OR(ISBLANK(Table1[[#This Row],[Column3]]),ISBLANK(Table1[[#This Row],[Column4]])), \"\",Table1[[#This Row],[Column3]]*Table1[[#This Row],[Column4]])","v":""},null,null,null,null,{"$f":"IF(OR(ISBLANK(Table1[[#This Row],[Column7]]),ISBLANK(Table1[[#This Row],[Column8]])), \"\",Table1[[#This Row],[Column7]]*Table1[[#This Row],[Column8]])","v":""},null,null,null,null,{"$f":"IF(OR(ISBLANK(Table1[[#This Row],[Column12]]),ISBLANK(Table1[[#This Row],[Column13]])), \"\",Table1[[#This Row],[Column12]]*Table1[[#This Row],[Column13]])","v":""},null,null,null,null,{"$f":"IF(OR(ISBLANK(Table1[[#This Row],[Column16]]),ISBLANK(Table1[[#This Row],[Column17]])), \"\",Table1[[#This Row],[Column16]]*Table1[[#This Row],[Column17]])","v":""},null,null,null,null,{"$f":"IF(OR(ISBLANK(Table1[[#This Row],[Column21]]),ISBLANK(Table1[[#This Row],[Column22]])), \"\",Table1[[#This Row],[Column21]]*Table1[[#This Row],[Column22]])","v":""},null,null,null,null,{"$f":"IF(OR(ISBLANK(Table1[[#This Row],[Column25]]),ISBLANK(Table1[[#This Row],[Column26]])), \"\",Table1[[#This Row],[Column25]]*Table1[[#This Row],[Column26]])","v":""},null,null,null,null,{"$f":"IF(OR(ISBLANK(Table1[[#This Row],[Column30]]),ISBLANK(Table1[[#This Row],[Column31]])), \"\",Table1[[#This Row],[Column30]]*Table1[[#This Row],[Column31]])","v":""},null,null,null,null,{"$f":"IF(OR(ISBLANK(Table1[[#This Row],[Column34]]),ISBLANK(Table1[[#This Row],[Column35]])), \"\",Table1[[#This Row],[Column34]]*Table1[[#This Row],[Column35]])","v":""},null,null,null,null,{"$f":"IF(OR(ISBLANK(Table1[[#This Row],[Column39]]),ISBLANK(Table1[[#This Row],[Column40]])), \"\",Table1[[#This Row],[Column39]]*Table1[[#This Row],[Column40]])","v":""},null,null,null,null,{"$f":"IF(OR(ISBLANK(Table1[[#This Row],[Column43]]),ISBLANK(Table1[[#This Row],[Column44]])), \"\",Table1[[#This Row],[Column43]]*Table1[[#This Row],[Column44]])","v":""},null,null,null,null,{"$f":"IF(OR(ISBLANK(Table1[[#This Row],[Column48]]),ISBLANK(Table1[[#This Row],[Column49]])), \"\",Table1[[#This Row],[Column48]]*Table1[[#This Row],[Column49]])","v":""},null,null,null,null,{"$f":"IF(OR(ISBLANK(Table1[[#This Row],[Column52]]),ISBLANK(Table1[[#This Row],[Column53]])), \"\",Table1[[#This Row],[Column52]]*Table1[[#This Row],[Column53]])","v":""},null,null,null,null,{"$f":"IF(OR(ISBLANK(Table1[[#This Row],[Column57]]),ISBLANK(Table1[[#This Row],[Column58]])), \"\",Table1[[#This Row],[Column57]]*Table1[[#This Row],[Column58]])","v":""},null,null,null,null,{"$f":"IF(OR(ISBLANK(Table1[[#This Row],[Column61]]),ISBLANK(Table1[[#This Row],[Column62]])), \"\",Table1[[#This Row],[Column61]]*Table1[[#This Row],[Column62]])","v":""}]
[null,null,null,null,null,null,{"$f":"IF(OR(ISBLANK(Table1[[#This Row],[Column3]]),ISBLANK(Table1[[#This Row],[Column4]])), \"\",Table1[[#This Row],[Column3]]*Table1[[#This Row],[Column4]])","v":""},null,null,null,null,{"$f":"IF(OR(ISBLANK(Table1[[#This Row],[Column7]]),ISBLANK(Table1[[#This Row],[Column8]])), \"\",Table1[[#This Row],[Column7]]*Table1[[#This Row],[Column8]])","v":""},null,null,null,null,{"$f":"IF(OR(ISBLANK(Table1[[#This Row],[Column12]]),ISBLANK(Table1[[#This Row],[Column13]])), \"\",Table1[[#This Row],[Column12]]*Table1[[#This Row],[Column13]])","v":""},null,null,null,null,{"$f":"IF(OR(ISBLANK(Table1[[#This Row],[Column16]]),ISBLANK(Table1[[#This Row],[Column17]])), \"\",Table1[[#This Row],[Column16]]*Table1[[#This Row],[Column17]])","v":""},null,null,null,null,{"$f":"IF(OR(ISBLANK(Table1[[#This Row],[Column21]]),ISBLANK(Table1[[#This Row],[Column22]])), \"\",Table1[[#This Row],[Column21]]*Table1[[#This Row],[Column22]])","v":""},null,null,null,null,{"$f":"IF(OR(ISBLANK(Table1[[#This Row],[Column25]]),ISBLANK(Table1[[#This Row],[Column26]])), \"\",Table1[[#This Row],[Column25]]*Table1[[#This Row],[Column26]])","v":""},null,null,null,null,{"$f":"IF(OR(ISBLANK(Table1[[#This Row],[Column30]]),ISBLANK(Table1[[#This Row],[Column31]])), \"\",Table1[[#This Row],[Column30]]*Table1[[#This Row],[Column31]])","v":""},null,null,null,null,{"$f":"IF(OR(ISBLANK(Table1[[#This Row],[Column34]]),ISBLANK(Table1[[#This Row],[Column35]])), \"\",Table1[[#This Row],[Column34]]*Table1[[#This Row],[Column35]])","v":""},null,null,null,null,{"$f":"IF(OR(ISBLANK(Table1[[#This Row],[Column39]]),ISBLANK(Table1[[#This Row],[Column40]])), \"\",Table1[[#This Row],[Column39]]*Table1[[#This Row],[Column40]])","v":""},null,null,null,null,{"$f":"IF(OR(ISBLANK(Table1[[#This Row],[Column43]]),ISBLANK(Table1[[#This Row],[Column44]])), \"\",Table1[[#This Row],[Column43]]*Table1[[#This Row],[Column44]])","v":""},null,null,null,null,{"$f":"IF(OR(ISBLANK(Table1[[#This Row],[Column48]]),ISBLANK(Table1[[#This Row],[Column49]])), \"\",Table1[[#This Row],[Column48]]*Table1[[#This Row],[Column49]])","v":""},null,null,null,null,{"$f":"IF(OR(ISBLANK(Table1[[#This Row],[Column52]]),ISBLANK(Table1[[#This Row],[Column53]])), \"\",Table1[[#This Row],[Column52]]*Table1[[#This Row],[Column53]])","v":""},null,null,null,null,{"$f":"IF(OR(ISBLANK(Table1[[#This Row],[Column57]]),ISBLANK(Table1[[#This Row],[Column58]])), \"\",Table1[[#This Row],[Column57]]*Table1[[#This Row],[Column58]])","v":""},null,null,null,null,{"$f":"IF(OR(ISBLANK(Table1[[#This Row],[Column61]]),ISBLANK(Table1[[#This Row],[Column62]])), \"\",Table1[[#This Row],[Column61]]*Table1[[#This Row],[Column62]])","v":""}]
[null,null,null,null,null,null,{"$f":"IF(OR(ISBLANK(Table1[[#This Row],[Column3]]),ISBLANK(Table1[[#This Row],[Column4]])), \"\",Table1[[#This Row],[Column3]]*Table1[[#This Row],[Column4]])","v":""},null,null,null,null,{"$f":"IF(OR(ISBLANK(Table1[[#This Row],[Column7]]),ISBLANK(Table1[[#This Row],[Column8]])), \"\",Table1[[#This Row],[Column7]]*Table1[[#This Row],[Column8]])","v":""},null,null,null,null,{"$f":"IF(OR(ISBLANK(Table1[[#This Row],[Column12]]),ISBLANK(Table1[[#This Row],[Column13]])), \"\",Table1[[#This Row],[Column12]]*Table1[[#This Row],[Column13]])","v":""},null,null,null,null,{"$f":"IF(OR(ISBLANK(Table1[[#This Row],[Column16]]),ISBLANK(Table1[[#This Row],[Column17]])), \"\",Table1[[#This Row],[Column16]]*Table1[[#This Row],[Column17]])","v":""},null,null,null,null,{"$f":"IF(OR(ISBLANK(Table1[[#This Row],[Column21]]),ISBLANK(Table1[[#This Row],[Column22]])), \"\",Table1[[#This Row],[Column21]]*Table1[[#This Row],[Column22]])","v":""},null,null,null,null,{"$f":"IF(OR(ISBLANK(Table1[[#This Row],[Column25]]),ISBLANK(Table1[[#This Row],[Column26]])), \"\",Table1[[#This Row],[Column25]]*Table1[[#This Row],[Column26]])","v":""},null,null,null,null,{"$f":"IF(OR(ISBLANK(Table1[[#This Row],[Column30]]),ISBLANK(Table1[[#This Row],[Column31]])), \"\",Table1[[#This Row],[Column30]]*Table1[[#This Row],[Column31]])","v":""},null,null,null,null,{"$f":"IF(OR(ISBLANK(Table1[[#This Row],[Column34]]),ISBLANK(Table1[[#This Row],[Column35]])), \"\",Table1[[#This Row],[Column34]]*Table1[[#This Row],[Column35]])","v":""},null,null,null,null,{"$f":"IF(OR(ISBLANK(Table1[[#This Row],[Column39]]),ISBLANK(Table1[[#This Row],[Column40]])), \"\",Table1[[#This Row],[Column39]]*Table1[[#This Row],[Column40]])","v":""},null,null,null,null,{"$f":"IF(OR(ISBLANK(Table1[[#This Row],[Column43]]),ISBLANK(Table1[[#This Row],[Column44]])), \"\",Table1[[#This Row],[Column43]]*Table1[[#This Row],[Column44]])","v":""},null,null,null,null,{"$f":"IF(OR(ISBLANK(Table1[[#This Row],[Column48]]),ISBLANK(Table1[[#This Row],[Column49]])), \"\",Table1[[#This Row],[Column48]]*Table1[[#This Row],[Column49]])","v":""},null,null,null,null,{"$f":"IF(OR(ISBLANK(Table1[[#This Row],[Column52]]),ISBLANK(Table1[[#This Row],[Column53]])), \"\",Table1[[#This Row],[Column52]]*Table1[[#This Row],[Column53]])","v":""},null,null,null,null,{"$f":"IF(OR(ISBLANK(Table1[[#This Row],[Column57]]),ISBLANK(Table1[[#This Row],[Column58]])), \"\",Table1[[#This Row],[Column57]]*Table1[[#This Row],[Column58]])","v":""},null,null,null,null,{"$f":"IF(OR(ISBLANK(Table1[[#This Row],[Column61]]),ISBLANK(Table1[[#This Row],[Column62]])), \"\",Table1[[#This Row],[Column61]]*Table1[[#This Row],[Column62]])","v":""}]
[null,null,null,null,null,null,{"$f":"IF(OR(ISBLANK(Table1[[#This Row],[Column3]]),ISBLANK(Table1[[#This Row],[Column4]])), \"\",Table1[[#This Row],[Column3]]*Table1[[#This Row],[Column4]])","v":""},null,null,null,null,{"$f":"IF(OR(ISBLANK(Table1[[#This Row],[Column7]]),ISBLANK(Table1[[#This Row],[Column8]])), \"\",Table1[[#This Row],[Column7]]*Table1[[#This Row],[Column8]])","v":""},null,null,null,null,{"$f":"IF(OR(ISBLANK(Table1[[#This Row],[Column12]]),ISBLANK(Table1[[#This Row],[Column13]])), \"\",Table1[[#This Row],[Column12]]*Table1[[#This Row],[Column13]])","v":""},null,null,null,null,{"$f":"IF(OR(ISBLANK(Table1[[#This Row],[Column16]]),ISBLANK(Table1[[#This Row],[Column17]])), \"\",Table1[[#This Row],[Column16]]*Table1[[#This Row],[Column17]])","v":""},null,null,null,null,{"$f":"IF(OR(ISBLANK(Table1[[#This Row],[Column21]]),ISBLANK(Table1[[#This Row],[Column22]])), \"\",Table1[[#This Row],[Column21]]*Table1[[#This Row],[Column22]])","v":""},null,null,null,null,{"$f":"IF(OR(ISBLANK(Table1[[#This Row],[Column25]]),ISBLANK(Table1[[#This Row],[Column26]])), \"\",Table1[[#This Row],[Column25]]*Table1[[#This Row],[Column26]])","v":""},null,null,null,null,{"$f":"IF(OR(ISBLANK(Table1[[#This Row],[Column30]]),ISBLANK(Table1[[#This Row],[Column31]])), \"\",Table1[[#This Row],[Column30]]*Table1[[#This Row],[Column31]])","v":""},null,null,null,null,{"$f":"IF(OR(ISBLANK(Table1[[#This Row],[Column34]]),ISBLANK(Table1[[#This Row],[Column35]])), \"\",Table1[[#This Row],[Column34]]*Table1[[#This Row],[Column35]])","v":""},null,null,null,null,{"$f":"IF(OR(ISBLANK(Table1[[#This Row],[Column39]]),ISBLANK(Table1[[#This Row],[Column40]])), \"\",Table1[[#This Row],[Column39]]*Table1[[#This Row],[Column40]])","v":""},null,null,null,null,{"$f":"IF(OR(ISBLANK(Table1[[#This Row],[Column43]]),ISBLANK(Table1[[#This Row],[Column44]])), \"\",Table1[[#This Row],[Column43]]*Table1[[#This Row],[Column44]])","v":""},null,null,null,null,{"$f":"IF(OR(ISBLANK(Table1[[#This Row],[Column48]]),ISBLANK(Table1[[#This Row],[Column49]])), \"\",Table1[[#This Row],[Column48]]*Table1[[#This Row],[Column49]])","v":""},null,null,null,null,{"$f":"IF(OR(ISBLANK(Table1[[#This Row],[Column52]]),ISBLANK(Table1[[#This Row],[Column53]])), \"\",Table1[[#This Row],[Column52]]*Table1[[#This Row],[Column53]])","v":""},null,null,null,null,{"$f":"IF(OR(ISBLANK(Table1[[#This Row],[Column57]]),ISBLANK(Table1[[#This Row],[Column58]])), \"\",Table1[[#This Row],[Column57]]*Table1[[#This Row],[Column58]])","v":""},null,null,null,null,{"$f":"IF(OR(ISBLANK(Table1[[#This Row],[Column61]]),ISBLANK(Table1[[#This Row],[Column62]])), \"\",Table1[[#This Row],[Column61]]*Table1[[#This Row],[Column62]])","v":""}]
[null,null,null,null,null,null,{"$f":"IF(OR(ISBLANK(Table1[[#This Row],[Column3]]),ISBLANK(Table1[[#This Row],[Column4]])), \"\",Table1[[#This Row],[Column3]]*Table1[[#This Row],[Column4]])","v":""},null,null,null,null,{"$f":"IF(OR(ISBLANK(Table1[[#This Row],[Column7]]),ISBLANK(Table1[[#This Row],[Column8]])), \"\",Table1[[#This Row],[Column7]]*Table1[[#This Row],[Column8]])","v":""},null,null,null,null,{"$f":"IF(OR(ISBLANK(Table1[[#This Row],[Column12]]),ISBLANK(Table1[[#This Row],[Column13]])), \"\",Table1[[#This Row],[Column12]]*Table1[[#This Row],[Column13]])","v":""},null,null,null,null,{"$f":"IF(OR(ISBLANK(Table1[[#This Row],[Column16]]),ISBLANK(Table1[[#This Row],[Column17]])), \"\",Table1[[#This Row],[Column16]]*Table1[[#This Row],[Column17]])","v":""},null,null,null,null,{"$f":"IF(OR(ISBLANK(Table1[[#This Row],[Column21]]),ISBLANK(Table1[[#This Row],[Column22]])), \"\",Table1[[#This Row],[Column21]]*Table1[[#This Row],[Column22]])","v":""},null,null,null,null,{"$f":"IF(OR(ISBLANK(Table1[[#This Row],[Column25]]),ISBLANK(Table1[[#This Row],[Column26]])), \"\",Table1[[#This Row],[Column25]]*Table1[[#This Row],[Column26]])","v":""},null,null,null,null,{"$f":"IF(OR(ISBLANK(Table1[[#This Row],[Column30]]),ISBLANK(Table1[[#This Row],[Column31]])), \"\",Table1[[#This Row],[Column30]]*Table1[[#This Row],[Column31]])","v":""},null,null,null,null,{"$f":"IF(OR(ISBLANK(Table1[[#This Row],[Column34]]),ISBLANK(Table1[[#This Row],[Column35]])), \"\",Table1[[#This Row],[Column34]]*Table1[[#This Row],[Column35]])","v":""},null,null,null,null,{"$f":"IF(OR(ISBLANK(Table1[[#This Row],[Column39]]),ISBLANK(Table1[[#This Row],[Column40]])), \"\",Table1[[#This Row],[Column39]]*Table1[[#This Row],[Column40]])","v":""},null,null,null,null,{"$f":"IF(OR(ISBLANK(Table1[[#This Row],[Column43]]),ISBLANK(Table1[[#This Row],[Column44]])), \"\",Table1[[#This Row],[Column43]]*Table1[[#This Row],[Column44]])","v":""},null,null,null,null,{"$f":"IF(OR(ISBLANK(Table1[[#This Row],[Column48]]),ISBLANK(Table1[[#This Row],[Column49]])), \"\",Table1[[#This Row],[Column48]]*Table1[[#This Row],[Column49]])","v":""},null,null,null,null,{"$f":"IF(OR(ISBLANK(Table1[[#This Row],[Column52]]),ISBLANK(Table1[[#This Row],[Column53]])), \"\",Table1[[#This Row],[Column52]]*Table1[[#This Row],[Column53]])","v":""},null,null,null,null,{"$f":"IF(OR(ISBLANK(Table1[[#This Row],[Column57]]),ISBLANK(Table1[[#This Row],[Column58]])), \"\",Table1[[#This Row],[Column57]]*Table1[[#This Row],[Column58]])","v":""},null,null,null,null,{"$f":"IF(OR(ISBLANK(Table1[[#This Row],[Column61]]),ISBLANK(Table1[[#This Row],[Column62]])), \"\",Table1[[#This Row],[Column61]]*Table1[[#This Row],[Column62]])","v":""}]
[null,null,null,null,null,null,{"$f":"IF(OR(ISBLANK(Table1[[#This Row],[Column3]]),ISBLANK(Table1[[#This Row],[Column4]])), \"\",Table1[[#This Row],[Column3]]*Table1[[#This Row],[Column4]])","v":""},null,null,null,null,{"$f":"IF(OR(ISBLANK(Table1[[#This Row],[Column7]]),ISBLANK(Table1[[#This Row],[Column8]])), \"\",Table1[[#This Row],[Column7]]*Table1[[#This Row],[Column8]])","v":""},null,null,null,null,{"$f":"IF(OR(ISBLANK(Table1[[#This Row],[Column12]]),ISBLANK(Table1[[#This Row],[Column13]])), \"\",Table1[[#This Row],[Column12]]*Table1[[#This Row],[Column13]])","v":""},null,null,null,null,{"$f":"IF(OR(ISBLANK(Table1[[#This Row],[Column16]]),ISBLANK(Table1[[#This Row],[Column17]])), \"\",Table1[[#This Row],[Column16]]*Table1[[#This Row],[Column17]])","v":""},null,null,null,null,{"$f":"IF(OR(ISBLANK(Table1[[#This Row],[Column21]]),ISBLANK(Table1[[#This Row],[Column22]])), \"\",Table1[[#This Row],[Column21]]*Table1[[#This Row],[Column22]])","v":""},null,null,null,null,{"$f":"IF(OR(ISBLANK(Table1[[#This Row],[Column25]]),ISBLANK(Table1[[#This Row],[Column26]])), \"\",Table1[[#This Row],[Column25]]*Table1[[#This Row],[Column26]])","v":""},null,null,null,null,{"$f":"IF(OR(ISBLANK(Table1[[#This Row],[Column30]]),ISBLANK(Table1[[#This Row],[Column31]])), \"\",Table1[[#This Row],[Column30]]*Table1[[#This Row],[Column31]])","v":""},null,null,null,null,{"$f":"IF(OR(ISBLANK(Table1[[#This Row],[Column34]]),ISBLANK(Table1[[#This Row],[Column35]])), \"\",Table1[[#This Row],[Column34]]*Table1[[#This Row],[Column35]])","v":""},null,null,null,null,{"$f":"IF(OR(ISBLANK(Table1[[#This Row],[Column39]]),ISBLANK(Table1[[#This Row],[Column40]])), \"\",Table1[[#This Row],[Column39]]*Table1[[#This Row],[Column40]])","v":""},null,null,null,null,{"$f":"IF(OR(ISBLANK(Table1[[#This Row],[Column43]]),ISBLANK(Table1[[#This Row],[Column44]])), \"\",Table1[[#This Row],[Column43]]*Table1[[#This Row],[Column44]])","v":""},null,null,null,null,{"$f":"IF(OR(ISBLANK(Table1[[#This Row],[Column48]]),ISBLANK(Table1[[#This Row],[Column49]])), \"\",Table1[[#This Row],[Column48]]*Table1[[#This Row],[Column49]])","v":""},null,null,null,null,{"$f":"IF(OR(ISBLANK(Table1[[#This Row],[Column52]]),ISBLANK(Table1[[#This Row],[Column53]])), \"\",Table1[[#This Row],[Column52]]*Table1[[#This Row],[Column53]])","v":""},null,null,null,null,{"$f":"IF(OR(ISBLANK(Table1[[#This Row],[Column57]]),ISBLANK(Table1[[#This Row],[Column58]])), \"\",Table1[[#This Row],[Column57]]*Table1[[#This Row],[Column58]])","v":""},null,null,null,null,{"$f":"IF(OR(ISBLANK(Table1[[#This Row],[Column61]]),ISBLANK(Table1[[#This Row],[Column62]])), \"\",Table1[[#This Row],[Column61]]*Table1[[#This Row],[Column62]])","v":""}]
[null,null,null,null,null,null,{"$f":"IF(OR(ISBLANK(Table1[[#This Row],[Column3]]),ISBLANK(Table1[[#This Row],[Column4]])), \"\",Table1[[#This Row],[Column3]]*Table1[[#This Row],[Column4]])","v":""},null,null,null,null,{"$f":"IF(OR(ISBLANK(Table1[[#This Row],[Column7]]),ISBLANK(Table1[[#This Row],[Column8]])), \"\",Table1[[#This Row],[Column7]]*Table1[[#This Row],[Column8]])","v":""},null,null,null,null,{"$f":"IF(OR(ISBLANK(Table1[[#This Row],[Column12]]),ISBLANK(Table1[[#This Row],[Column13]])), \"\",Table1[[#This Row],[Column12]]*Table1[[#This Row],[Column13]])","v":""},null,null,null,null,{"$f":"IF(OR(ISBLANK(Table1[[#This Row],[Column16]]),ISBLANK(Table1[[#This Row],[Column17]])), \"\",Table1[[#This Row],[Column16]]*Table1[[#This Row],[Column17]])","v":""},null,null,null,null,{"$f":"IF(OR(ISBLANK(Table1[[#This Row],[Column21]]),ISBLANK(Table1[[#This Row],[Column22]])), \"\",Table1[[#This Row],[Column21]]*Table1[[#This Row],[Column22]])","v":""},null,null,null,null,{"$f":"IF(OR(ISBLANK(Table1[[#This Row],[Column25]]),ISBLANK(Table1[[#This Row],[Column26]])), \"\",Table1[[#This Row],[Column25]]*Table1[[#This Row],[Column26]])","v":""},null,null,null,null,{"$f":"IF(OR(ISBLANK(Table1[[#This Row],[Column30]]),ISBLANK(Table1[[#This Row],[Column31]])), \"\",Table1[[#This Row],[Column30]]*Table1[[#This Row],[Column31]])","v":""},null,null,null,null,{"$f":"IF(OR(ISBLANK(Table1[[#This Row],[Column34]]),ISBLANK(Table1[[#This Row],[Column35]])), \"\",Table1[[#This Row],[Column34]]*Table1[[#This Row],[Column35]])","v":""},null,null,null,null,{"$f":"IF(OR(ISBLANK(Table1[[#This Row],[Column39]]),ISBLANK(Table1[[#This Row],[Column40]])), \"\",Table1[[#This Row],[Column39]]*Table1[[#This Row],[Column40]])","v":""},null,null,null,null,{"$f":"IF(OR(ISBLANK(Table1[[#This Row],[Column43]]),ISBLANK(Table1[[#This Row],[Column44]])), \"\",Table1[[#This Row],[Column43]]*Table1[[#This Row],[Column44]])","v":""},null,null,null,null,{"$f":"IF(OR(ISBLANK(Table1[[#This Row],[Column48]]),ISBLANK(Table1[[#This Row],[Column49]])), \"\",Table1[[#This Row],[Column48]]*Table1[[#This Row],[Column49]])","v":""},null,null,null,null,{"$f":"IF(OR(ISBLANK(Table1[[#This Row],[Column52]]),ISBLANK(Table1[[#This Row],[Column53]])), \"\",Table1[[#This Row],[Column52]]*Table1[[#This Row],[Column53]])","v":""},null,null,null,null,{"$f":"IF(OR(ISBLANK(Table1[[#This Row],[Column57]]),ISBLANK(Table1[[#This Row],[Column58]])), \"\",Table1[[#This Row],[Column57]]*Table1[[#This Row],[Column58]])","v":""},null,null,null,null,{"$f":"IF(OR(ISBLANK(Table1[[#This Row],[Column61]]),ISBLANK(Table1[[#This Row],[Column62]])), \"\",Table1[[#This Row],[Column61]]*Table1[[#This Row],[Column62]])","v":""}]
[null,null,null,null,null,null,{"$f":"IF(OR(ISBLANK(Table1[[#This Row],[Column3]]),ISBLANK(Table1[[#This Row],[Column4]])), \"\",Table1[[#This Row],[Column3]]*Table1[[#This Row],[Column4]])","v":""},null,null,null,null,{"$f":"IF(OR(ISBLANK(Table1[[#This Row],[Column7]]),ISBLANK(Table1[[#This Row],[Column8]])), \"\",Table1[[#This Row],[Column7]]*Table1[[#This Row],[Column8]])","v":""},null,null,null,null,{"$f":"IF(OR(ISBLANK(Table1[[#This Row],[Column12]]),ISBLANK(Table1[[#This Row],[Column13]])), \"\",Table1[[#This Row],[Column12]]*Table1[[#This Row],[Column13]])","v":""},null,null,null,null,{"$f":"IF(OR(ISBLANK(Table1[[#This Row],[Column16]]),ISBLANK(Table1[[#This Row],[Column17]])), \"\",Table1[[#This Row],[Column16]]*Table1[[#This Row],[Column17]])","v":""},null,null,null,null,{"$f":"IF(OR(ISBLANK(Table1[[#This Row],[Column21]]),ISBLANK(Table1[[#This Row],[Column22]])), \"\",Table1[[#This Row],[Column21]]*Table1[[#This Row],[Column22]])","v":""},null,null,null,null,{"$f":"IF(OR(ISBLANK(Table1[[#This Row],[Column25]]),ISBLANK(Table1[[#This Row],[Column26]])), \"\",Table1[[#This Row],[Column25]]*Table1[[#This Row],[Column26]])","v":""},null,null,null,null,{"$f":"IF(OR(ISBLANK(Table1[[#This Row],[Column30]]),ISBLANK(Table1[[#This Row],[Column31]])), \"\",Table1[[#This Row],[Column30]]*Table1[[#This Row],[Column31]])","v":""},null,null,null,null,{"$f":"IF(OR(ISBLANK(Table1[[#This Row],[Column34]]),ISBLANK(Table1[[#This Row],[Column35]])), \"\",Table1[[#This Row],[Column34]]*Table1[[#This Row],[Column35]])","v":""},null,null,null,null,{"$f":"IF(OR(ISBLANK(Table1[[#This Row],[Column39]]),ISBLANK(Table1[[#This Row],[Column40]])), \"\",Table1[[#This Row],[Column39]]*Table1[[#This Row],[Column40]])","v":""},null,null,null,null,{"$f":"IF(OR(ISBLANK(Table1[[#This Row],[Column43]]),ISBLANK(Table1[[#This Row],[Column44]])), \"\",Table1[[#This Row],[Column43]]*Table1[[#This Row],[Column44]])","v":""},null,null,null,null,{"$f":"IF(OR(ISBLANK(Table1[[#This Row],[Column48]]),ISBLANK(Table1[[#This Row],[Column49]])), \"\",Table1[[#This Row],[Column48]]*Table1[[#This Row],[Column49]])","v":""},null,null,null,null,{"$f":"IF(OR(ISBLANK(Table1[[#This Row],[Column52]]),ISBLANK(Table1[[#This Row],[Column53]])), \"\",Table1[[#This Row],[Column52]]*Table1[[#This Row],[Column53]])","v":""},null,null,null,null,{"$f":"IF(OR(ISBLANK(Table1[[#This Row],[Column57]]),ISBLANK(Table1[[#This Row],[Column58]])), \"\",Table1[[#This Row],[Column57]]*Table1[[#This Row],[Column58]])","v":""},null,null,null,null,{"$f":"IF(OR(ISBLANK(Table1[[#This Row],[Column61]]),ISBLANK(Table1[[#This Row],[Column62]])), \"\",Table1[[#This Row],[Column61]]*Table1[[#This Row],[Column62]])","v":""}]
[null,null,null,null,null,null,{"$f":"IF(OR(ISBLANK(Table1[[#This Row],[Column3]]),ISBLANK(Table1[[#This Row],[Column4]])), \"\",Table1[[#This Row],[Column3]]*Table1[[#This Row],[Column4]])","v":""},null,null,null,null,{"$f":"IF(OR(ISBLANK(Table1[[#This Row],[Column7]]),ISBLANK(Table1[[#This Row],[Column8]])), \"\",Table1[[#This Row],[Column7]]*Table1[[#This Row],[Column8]])","v":""},null,null,null,null,{"$f":"IF(OR(ISBLANK(Table1[[#This Row],[Column12]]),ISBLANK(Table1[[#This Row],[Column13]])), \"\",Table1[[#This Row],[Column12]]*Table1[[#This Row],[Column13]])","v":""},null,null,null,null,{"$f":"IF(OR(ISBLANK(Table1[[#This Row],[Column16]]),ISBLANK(Table1[[#This Row],[Column17]])), \"\",Table1[[#This Row],[Column16]]*Table1[[#This Row],[Column17]])","v":""},null,null,null,null,{"$f":"IF(OR(ISBLANK(Table1[[#This Row],[Column21]]),ISBLANK(Table1[[#This Row],[Column22]])), \"\",Table1[[#This Row],[Column21]]*Table1[[#This Row],[Column22]])","v":""},null,null,null,null,{"$f":"IF(OR(ISBLANK(Table1[[#This Row],[Column25]]),ISBLANK(Table1[[#This Row],[Column26]])), \"\",Table1[[#This Row],[Column25]]*Table1[[#This Row],[Column26]])","v":""},null,null,null,null,{"$f":"IF(OR(ISBLANK(Table1[[#This Row],[Column30]]),ISBLANK(Table1[[#This Row],[Column31]])), \"\",Table1[[#This Row],[Column30]]*Table1[[#This Row],[Column31]])","v":""},null,null,null,null,{"$f":"IF(OR(ISBLANK(Table1[[#This Row],[Column34]]),ISBLANK(Table1[[#This Row],[Column35]])), \"\",Table1[[#This Row],[Column34]]*Table1[[#This Row],[Column35]])","v":""},null,null,null,null,{"$f":"IF(OR(ISBLANK(Table1[[#This Row],[Column39]]),ISBLANK(Table1[[#This Row],[Column40]])), \"\",Table1[[#This Row],[Column39]]*Table1[[#This Row],[Column40]])","v":""},null,null,null,null,{"$f":"IF(OR(ISBLANK(Table1[[#This Row],[Column43]]),ISBLANK(Table1[[#This Row],[Column44]])), \"\",Table1[[#This Row],[Column43]]*Table1[[#This Row],[Column44]])","v":""},null,null,null,null,{"$f":"IF(OR(ISBLANK(Table1[[#This Row],[Column48]]),ISBLANK(Table1[[#This Row],[Column49]])), \"\",Table1[[#This Row],[Column48]]*Table1[[#This Row],[Column49]])","v":""},null,null,null,null,{"$f":"IF(OR(ISBLANK(Table1[[#This Row],[Column52]]),ISBLANK(Table1[[#This Row],[Column53]])), \"\",Table1[[#This Row],[Column52]]*Table1[[#This Row],[Column53]])","v":""},null,null,null,null,{"$f":"IF(OR(ISBLANK(Table1[[#This Row],[Column57]]),ISBLANK(Table1[[#This Row],[Column58]])), \"\",Table1[[#This Row],[Column57]]*Table1[[#This Row],[Column58]])","v":""},null,null,null,null,{"$f":"IF(OR(ISBLANK(Table1[[#This Row],[Column61]]),ISBLANK(Table1[[#This Row],[Column62]])), \"\",Table1[[#This Row],[Column61]]*Table1[[#This Row],[Column62]])","v":""}]
[null,null,null,null,null,null,{"$f":"IF(OR(ISBLANK(Table1[[#This Row],[Column3]]),ISBLANK(Table1[[#This Row],[Column4]])), \"\",Table1[[#This Row],[Column3]]*Table1[[#This Row],[Column4]])","v":""},null,null,null,null,{"$f":"IF(OR(ISBLANK(Table1[[#This Row],[Column7]]),ISBLANK(Table1[[#This Row],[Column8]])), \"\",Table1[[#This Row],[Column7]]*Table1[[#This Row],[Column8]])","v":""},null,null,null,null,{"$f":"IF(OR(ISBLANK(Table1[[#This Row],[Column12]]),ISBLANK(Table1[[#This Row],[Column13]])), \"\",Table1[[#This Row],[Column12]]*Table1[[#This Row],[Column13]])","v":""},null,null,null,null,{"$f":"IF(OR(ISBLANK(Table1[[#This Row],[Column16]]),ISBLANK(Table1[[#This Row],[Column17]])), \"\",Table1[[#This Row],[Column16]]*Table1[[#This Row],[Column17]])","v":""},null,null,null,null,{"$f":"IF(OR(ISBLANK(Table1[[#This Row],[Column21]]),ISBLANK(Table1[[#This Row],[Column22]])), \"\",Table1[[#This Row],[Column21]]*Table1[[#This Row],[Column22]])","v":""},null,null,null,null,{"$f":"IF(OR(ISBLANK(Table1[[#This Row],[Column25]]),ISBLANK(Table1[[#This Row],[Column26]])), \"\",Table1[[#This Row],[Column25]]*Table1[[#This Row],[Column26]])","v":""},null,null,null,null,{"$f":"IF(OR(ISBLANK(Table1[[#This Row],[Column30]]),ISBLANK(Table1[[#This Row],[Column31]])), \"\",Table1[[#This Row],[Column30]]*Table1[[#This Row],[Column31]])","v":""},null,null,null,null,{"$f":"IF(OR(ISBLANK(Table1[[#This Row],[Column34]]),ISBLANK(Table1[[#This Row],[Column35]])), \"\",Table1[[#This Row],[Column34]]*Table1[[#This Row],[Column35]])","v":""},null,null,null,null,{"$f":"IF(OR(ISBLANK(Table1[[#This Row],[Column39]]),ISBLANK(Table1[[#This Row],[Column40]])), \"\",Table1[[#This Row],[Column39]]*Table1[[#This Row],[Column40]])","v":""},null,null,null,null,{"$f":"IF(OR(ISBLANK(Table1[[#This Row],[Column43]]),ISBLANK(Table1[[#This Row],[Column44]])), \"\",Table1[[#This Row],[Column43]]*Table1[[#This Row],[Column44]])","v":""},null,null,null,null,{"$f":"IF(OR(ISBLANK(Table1[[#This Row],[Column48]]),ISBLANK(Table1[[#This Row],[Column49]])), \"\",Table1[[#This Row],[Column48]]*Table1[[#This Row],[Column49]])","v":""},null,null,null,null,{"$f":"IF(OR(ISBLANK(Table1[[#This Row],[Column52]]),ISBLANK(Table1[[#This Row],[Column53]])), \"\",Table1[[#This Row],[Column52]]*Table1[[#This Row],[Column53]])","v":""},null,null,null,null,{"$f":"IF(OR(ISBLANK(Table1[[#This Row],[Column57]]),ISBLANK(Table1[[#This Row],[Column58]])), \"\",Table1[[#This Row],[Column57]]*Table1[[#This Row],[Column58]])","v":""},null,null,null,null,{"$f":"IF(OR(ISBLANK(Table1[[#This Row],[Column61]]),ISBLANK(Table1[[#This Row],[Column62]])), \"\",Table1[[#This Row],[Column61]]*Table1[[#This Row],[Column62]])","v":""}]
[null,null,null,null,null,null,{"$f":"IF(OR(ISBLANK(Table1[[#This Row],[Column3]]),ISBLANK(Table1[[#This Row],[Column4]])), \"\",Table1[[#This Row],[Column3]]*Table1[[#This Row],[Column4]])","v":""},null,null,null,null,{"$f":"IF(OR(ISBLANK(Table1[[#This Row],[Column7]]),ISBLANK(Table1[[#This Row],[Column8]])), \"\",Table1[[#This Row],[Column7]]*Table1[[#This Row],[Column8]])","v":""},null,null,null,null,{"$f":"IF(OR(ISBLANK(Table1[[#This Row],[Column12]]),ISBLANK(Table1[[#This Row],[Column13]])), \"\",Table1[[#This Row],[Column12]]*Table1[[#This Row],[Column13]])","v":""},null,null,null,null,{"$f":"IF(OR(ISBLANK(Table1[[#This Row],[Column16]]),ISBLANK(Table1[[#This Row],[Column17]])), \"\",Table1[[#This Row],[Column16]]*Table1[[#This Row],[Column17]])","v":""},null,null,null,null,{"$f":"IF(OR(ISBLANK(Table1[[#This Row],[Column21]]),ISBLANK(Table1[[#This Row],[Column22]])), \"\",Table1[[#This Row],[Column21]]*Table1[[#This Row],[Column22]])","v":""},null,null,null,null,{"$f":"IF(OR(ISBLANK(Table1[[#This Row],[Column25]]),ISBLANK(Table1[[#This Row],[Column26]])), \"\",Table1[[#This Row],[Column25]]*Table1[[#This Row],[Column26]])","v":""},null,null,null,null,{"$f":"IF(OR(ISBLANK(Table1[[#This Row],[Column30]]),ISBLANK(Table1[[#This Row],[Column31]])), \"\",Table1[[#This Row],[Column30]]*Table1[[#This Row],[Column31]])","v":""},null,null,null,null,{"$f":"IF(OR(ISBLANK(Table1[[#This Row],[Column34]]),ISBLANK(Table1[[#This Row],[Column35]])), \"\",Table1[[#This Row],[Column34]]*Table1[[#This Row],[Column35]])","v":""},null,null,null,null,{"$f":"IF(OR(ISBLANK(Table1[[#This Row],[Column39]]),ISBLANK(Table1[[#This Row],[Column40]])), \"\",Table1[[#This Row],[Column39]]*Table1[[#This Row],[Column40]])","v":""},null,null,null,null,{"$f":"IF(OR(ISBLANK(Table1[[#This Row],[Column43]]),ISBLANK(Table1[[#This Row],[Column44]])), \"\",Table1[[#This Row],[Column43]]*Table1[[#This Row],[Column44]])","v":""},null,null,null,null,{"$f":"IF(OR(ISBLANK(Table1[[#This Row],[Column48]]),ISBLANK(Table1[[#This Row],[Column49]])), \"\",Table1[[#This Row],[Column48]]*Table1[[#This Row],[Column49]])","v":""},null,null,null,null,{"$f":"IF(OR(ISBLANK(Table1[[#This Row],[Column52]]),ISBLANK(Table1[[#This Row],[Column53]])), \"\",Table1[[#This Row],[Column52]]*Table1[[#This Row],[Column53]])","v":""},null,null,null,null,{"$f":"IF(OR(ISBLANK(Table1[[#This Row],[Column57]]),ISBLANK(Table1[[#This Row],[Column58]])), \"\",Table1[[#This Row],[Column57]]*Table1[[#This Row],[Column58]])","v":""},null,null,null,null,{"$f":"IF(OR(ISBLANK(Table1[[#This Row],[Column61]]),ISBLANK(Table1[[#This Row],[Column62]])), \"\",Table1[[#This Row],[Column61]]*Table1[[#This Row],[Column62]])","v":""}]
[null,null,null,null,null,null,{"$f":"IF(OR(ISBLANK(Table1[[#This Row],[Column3]]),ISBLANK(Table1[[#This Row],[Column4]])), \"\",Table1[[#This Row],[Column3]]*Table1[[#This Row],[Column4]])","v":""},null,null,null,null,{"$f":"IF(OR(ISBLANK(Table1[[#This Row],[Column7]]),ISBLANK(Table1[[#This Row],[Column8]])), \"\",Table1[[#This Row],[Column7]]*Table1[[#This Row],[Column8]])","v":""},null,null,null,null,{"$f":"IF(OR(ISBLANK(Table1[[#This Row],[Column12]]),ISBLANK(Table1[[#This Row],[Column13]])), \"\",Table1[[#This Row],[Column12]]*Table1[[#This Row],[Column13]])","v":""},null,null,null,null,{"$f":"IF(OR(ISBLANK(Table1[[#This Row],[Column16]]),ISBLANK(Table1[[#This Row],[Column17]])), \"\",Table1[[#This Row],[Column16]]*Table1[[#This Row],[Column17]])","v":""},null,null,null,null,{"$f":"IF(OR(ISBLANK(Table1[[#This Row],[Column21]]),ISBLANK(Table1[[#This Row],[Column22]])), \"\",Table1[[#This Row],[Column21]]*Table1[[#This Row],[Column22]])","v":""},null,null,null,null,{"$f":"IF(OR(ISBLANK(Table1[[#This Row],[Column25]]),ISBLANK(Table1[[#This Row],[Column26]])), \"\",Table1[[#This Row],[Column25]]*Table1[[#This Row],[Column26]])","v":""},null,null,null,null,{"$f":"IF(OR(ISBLANK(Table1[[#This Row],[Column30]]),ISBLANK(Table1[[#This Row],[Column31]])), \"\",Table1[[#This Row],[Column30]]*Table1[[#This Row],[Column31]])","v":""},null,null,null,null,{"$f":"IF(OR(ISBLANK(Table1[[#This Row],[Column34]]),ISBLANK(Table1[[#This Row],[Column35]])), \"\",Table1[[#This Row],[Column34]]*Table1[[#This Row],[Column35]])","v":""},null,null,null,null,{"$f":"IF(OR(ISBLANK(Table1[[#This Row],[Column39]]),ISBLANK(Table1[[#This Row],[Column40]])), \"\",Table1[[#This Row],[Column39]]*Table1[[#This Row],[Column40]])","v":""},null,null,null,null,{"$f":"IF(OR(ISBLANK(Table1[[#This Row],[Column43]]),ISBLANK(Table1[[#This Row],[Column44]])), \"\",Table1[[#This Row],[Column43]]*Table1[[#This Row],[Column44]])","v":""},null,null,null,null,{"$f":"IF(OR(ISBLANK(Table1[[#This Row],[Column48]]),ISBLANK(Table1[[#This Row],[Column49]])), \"\",Table1[[#This Row],[Column48]]*Table1[[#This Row],[Column49]])","v":""},null,null,null,null,{"$f":"IF(OR(ISBLANK(Table1[[#This Row],[Column52]]),ISBLANK(Table1[[#This Row],[Column53]])), \"\",Table1[[#This Row],[Column52]]*Table1[[#This Row],[Column53]])","v":""},null,null,null,null,{"$f":"IF(OR(ISBLANK(Table1[[#This Row],[Column57]]),ISBLANK(Table1[[#This Row],[Column58]])), \"\",Table1[[#This Row],[Column57]]*Table1[[#This Row],[Column58]])","v":""},null,null,null,null,{"$f":"IF(OR(ISBLANK(Table1[[#This Row],[Column61]]),ISBLANK(Table1[[#This Row],[Column62]])), \"\",Table1[[#This Row],[Column61]]*Table1[[#This Row],[Column62]])","v":""}]
[null,null,null,null,null,null,{"$f":"IF(OR(ISBLANK(Table1[[#This Row],[Column3]]),ISBLANK(Table1[[#This Row],[Column4]])), \"\",Table1[[#This Row],[Column3]]*Table1[[#This Row],[Column4]])","v":""},null,null,null,null,{"$f":"IF(OR(ISBLANK(Table1[[#This Row],[Column7]]),ISBLANK(Table1[[#This Row],[Column8]])), \"\",Table1[[#This Row],[Column7]]*Table1[[#This Row],[Column8]])","v":""},null,null,null,null,{"$f":"IF(OR(ISBLANK(Table1[[#This Row],[Column12]]),ISBLANK(Table1[[#This Row],[Column13]])), \"\",Table1[[#This Row],[Column12]]*Table1[[#This Row],[Column13]])","v":""},null,null,null,null,{"$f":"IF(OR(ISBLANK(Table1[[#This Row],[Column16]]),ISBLANK(Table1[[#This Row],[Column17]])), \"\",Table1[[#This Row],[Column16]]*Table1[[#This Row],[Column17]])","v":""},null,null,null,null,{"$f":"IF(OR(ISBLANK(Table1[[#This Row],[Column21]]),ISBLANK(Table1[[#This Row],[Column22]])), \"\",Table1[[#This Row],[Column21]]*Table1[[#This Row],[Column22]])","v":""},null,null,null,null,{"$f":"IF(OR(ISBLANK(Table1[[#This Row],[Column25]]),ISBLANK(Table1[[#This Row],[Column26]])), \"\",Table1[[#This Row],[Column25]]*Table1[[#This Row],[Column26]])","v":""},null,null,null,null,{"$f":"IF(OR(ISBLANK(Table1[[#This Row],[Column30]]),ISBLANK(Table1[[#This Row],[Column31]])), \"\",Table1[[#This Row],[Column30]]*Table1[[#This Row],[Column31]])","v":""},null,null,null,null,{"$f":"IF(OR(ISBLANK(Table1[[#This Row],[Column34]]),ISBLANK(Table1[[#This Row],[Column35]])), \"\",Table1[[#This Row],[Column34]]*Table1[[#This Row],[Column35]])","v":""},null,null,null,null,{"$f":"IF(OR(ISBLANK(Table1[[#This Row],[Column39]]),ISBLANK(Table1[[#This Row],[Column40]])), \"\",Table1[[#This Row],[Column39]]*Table1[[#This Row],[Column40]])","v":""},null,null,null,null,{"$f":"IF(OR(ISBLANK(Table1[[#This Row],[Column43]]),ISBLANK(Table1[[#This Row],[Column44]])), \"\",Table1[[#This Row],[Column43]]*Table1[[#This Row],[Column44]])","v":""},null,null,null,null,{"$f":"IF(OR(ISBLANK(Table1[[#This Row],[Column48]]),ISBLANK(Table1[[#This Row],[Column49]])), \"\",Table1[[#This Row],[Column48]]*Table1[[#This Row],[Column49]])","v":""},null,null,null,null,{"$f":"IF(OR(ISBLANK(Table1[[#This Row],[Column52]]),ISBLANK(Table1[[#This Row],[Column53]])), \"\",Table1[[#This Row],[Column52]]*Table1[[#This Row],[Column53]])","v":""},null,null,null,null,{"$f":"IF(OR(ISBLANK(Table1[[#This Row],[Column57]]),ISBLANK(Table1[[#This Row],[Column58]])), \"\",Table1[[#This Row],[Column57]]*Table1[[#This Row],[Column58]])","v":""},null,null,null,null,{"$f":"IF(OR(ISBLANK(Table1[[#This Row],[Column61]]),ISBLANK(Table1[[#This Row],[Column62]])), \"\",Table1[[#This Row],[Column61]]*Table1[[#This Row],[Column62]])","v":""}]
[null,null,null,null,null,null,{"$f":"IF(OR(ISBLANK(Table1[[#This Row],[Column3]]),ISBLANK(Table1[[#This Row],[Column4]])), \"\",Table1[[#This Row],[Column3]]*Table1[[#This Row],[Column4]])","v":""},null,null,null,null,{"$f":"IF(OR(ISBLANK(Table1[[#This Row],[Column7]]),ISBLANK(Table1[[#This Row],[Column8]])), \"\",Table1[[#This Row],[Column7]]*Table1[[#This Row],[Column8]])","v":""},null,null,null,null,{"$f":"IF(OR(ISBLANK(Table1[[#This Row],[Column12]]),ISBLANK(Table1[[#This Row],[Column13]])), \"\",Table1[[#This Row],[Column12]]*Table1[[#This Row],[Column13]])","v":""},null,null,null,null,{"$f":"IF(OR(ISBLANK(Table1[[#This Row],[Column16]]),ISBLANK(Table1[[#This Row],[Column17]])), \"\",Table1[[#This Row],[Column16]]*Table1[[#This Row],[Column17]])","v":""},null,null,null,null,{"$f":"IF(OR(ISBLANK(Table1[[#This Row],[Column21]]),ISBLANK(Table1[[#This Row],[Column22]])), \"\",Table1[[#This Row],[Column21]]*Table1[[#This Row],[Column22]])","v":""},null,null,null,null,{"$f":"IF(OR(ISBLANK(Table1[[#This Row],[Column25]]),ISBLANK(Table1[[#This Row],[Column26]])), \"\",Table1[[#This Row],[Column25]]*Table1[[#This Row],[Column26]])","v":""},null,null,null,null,{"$f":"IF(OR(ISBLANK(Table1[[#This Row],[Column30]]),ISBLANK(Table1[[#This Row],[Column31]])), \"\",Table1[[#This Row],[Column30]]*Table1[[#This Row],[Column31]])","v":""},null,null,null,null,{"$f":"IF(OR(ISBLANK(Table1[[#This Row],[Column34]]),ISBLANK(Table1[[#This Row],[Column35]])), \"\",Table1[[#This Row],[Column34]]*Table1[[#This Row],[Column35]])","v":""},null,null,null,null,{"$f":"IF(OR(ISBLANK(Table1[[#This Row],[Column39]]),ISBLANK(Table1[[#This Row],[Column40]])), \"\",Table1[[#This Row],[Column39]]*Table1[[#This Row],[Column40]])","v":""},null,null,null,null,{"$f":"IF(OR(ISBLANK(Table1[[#This Row],[Column43]]),ISBLANK(Table1[[#This Row],[Column44]])), \"\",Table1[[#This Row],[Column43]]*Table1[[#This Row],[Column44]])","v":""},null,null,null,null,{"$f":"IF(OR(ISBLANK(Table1[[#This Row],[Column48]]),ISBLANK(Table1[[#This Row],[Column49]])), \"\",Table1[[#This Row],[Column48]]*Table1[[#This Row],[Column49]])","v":""},null,null,null,null,{"$f":"IF(OR(ISBLANK(Table1[[#This Row],[Column52]]),ISBLANK(Table1[[#This Row],[Column53]])), \"\",Table1[[#This Row],[Column52]]*Table1[[#This Row],[Column53]])","v":""},null,null,null,null,{"$f":"IF(OR(ISBLANK(Table1[[#This Row],[Column57]]),ISBLANK(Table1[[#This Row],[Column58]])), \"\",Table1[[#This Row],[Column57]]*Table1[[#This Row],[Column58]])","v":""},null,null,null,null,{"$f":"IF(OR(ISBLANK(Table1[[#This Row],[Column61]]),ISBLANK(Table1[[#This Row],[Column62]])), \"\",Table1[[#This Row],[Column61]]*Table1[[#This Row],[Column62]])","v":""}]
[null,null,null,null,null,null,{"$f":"IF(OR(ISBLANK(Table1[[#This Row],[Column3]]),ISBLANK(Table1[[#This Row],[Column4]])), \"\",Table1[[#This Row],[Column3]]*Table1[[#This Row],[Column4]])","v":""},null,null,null,null,{"$f":"IF(OR(ISBLANK(Table1[[#This Row],[Column7]]),ISBLANK(Table1[[#This Row],[Column8]])), \"\",Table1[[#This Row],[Column7]]*Table1[[#This Row],[Column8]])","v":""},null,null,null,null,{"$f":"IF(OR(ISBLANK(Table1[[#This Row],[Column12]]),ISBLANK(Table1[[#This Row],[Column13]])), \"\",Table1[[#This Row],[Column12]]*Table1[[#This Row],[Column13]])","v":""},null,null,null,null,{"$f":"IF(OR(ISBLANK(Table1[[#This Row],[Column16]]),ISBLANK(Table1[[#This Row],[Column17]])), \"\",Table1[[#This Row],[Column16]]*Table1[[#This Row],[Column17]])","v":""},null,null,null,null,{"$f":"IF(OR(ISBLANK(Table1[[#This Row],[Column21]]),ISBLANK(Table1[[#This Row],[Column22]])), \"\",Table1[[#This Row],[Column21]]*Table1[[#This Row],[Column22]])","v":""},null,null,null,null,{"$f":"IF(OR(ISBLANK(Table1[[#This Row],[Column25]]),ISBLANK(Table1[[#This Row],[Column26]])), \"\",Table1[[#This Row],[Column25]]*Table1[[#This Row],[Column26]])","v":""},null,null,null,null,{"$f":"IF(OR(ISBLANK(Table1[[#This Row],[Column30]]),ISBLANK(Table1[[#This Row],[Column31]])), \"\",Table1[[#This Row],[Column30]]*Table1[[#This Row],[Column31]])","v":""},null,null,null,null,{"$f":"IF(OR(ISBLANK(Table1[[#This Row],[Column34]]),ISBLANK(Table1[[#This Row],[Column35]])), \"\",Table1[[#This Row],[Column34]]*Table1[[#This Row],[Column35]])","v":""},null,null,null,null,{"$f":"IF(OR(ISBLANK(Table1[[#This Row],[Column39]]),ISBLANK(Table1[[#This Row],[Column40]])), \"\",Table1[[#This Row],[Column39]]*Table1[[#This Row],[Column40]])","v":""},null,null,null,null,{"$f":"IF(OR(ISBLANK(Table1[[#This Row],[Column43]]),ISBLANK(Table1[[#This Row],[Column44]])), \"\",Table1[[#This Row],[Column43]]*Table1[[#This Row],[Column44]])","v":""},null,null,null,null,{"$f":"IF(OR(ISBLANK(Table1[[#This Row],[Column48]]),ISBLANK(Table1[[#This Row],[Column49]])), \"\",Table1[[#This Row],[Column48]]*Table1[[#This Row],[Column49]])","v":""},null,null,null,null,{"$f":"IF(OR(ISBLANK(Table1[[#This Row],[Column52]]),ISBLANK(Table1[[#This Row],[Column53]])), \"\",Table1[[#This Row],[Column52]]*Table1[[#This Row],[Column53]])","v":""},null,null,null,null,{"$f":"IF(OR(ISBLANK(Table1[[#This Row],[Column57]]),ISBLANK(Table1[[#This Row],[Column58]])), \"\",Table1[[#This Row],[Column57]]*Table1[[#This Row],[Column58]])","v":""},null,null,null,null,{"$f":"IF(OR(ISBLANK(Table1[[#This Row],[Column61]]),ISBLANK(Table1[[#This Row],[Column62]])), \"\",Table1[[#This Row],[Column61]]*Table1[[#This Row],[Column62]])","v":""}]
[null,null,null,null,null,null,{"$f":"IF(OR(ISBLANK(Table1[[#This Row],[Column3]]),ISBLANK(Table1[[#This Row],[Column4]])), \"\",Table1[[#This Row],[Column3]]*Table1[[#This Row],[Column4]])","v":""},null,null,null,null,{"$f":"IF(OR(ISBLANK(Table1[[#This Row],[Column7]]),ISBLANK(Table1[[#This Row],[Column8]])), \"\",Table1[[#This Row],[Column7]]*Table1[[#This Row],[Column8]])","v":""},null,null,null,null,{"$f":"IF(OR(ISBLANK(Table1[[#This Row],[Column12]]),ISBLANK(Table1[[#This Row],[Column13]])), \"\",Table1[[#This Row],[Column12]]*Table1[[#This Row],[Column13]])","v":""},null,null,null,null,{"$f":"IF(OR(ISBLANK(Table1[[#This Row],[Column16]]),ISBLANK(Table1[[#This Row],[Column17]])), \"\",Table1[[#This Row],[Column16]]*Table1[[#This Row],[Column17]])","v":""},null,null,null,null,{"$f":"IF(OR(ISBLANK(Table1[[#This Row],[Column21]]),ISBLANK(Table1[[#This Row],[Column22]])), \"\",Table1[[#This Row],[Column21]]*Table1[[#This Row],[Column22]])","v":""},null,null,null,null,{"$f":"IF(OR(ISBLANK(Table1[[#This Row],[Column25]]),ISBLANK(Table1[[#This Row],[Column26]])), \"\",Table1[[#This Row],[Column25]]*Table1[[#This Row],[Column26]])","v":""},null,null,null,null,{"$f":"IF(OR(ISBLANK(Table1[[#This Row],[Column30]]),ISBLANK(Table1[[#This Row],[Column31]])), \"\",Table1[[#This Row],[Column30]]*Table1[[#This Row],[Column31]])","v":""},null,null,null,null,{"$f":"IF(OR(ISBLANK(Table1[[#This Row],[Column34]]),ISBLANK(Table1[[#This Row],[Column35]])), \"\",Table1[[#This Row],[Column34]]*Table1[[#This Row],[Column35]])","v":""},null,null,null,null,{"$f":"IF(OR(ISBLANK(Table1[[#This Row],[Column39]]),ISBLANK(Table1[[#This Row],[Column40]])), \"\",Table1[[#This Row],[Column39]]*Table1[[#This Row],[Column40]])","v":""},null,null,null,null,{"$f":"IF(OR(ISBLANK(Table1[[#This Row],[Column43]]),ISBLANK(Table1[[#This Row],[Column44]])), \"\",Table1[[#This Row],[Column43]]*Table1[[#This Row],[Column44]])","v":""},null,null,null,null,{"$f":"IF(OR(ISBLANK(Table1[[#This Row],[Column48]]),ISBLANK(Table1[[#This Row],[Column49]])), \"\",Table1[[#This Row],[Column48]]*Table1[[#This Row],[Column49]])","v":""},null,null,null,null,{"$f":"IF(OR(ISBLANK(Table1[[#This Row],[Column52]]),ISBLANK(Table1[[#This Row],[Column53]])), \"\",Table1[[#This Row],[Column52]]*Table1[[#This Row],[Column53]])","v":""},null,null,null,null,{"$f":"IF(OR(ISBLANK(Table1[[#This Row],[Column57]]),ISBLANK(Table1[[#This Row],[Column58]])), \"\",Table1[[#This Row],[Column57]]*Table1[[#This Row],[Column58]])","v":""},null,null,null,null,{"$f":"IF(OR(ISBLANK(Table1[[#This Row],[Column61]]),ISBLANK(Table1[[#This Row],[Column62]])), \"\",Table1[[#This Row],[Column61]]*Table1[[#This Row],[Column62]])","v":""}]
[null,null,null,null,null,null,{"$f":"IF(OR(ISBLANK(Table1[[#This Row],[Column3]]),ISBLANK(Table1[[#This Row],[Column4]])), \"\",Table1[[#This Row],[Column3]]*Table1[[#This Row],[Column4]])","v":""},null,null,null,null,{"$f":"IF(OR(ISBLANK(Table1[[#This Row],[Column7]]),ISBLANK(Table1[[#This Row],[Column8]])), \"\",Table1[[#This Row],[Column7]]*Table1[[#This Row],[Column8]])","v":""},null,null,null,null,{"$f":"IF(OR(ISBLANK(Table1[[#This Row],[Column12]]),ISBLANK(Table1[[#This Row],[Column13]])), \"\",Table1[[#This Row],[Column12]]*Table1[[#This Row],[Column13]])","v":""},null,null,null,null,{"$f":"IF(OR(ISBLANK(Table1[[#This Row],[Column16]]),ISBLANK(Table1[[#This Row],[Column17]])), \"\",Table1[[#This Row],[Column16]]*Table1[[#This Row],[Column17]])","v":""},null,null,null,null,{"$f":"IF(OR(ISBLANK(Table1[[#This Row],[Column21]]),ISBLANK(Table1[[#This Row],[Column22]])), \"\",Table1[[#This Row],[Column21]]*Table1[[#This Row],[Column22]])","v":""},null,null,null,null,{"$f":"IF(OR(ISBLANK(Table1[[#This Row],[Column25]]),ISBLANK(Table1[[#This Row],[Column26]])), \"\",Table1[[#This Row],[Column25]]*Table1[[#This Row],[Column26]])","v":""},null,null,null,null,{"$f":"IF(OR(ISBLANK(Table1[[#This Row],[Column30]]),ISBLANK(Table1[[#This Row],[Column31]])), \"\",Table1[[#This Row],[Column30]]*Table1[[#This Row],[Column31]])","v":""},null,null,null,null,{"$f":"IF(OR(ISBLANK(Table1[[#This Row],[Column34]]),ISBLANK(Table1[[#This Row],[Column35]])), \"\",Table1[[#This Row],[Column34]]*Table1[[#This Row],[Column35]])","v":""},null,null,null,null,{"$f":"IF(OR(ISBLANK(Table1[[#This Row],[Column39]]),ISBLANK(Table1[[#This Row],[Column40]])), \"\",Table1[[#This Row],[Column39]]*Table1[[#This Row],[Column40]])","v":""},null,null,null,null,{"$f":"IF(OR(ISBLANK(Table1[[#This Row],[Column43]]),ISBLANK(Table1[[#This Row],[Column44]])), \"\",Table1[[#This Row],[Column43]]*Table1[[#This Row],[Column44]])","v":""},null,null,null,null,{"$f":"IF(OR(ISBLANK(Table1[[#This Row],[Column48]]),ISBLANK(Table1[[#This Row],[Column49]])), \"\",Table1[[#This Row],[Column48]]*Table1[[#This Row],[Column49]])","v":""},null,null,null,null,{"$f":"IF(OR(ISBLANK(Table1[[#This Row],[Column52]]),ISBLANK(Table1[[#This Row],[Column53]])), \"\",Table1[[#This Row],[Column52]]*Table1[[#This Row],[Column53]])","v":""},null,null,null,null,{"$f":"IF(OR(ISBLANK(Table1[[#This Row],[Column57]]),ISBLANK(Table1[[#This Row],[Column58]])), \"\",Table1[[#This Row],[Column57]]*Table1[[#This Row],[Column58]])","v":""},null,null,null,null,{"$f":"IF(OR(ISBLANK(Table1[[#This Row],[Column61]]),ISBLANK(Table1[[#This Row],[Column62]])), \"\",Table1[[#This Row],[Column61]]*Table1[[#This Row],[Column62]])","v":""}]
[null,null,null,null,null,null,{"$f":"IF(OR(ISBLANK(Table1[[#This Row],[Column3]]),ISBLANK(Table1[[#This Row],[Column4]])), \"\",Table1[[#This Row],[Column3]]*Table1[[#This Row],[Column4]])","v":""},null,null,null,null,{"$f":"IF(OR(ISBLANK(Table1[[#This Row],[Column7]]),ISBLANK(Table1[[#This Row],[Column8]])), \"\",Table1[[#This Row],[Column7]]*Table1[[#This Row],[Column8]])","v":""},null,null,null,null,{"$f":"IF(OR(ISBLANK(Table1[[#This Row],[Column12]]),ISBLANK(Table1[[#This Row],[Column13]])), \"\",Table1[[#This Row],[Column12]]*Table1[[#This Row],[Column13]])","v":""},null,null,null,null,{"$f":"IF(OR(ISBLANK(Table1[[#This Row],[Column16]]),ISBLANK(Table1[[#This Row],[Column17]])), \"\",Table1[[#This Row],[Column16]]*Table1[[#This Row],[Column17]])","v":""},null,null,null,null,{"$f":"IF(OR(ISBLANK(Table1[[#This Row],[Column21]]),ISBLANK(Table1[[#This Row],[Column22]])), \"\",Table1[[#This Row],[Column21]]*Table1[[#This Row],[Column22]])","v":""},null,null,null,null,{"$f":"IF(OR(ISBLANK(Table1[[#This Row],[Column25]]),ISBLANK(Table1[[#This Row],[Column26]])), \"\",Table1[[#This Row],[Column25]]*Table1[[#This Row],[Column26]])","v":""},null,null,null,null,{"$f":"IF(OR(ISBLANK(Table1[[#This Row],[Column30]]),ISBLANK(Table1[[#This Row],[Column31]])), \"\",Table1[[#This Row],[Column30]]*Table1[[#This Row],[Column31]])","v":""},null,null,null,null,{"$f":"IF(OR(ISBLANK(Table1[[#This Row],[Column34]]),ISBLANK(Table1[[#This Row],[Column35]])), \"\",Table1[[#This Row],[Column34]]*Table1[[#This Row],[Column35]])","v":""},null,null,null,null,{"$f":"IF(OR(ISBLANK(Table1[[#This Row],[Column39]]),ISBLANK(Table1[[#This Row],[Column40]])), \"\",Table1[[#This Row],[Column39]]*Table1[[#This Row],[Column40]])","v":""},null,null,null,null,{"$f":"IF(OR(ISBLANK(Table1[[#This Row],[Column43]]),ISBLANK(Table1[[#This Row],[Column44]])), \"\",Table1[[#This Row],[Column43]]*Table1[[#This Row],[Column44]])","v":""},null,null,null,null,{"$f":"IF(OR(ISBLANK(Table1[[#This Row],[Column48]]),ISBLANK(Table1[[#This Row],[Column49]])), \"\",Table1[[#This Row],[Column48]]*Table1[[#This Row],[Column49]])","v":""},null,null,null,null,{"$f":"IF(OR(ISBLANK(Table1[[#This Row],[Column52]]),ISBLANK(Table1[[#This Row],[Column53]])), \"\",Table1[[#This Row],[Column52]]*Table1[[#This Row],[Column53]])","v":""},null,null,null,null,{"$f":"IF(OR(ISBLANK(Table1[[#This Row],[Column57]]),ISBLANK(Table1[[#This Row],[Column58]])), \"\",Table1[[#This Row],[Column57]]*Table1[[#This Row],[Column58]])","v":""},null,null,null,null,{"$f":"IF(OR(ISBLANK(Table1[[#This Row],[Column61]]),ISBLANK(Table1[[#This Row],[Column62]])), \"\",Table1[[#This Row],[Column61]]*Table1[[#This Row],[Column62]])","v":""}]
[null,null,null,null,null,null,{"$f":"IF(OR(ISBLANK(Table1[[#This Row],[Column3]]),ISBLANK(Table1[[#This Row],[Column4]])), \"\",Table1[[#This Row],[Column3]]*Table1[[#This Row],[Column4]])","v":""},null,null,null,null,{"$f":"IF(OR(ISBLANK(Table1[[#This Row],[Column7]]),ISBLANK(Table1[[#This Row],[Column8]])), \"\",Table1[[#This Row],[Column7]]*Table1[[#This Row],[Column8]])","v":""},null,null,null,null,{"$f":"IF(OR(ISBLANK(Table1[[#This Row],[Column12]]),ISBLANK(Table1[[#This Row],[Column13]])), \"\",Table1[[#This Row],[Column12]]*Table1[[#This Row],[Column13]])","v":""},null,null,null,null,{"$f":"IF(OR(ISBLANK(Table1[[#This Row],[Column16]]),ISBLANK(Table1[[#This Row],[Column17]])), \"\",Table1[[#This Row],[Column16]]*Table1[[#This Row],[Column17]])","v":""},null,null,null,null,{"$f":"IF(OR(ISBLANK(Table1[[#This Row],[Column21]]),ISBLANK(Table1[[#This Row],[Column22]])), \"\",Table1[[#This Row],[Column21]]*Table1[[#This Row],[Column22]])","v":""},null,null,null,null,{"$f":"IF(OR(ISBLANK(Table1[[#This Row],[Column25]]),ISBLANK(Table1[[#This Row],[Column26]])), \"\",Table1[[#This Row],[Column25]]*Table1[[#This Row],[Column26]])","v":""},null,null,null,null,{"$f":"IF(OR(ISBLANK(Table1[[#This Row],[Column30]]),ISBLANK(Table1[[#This Row],[Column31]])), \"\",Table1[[#This Row],[Column30]]*Table1[[#This Row],[Column31]])","v":""},null,null,null,null,{"$f":"IF(OR(ISBLANK(Table1[[#This Row],[Column34]]),ISBLANK(Table1[[#This Row],[Column35]])), \"\",Table1[[#This Row],[Column34]]*Table1[[#This Row],[Column35]])","v":""},null,null,null,null,{"$f":"IF(OR(ISBLANK(Table1[[#This Row],[Column39]]),ISBLANK(Table1[[#This Row],[Column40]])), \"\",Table1[[#This Row],[Column39]]*Table1[[#This Row],[Column40]])","v":""},null,null,null,null,{"$f":"IF(OR(ISBLANK(Table1[[#This Row],[Column43]]),ISBLANK(Table1[[#This Row],[Column44]])), \"\",Table1[[#This Row],[Column43]]*Table1[[#This Row],[Column44]])","v":""},null,null,null,null,{"$f":"IF(OR(ISBLANK(Table1[[#This Row],[Column48]]),ISBLANK(Table1[[#This Row],[Column49]])), \"\",Table1[[#This Row],[Column48]]*Table1[[#This Row],[Column49]])","v":""},null,null,null,null,{"$f":"IF(OR(ISBLANK(Table1[[#This Row],[Column52]]),ISBLANK(Table1[[#This Row],[Column53]])), \"\",Table1[[#This Row],[Column52]]*Table1[[#This Row],[Column53]])","v":""},null,null,null,null,{"$f":"IF(OR(ISBLANK(Table1[[#This Row],[Column57]]),ISBLANK(Table1[[#This Row],[Column58]])), \"\",Table1[[#This Row],[Column57]]*Table1[[#This Row],[Column58]])","v":""},null,null,null,null,{"$f":"IF(OR(ISBLANK(Table1[[#This Row],[Column61]]),ISBLANK(Table1[[#This Row],[Column62]])), \"\",Table1[[#This Row],[Column61]]*Table1[[#This Row],[Column62]])","v":""}]
[null,null,null,null,null,null,{"$f":"IF(OR(ISBLANK(Table1[[#This Row],[Column3]]),ISBLANK(Table1[[#This Row],[Column4]])), \"\",Table1[[#This Row],[Column3]]*Table1[[#This Row],[Column4]])","v":""},null,null,null,null,{"$f":"IF(OR(ISBLANK(Table1[[#This Row],[Column7]]),ISBLANK(Table1[[#This Row],[Column8]])), \"\",Table1[[#This Row],[Column7]]*Table1[[#This Row],[Column8]])","v":""},null,null,null,null,{"$f":"IF(OR(ISBLANK(Table1[[#This Row],[Column12]]),ISBLANK(Table1[[#This Row],[Column13]])), \"\",Table1[[#This Row],[Column12]]*Table1[[#This Row],[Column13]])","v":""},null,null,null,null,{"$f":"IF(OR(ISBLANK(Table1[[#This Row],[Column16]]),ISBLANK(Table1[[#This Row],[Column17]])), \"\",Table1[[#This Row],[Column16]]*Table1[[#This Row],[Column17]])","v":""},null,null,null,null,{"$f":"IF(OR(ISBLANK(Table1[[#This Row],[Column21]]),ISBLANK(Table1[[#This Row],[Column22]])), \"\",Table1[[#This Row],[Column21]]*Table1[[#This Row],[Column22]])","v":""},null,null,null,null,{"$f":"IF(OR(ISBLANK(Table1[[#This Row],[Column25]]),ISBLANK(Table1[[#This Row],[Column26]])), \"\",Table1[[#This Row],[Column25]]*Table1[[#This Row],[Column26]])","v":""},null,null,null,null,{"$f":"IF(OR(ISBLANK(Table1[[#This Row],[Column30]]),ISBLANK(Table1[[#This Row],[Column31]])), \"\",Table1[[#This Row],[Column30]]*Table1[[#This Row],[Column31]])","v":""},null,null,null,null,{"$f":"IF(OR(ISBLANK(Table1[[#This Row],[Column34]]),ISBLANK(Table1[[#This Row],[Column35]])), \"\",Table1[[#This Row],[Column34]]*Table1[[#This Row],[Column35]])","v":""},null,null,null,null,{"$f":"IF(OR(ISBLANK(Table1[[#This Row],[Column39]]),ISBLANK(Table1[[#This Row],[Column40]])), \"\",Table1[[#This Row],[Column39]]*Table1[[#This Row],[Column40]])","v":""},null,null,null,null,{"$f":"IF(OR(ISBLANK(Table1[[#This Row],[Column43]]),ISBLANK(Table1[[#This Row],[Column44]])), \"\",Table1[[#This Row],[Column43]]*Table1[[#This Row],[Column44]])","v":""},null,null,null,null,{"$f":"IF(OR(ISBLANK(Table1[[#This Row],[Column48]]),ISBLANK(Table1[[#This Row],[Column49]])), \"\",Table1[[#This Row],[Column48]]*Table1[[#This Row],[Column49]])","v":""},null,null,null,null,{"$f":"IF(OR(ISBLANK(Table1[[#This Row],[Column52]]),ISBLANK(Table1[[#This Row],[Column53]])), \"\",Table1[[#This Row],[Column52]]*Table1[[#This Row],[Column53]])","v":""},null,null,null,null,{"$f":"IF(OR(ISBLANK(Table1[[#This Row],[Column57]]),ISBLANK(Table1[[#This Row],[Column58]])), \"\",Table1[[#This Row],[Column57]]*Table1[[#This Row],[Column58]])","v":""},null,null,null,null,{"$f":"IF(OR(ISBLANK(Table1[[#This Row],[Column61]]),ISBLANK(Table1[[#This Row],[Column62]])), \"\",Table1[[#This Row],[Column61]]*Table1[[#This Row],[Column62]])","v":""}]
[null,null,null,null,null,null,{"$f":"IF(OR(ISBLANK(Table1[[#This Row],[Column3]]),ISBLANK(Table1[[#This Row],[Column4]])), \"\",Table1[[#This Row],[Column3]]*Table1[[#This Row],[Column4]])","v":""},null,null,null,null,{"$f":"IF(OR(ISBLANK(Table1[[#This Row],[Column7]]),ISBLANK(Table1[[#This Row],[Column8]])), \"\",Table1[[#This Row],[Column7]]*Table1[[#This Row],[Column8]])","v":""},null,null,null,null,{"$f":"IF(OR(ISBLANK(Table1[[#This Row],[Column12]]),ISBLANK(Table1[[#This Row],[Column13]])), \"\",Table1[[#This Row],[Column12]]*Table1[[#This Row],[Column13]])","v":""},null,null,null,null,{"$f":"IF(OR(ISBLANK(Table1[[#This Row],[Column16]]),ISBLANK(Table1[[#This Row],[Column17]])), \"\",Table1[[#This Row],[Column16]]*Table1[[#This Row],[Column17]])","v":""},null,null,null,null,{"$f":"IF(OR(ISBLANK(Table1[[#This Row],[Column21]]),ISBLANK(Table1[[#This Row],[Column22]])), \"\",Table1[[#This Row],[Column21]]*Table1[[#This Row],[Column22]])","v":""},null,null,null,null,{"$f":"IF(OR(ISBLANK(Table1[[#This Row],[Column25]]),ISBLANK(Table1[[#This Row],[Column26]])), \"\",Table1[[#This Row],[Column25]]*Table1[[#This Row],[Column26]])","v":""},null,null,null,null,{"$f":"IF(OR(ISBLANK(Table1[[#This Row],[Column30]]),ISBLANK(Table1[[#This Row],[Column31]])), \"\",Table1[[#This Row],[Column30]]*Table1[[#This Row],[Column31]])","v":""},null,null,null,null,{"$f":"IF(OR(ISBLANK(Table1[[#This Row],[Column34]]),ISBLANK(Table1[[#This Row],[Column35]])), \"\",Table1[[#This Row],[Column34]]*Table1[[#This Row],[Column35]])","v":""},null,null,null,null,{"$f":"IF(OR(ISBLANK(Table1[[#This Row],[Column39]]),ISBLANK(Table1[[#This Row],[Column40]])), \"\",Table1[[#This Row],[Column39]]*Table1[[#This Row],[Column40]])","v":""},null,null,null,null,{"$f":"IF(OR(ISBLANK(Table1[[#This Row],[Column43]]),ISBLANK(Table1[[#This Row],[Column44]])), \"\",Table1[[#This Row],[Column43]]*Table1[[#This Row],[Column44]])","v":""},null,null,null,null,{"$f":"IF(OR(ISBLANK(Table1[[#This Row],[Column48]]),ISBLANK(Table1[[#This Row],[Column49]])), \"\",Table1[[#This Row],[Column48]]*Table1[[#This Row],[Column49]])","v":""},null,null,null,null,{"$f":"IF(OR(ISBLANK(Table1[[#This Row],[Column52]]),ISBLANK(Table1[[#This Row],[Column53]])), \"\",Table1[[#This Row],[Column52]]*Table1[[#This Row],[Column53]])","v":""},null,null,null,null,{"$f":"IF(OR(ISBLANK(Table1[[#This Row],[Column57]]),ISBLANK(Table1[[#This Row],[Column58]])), \"\",Table1[[#This Row],[Column57]]*Table1[[#This Row],[Column58]])","v":""},null,null,null,null,{"$f":"IF(OR(ISBLANK(Table1[[#This Row],[Column61]]),ISBLANK(Table1[[#This Row],[Column62]])), \"\",Table1[[#This Row],[Column61]]*Table1[[#This Row],[Column62]])","v":""}]
[null,null,null,null,null,null,{"$f":"IF(OR(ISBLANK(Table1[[#This Row],[Column3]]),ISBLANK(Table1[[#This Row],[Column4]])), \"\",Table1[[#This Row],[Column3]]*Table1[[#This Row],[Column4]])","v":""},null,null,null,null,{"$f":"IF(OR(ISBLANK(Table1[[#This Row],[Column7]]),ISBLANK(Table1[[#This Row],[Column8]])), \"\",Table1[[#This Row],[Column7]]*Table1[[#This Row],[Column8]])","v":""},null,null,null,null,{"$f":"IF(OR(ISBLANK(Table1[[#This Row],[Column12]]),ISBLANK(Table1[[#This Row],[Column13]])), \"\",Table1[[#This Row],[Column12]]*Table1[[#This Row],[Column13]])","v":""},null,null,null,null,{"$f":"IF(OR(ISBLANK(Table1[[#This Row],[Column16]]),ISBLANK(Table1[[#This Row],[Column17]])), \"\",Table1[[#This Row],[Column16]]*Table1[[#This Row],[Column17]])","v":""},null,null,null,null,{"$f":"IF(OR(ISBLANK(Table1[[#This Row],[Column21]]),ISBLANK(Table1[[#This Row],[Column22]])), \"\",Table1[[#This Row],[Column21]]*Table1[[#This Row],[Column22]])","v":""},null,null,null,null,{"$f":"IF(OR(ISBLANK(Table1[[#This Row],[Column25]]),ISBLANK(Table1[[#This Row],[Column26]])), \"\",Table1[[#This Row],[Column25]]*Table1[[#This Row],[Column26]])","v":""},null,null,null,null,{"$f":"IF(OR(ISBLANK(Table1[[#This Row],[Column30]]),ISBLANK(Table1[[#This Row],[Column31]])), \"\",Table1[[#This Row],[Column30]]*Table1[[#This Row],[Column31]])","v":""},null,null,null,null,{"$f":"IF(OR(ISBLANK(Table1[[#This Row],[Column34]]),ISBLANK(Table1[[#This Row],[Column35]])), \"\",Table1[[#This Row],[Column34]]*Table1[[#This Row],[Column35]])","v":""},null,null,null,null,{"$f":"IF(OR(ISBLANK(Table1[[#This Row],[Column39]]),ISBLANK(Table1[[#This Row],[Column40]])), \"\",Table1[[#This Row],[Column39]]*Table1[[#This Row],[Column40]])","v":""},null,null,null,null,{"$f":"IF(OR(ISBLANK(Table1[[#This Row],[Column43]]),ISBLANK(Table1[[#This Row],[Column44]])), \"\",Table1[[#This Row],[Column43]]*Table1[[#This Row],[Column44]])","v":""},null,null,null,null,{"$f":"IF(OR(ISBLANK(Table1[[#This Row],[Column48]]),ISBLANK(Table1[[#This Row],[Column49]])), \"\",Table1[[#This Row],[Column48]]*Table1[[#This Row],[Column49]])","v":""},null,null,null,null,{"$f":"IF(OR(ISBLANK(Table1[[#This Row],[Column52]]),ISBLANK(Table1[[#This Row],[Column53]])), \"\",Table1[[#This Row],[Column52]]*Table1[[#This Row],[Column53]])","v":""},null,null,null,null,{"$f":"IF(OR(ISBLANK(Table1[[#This Row],[Column57]]),ISBLANK(Table1[[#This Row],[Column58]])), \"\",Table1[[#This Row],[Column57]]*Table1[[#This Row],[Column58]])","v":""},null,null,null,null,{"$f":"IF(OR(ISBLANK(Table1[[#This Row],[Column61]]),ISBLANK(Table1[[#This Row],[Column62]])), \"\",Table1[[#This Row],[Column61]]*Table1[[#This Row],[Column62]])","v":""}]
[null,null,null,null,null,null,{"$f":"IF(OR(ISBLANK(Table1[[#This Row],[Column3]]),ISBLANK(Table1[[#This Row],[Column4]])), \"\",Table1[[#This Row],[Column3]]*Table1[[#This Row],[Column4]])","v":""},null,null,null,null,{"$f":"IF(OR(ISBLANK(Table1[[#This Row],[Column7]]),ISBLANK(Table1[[#This Row],[Column8]])), \"\",Table1[[#This Row],[Column7]]*Table1[[#This Row],[Column8]])","v":""},null,null,null,null,{"$f":"IF(OR(ISBLANK(Table1[[#This Row],[Column12]]),ISBLANK(Table1[[#This Row],[Column13]])), \"\",Table1[[#This Row],[Column12]]*Table1[[#This Row],[Column13]])","v":""},null,null,null,null,{"$f":"IF(OR(ISBLANK(Table1[[#This Row],[Column16]]),ISBLANK(Table1[[#This Row],[Column17]])), \"\",Table1[[#This Row],[Column16]]*Table1[[#This Row],[Column17]])","v":""},null,null,null,null,{"$f":"IF(OR(ISBLANK(Table1[[#This Row],[Column21]]),ISBLANK(Table1[[#This Row],[Column22]])), \"\",Table1[[#This Row],[Column21]]*Table1[[#This Row],[Column22]])","v":""},null,null,null,null,{"$f":"IF(OR(ISBLANK(Table1[[#This Row],[Column25]]),ISBLANK(Table1[[#This Row],[Column26]])), \"\",Table1[[#This Row],[Column25]]*Table1[[#This Row],[Column26]])","v":""},null,null,null,null,{"$f":"IF(OR(ISBLANK(Table1[[#This Row],[Column30]]),ISBLANK(Table1[[#This Row],[Column31]])), \"\",Table1[[#This Row],[Column30]]*Table1[[#This Row],[Column31]])","v":""},null,null,null,null,{"$f":"IF(OR(ISBLANK(Table1[[#This Row],[Column34]]),ISBLANK(Table1[[#This Row],[Column35]])), \"\",Table1[[#This Row],[Column34]]*Table1[[#This Row],[Column35]])","v":""},null,null,null,null,{"$f":"IF(OR(ISBLANK(Table1[[#This Row],[Column39]]),ISBLANK(Table1[[#This Row],[Column40]])), \"\",Table1[[#This Row],[Column39]]*Table1[[#This Row],[Column40]])","v":""},null,null,null,null,{"$f":"IF(OR(ISBLANK(Table1[[#This Row],[Column43]]),ISBLANK(Table1[[#This Row],[Column44]])), \"\",Table1[[#This Row],[Column43]]*Table1[[#This Row],[Column44]])","v":""},null,null,null,null,{"$f":"IF(OR(ISBLANK(Table1[[#This Row],[Column48]]),ISBLANK(Table1[[#This Row],[Column49]])), \"\",Table1[[#This Row],[Column48]]*Table1[[#This Row],[Column49]])","v":""},null,null,null,null,{"$f":"IF(OR(ISBLANK(Table1[[#This Row],[Column52]]),ISBLANK(Table1[[#This Row],[Column53]])), \"\",Table1[[#This Row],[Column52]]*Table1[[#This Row],[Column53]])","v":""},null,null,null,null,{"$f":"IF(OR(ISBLANK(Table1[[#This Row],[Column57]]),ISBLANK(Table1[[#This Row],[Column58]])), \"\",Table1[[#This Row],[Column57]]*Table1[[#This Row],[Column58]])","v":""},null,null,null,null,{"$f":"IF(OR(ISBLANK(Table1[[#This Row],[Column61]]),ISBLANK(Table1[[#This Row],[Column62]])), \"\",Table1[[#This Row],[Column61]]*Table1[[#This Row],[Column62]])","v":""}]
[null,null,null,null,null,null,{"$f":"IF(OR(ISBLANK(Table1[[#This Row],[Column3]]),ISBLANK(Table1[[#This Row],[Column4]])), \"\",Table1[[#This Row],[Column3]]*Table1[[#This Row],[Column4]])","v":""},null,null,null,null,{"$f":"IF(OR(ISBLANK(Table1[[#This Row],[Column7]]),ISBLANK(Table1[[#This Row],[Column8]])), \"\",Table1[[#This Row],[Column7]]*Table1[[#This Row],[Column8]])","v":""},null,null,null,null,{"$f":"IF(OR(ISBLANK(Table1[[#This Row],[Column12]]),ISBLANK(Table1[[#This Row],[Column13]])), \"\",Table1[[#This Row],[Column12]]*Table1[[#This Row],[Column13]])","v":""},null,null,null,null,{"$f":"IF(OR(ISBLANK(Table1[[#This Row],[Column16]]),ISBLANK(Table1[[#This Row],[Column17]])), \"\",Table1[[#This Row],[Column16]]*Table1[[#This Row],[Column17]])","v":""},null,null,null,null,{"$f":"IF(OR(ISBLANK(Table1[[#This Row],[Column21]]),ISBLANK(Table1[[#This Row],[Column22]])), \"\",Table1[[#This Row],[Column21]]*Table1[[#This Row],[Column22]])","v":""},null,null,null,null,{"$f":"IF(OR(ISBLANK(Table1[[#This Row],[Column25]]),ISBLANK(Table1[[#This Row],[Column26]])), \"\",Table1[[#This Row],[Column25]]*Table1[[#This Row],[Column26]])","v":""},null,null,null,null,{"$f":"IF(OR(ISBLANK(Table1[[#This Row],[Column30]]),ISBLANK(Table1[[#This Row],[Column31]])), \"\",Table1[[#This Row],[Column30]]*Table1[[#This Row],[Column31]])","v":""},null,null,null,null,{"$f":"IF(OR(ISBLANK(Table1[[#This Row],[Column34]]),ISBLANK(Table1[[#This Row],[Column35]])), \"\",Table1[[#This Row],[Column34]]*Table1[[#This Row],[Column35]])","v":""},null,null,null,null,{"$f":"IF(OR(ISBLANK(Table1[[#This Row],[Column39]]),ISBLANK(Table1[[#This Row],[Column40]])), \"\",Table1[[#This Row],[Column39]]*Table1[[#This Row],[Column40]])","v":""},null,null,null,null,{"$f":"IF(OR(ISBLANK(Table1[[#This Row],[Column43]]),ISBLANK(Table1[[#This Row],[Column44]])), \"\",Table1[[#This Row],[Column43]]*Table1[[#This Row],[Column44]])","v":""},null,null,null,null,{"$f":"IF(OR(ISBLANK(Table1[[#This Row],[Column48]]),ISBLANK(Table1[[#This Row],[Column49]])), \"\",Table1[[#This Row],[Column48]]*Table1[[#This Row],[Column49]])","v":""},null,null,null,null,{"$f":"IF(OR(ISBLANK(Table1[[#This Row],[Column52]]),ISBLANK(Table1[[#This Row],[Column53]])), \"\",Table1[[#This Row],[Column52]]*Table1[[#This Row],[Column53]])","v":""},null,null,null,null,{"$f":"IF(OR(ISBLANK(Table1[[#This Row],[Column57]]),ISBLANK(Table1[[#This Row],[Column58]])), \"\",Table1[[#This Row],[Column57]]*Table1[[#This Row],[Column58]])","v":""},null,null,null,null,{"$f":"IF(OR(ISBLANK(Table1[[#This Row],[Column61]]),ISBLANK(Table1[[#This Row],[Column62]])), \"\",Table1[[#This Row],[Column61]]*Table1[[#This Row],[Column62]])","v":""}]
[null,null,null,null,null,null,{"$f":"IF(OR(ISBLANK(Table1[[#This Row],[Column3]]),ISBLANK(Table1[[#This Row],[Column4]])), \"\",Table1[[#This Row],[Column3]]*Table1[[#This Row],[Column4]])","v":""},null,null,null,null,{"$f":"IF(OR(ISBLANK(Table1[[#This Row],[Column7]]),ISBLANK(Table1[[#This Row],[Column8]])), \"\",Table1[[#This Row],[Column7]]*Table1[[#This Row],[Column8]])","v":""},null,null,null,null,{"$f":"IF(OR(ISBLANK(Table1[[#This Row],[Column12]]),ISBLANK(Table1[[#This Row],[Column13]])), \"\",Table1[[#This Row],[Column12]]*Table1[[#This Row],[Column13]])","v":""},null,null,null,null,{"$f":"IF(OR(ISBLANK(Table1[[#This Row],[Column16]]),ISBLANK(Table1[[#This Row],[Column17]])), \"\",Table1[[#This Row],[Column16]]*Table1[[#This Row],[Column17]])","v":""},null,null,null,null,{"$f":"IF(OR(ISBLANK(Table1[[#This Row],[Column21]]),ISBLANK(Table1[[#This Row],[Column22]])), \"\",Table1[[#This Row],[Column21]]*Table1[[#This Row],[Column22]])","v":""},null,null,null,null,{"$f":"IF(OR(ISBLANK(Table1[[#This Row],[Column25]]),ISBLANK(Table1[[#This Row],[Column26]])), \"\",Table1[[#This Row],[Column25]]*Table1[[#This Row],[Column26]])","v":""},null,null,null,null,{"$f":"IF(OR(ISBLANK(Table1[[#This Row],[Column30]]),ISBLANK(Table1[[#This Row],[Column31]])), \"\",Table1[[#This Row],[Column30]]*Table1[[#This Row],[Column31]])","v":""},null,null,null,null,{"$f":"IF(OR(ISBLANK(Table1[[#This Row],[Column34]]),ISBLANK(Table1[[#This Row],[Column35]])), \"\",Table1[[#This Row],[Column34]]*Table1[[#This Row],[Column35]])","v":""},null,null,null,null,{"$f":"IF(OR(ISBLANK(Table1[[#This Row],[Column39]]),ISBLANK(Table1[[#This Row],[Column40]])), \"\",Table1[[#This Row],[Column39]]*Table1[[#This Row],[Column40]])","v":""},null,null,null,null,{"$f":"IF(OR(ISBLANK(Table1[[#This Row],[Column43]]),ISBLANK(Table1[[#This Row],[Column44]])), \"\",Table1[[#This Row],[Column43]]*Table1[[#This Row],[Column44]])","v":""},null,null,null,null,{"$f":"IF(OR(ISBLANK(Table1[[#This Row],[Column48]]),ISBLANK(Table1[[#This Row],[Column49]])), \"\",Table1[[#This Row],[Column48]]*Table1[[#This Row],[Column49]])","v":""},null,null,null,null,{"$f":"IF(OR(ISBLANK(Table1[[#This Row],[Column52]]),ISBLANK(Table1[[#This Row],[Column53]])), \"\",Table1[[#This Row],[Column52]]*Table1[[#This Row],[Column53]])","v":""},null,null,null,null,{"$f":"IF(OR(ISBLANK(Table1[[#This Row],[Column57]]),ISBLANK(Table1[[#This Row],[Column58]])), \"\",Table1[[#This Row],[Column57]]*Table1[[#This Row],[Column58]])","v":""},null,null,null,null,{"$f":"IF(OR(ISBLANK(Table1[[#This Row],[Column61]]),ISBLANK(Table1[[#This Row],[Column62]])), \"\",Table1[[#This Row],[Column61]]*Table1[[#This Row],[Column62]])","v":""}]
[null,null,null,null,null,null,{"$f":"IF(OR(ISBLANK(Table1[[#This Row],[Column3]]),ISBLANK(Table1[[#This Row],[Column4]])), \"\",Table1[[#This Row],[Column3]]*Table1[[#This Row],[Column4]])","v":""},null,null,null,null,{"$f":"IF(OR(ISBLANK(Table1[[#This Row],[Column7]]),ISBLANK(Table1[[#This Row],[Column8]])), \"\",Table1[[#This Row],[Column7]]*Table1[[#This Row],[Column8]])","v":""},null,null,null,null,{"$f":"IF(OR(ISBLANK(Table1[[#This Row],[Column12]]),ISBLANK(Table1[[#This Row],[Column13]])), \"\",Table1[[#This Row],[Column12]]*Table1[[#This Row],[Column13]])","v":""},null,null,null,null,{"$f":"IF(OR(ISBLANK(Table1[[#This Row],[Column16]]),ISBLANK(Table1[[#This Row],[Column17]])), \"\",Table1[[#This Row],[Column16]]*Table1[[#This Row],[Column17]])","v":""},null,null,null,null,{"$f":"IF(OR(ISBLANK(Table1[[#This Row],[Column21]]),ISBLANK(Table1[[#This Row],[Column22]])), \"\",Table1[[#This Row],[Column21]]*Table1[[#This Row],[Column22]])","v":""},null,null,null,null,{"$f":"IF(OR(ISBLANK(Table1[[#This Row],[Column25]]),ISBLANK(Table1[[#This Row],[Column26]])), \"\",Table1[[#This Row],[Column25]]*Table1[[#This Row],[Column26]])","v":""},null,null,null,null,{"$f":"IF(OR(ISBLANK(Table1[[#This Row],[Column30]]),ISBLANK(Table1[[#This Row],[Column31]])), \"\",Table1[[#This Row],[Column30]]*Table1[[#This Row],[Column31]])","v":""},null,null,null,null,{"$f":"IF(OR(ISBLANK(Table1[[#This Row],[Column34]]),ISBLANK(Table1[[#This Row],[Column35]])), \"\",Table1[[#This Row],[Column34]]*Table1[[#This Row],[Column35]])","v":""},null,null,null,null,{"$f":"IF(OR(ISBLANK(Table1[[#This Row],[Column39]]),ISBLANK(Table1[[#This Row],[Column40]])), \"\",Table1[[#This Row],[Column39]]*Table1[[#This Row],[Column40]])","v":""},null,null,null,null,{"$f":"IF(OR(ISBLANK(Table1[[#This Row],[Column43]]),ISBLANK(Table1[[#This Row],[Column44]])), \"\",Table1[[#This Row],[Column43]]*Table1[[#This Row],[Column44]])","v":""},null,null,null,null,{"$f":"IF(OR(ISBLANK(Table1[[#This Row],[Column48]]),ISBLANK(Table1[[#This Row],[Column49]])), \"\",Table1[[#This Row],[Column48]]*Table1[[#This Row],[Column49]])","v":""},null,null,null,null,{"$f":"IF(OR(ISBLANK(Table1[[#This Row],[Column52]]),ISBLANK(Table1[[#This Row],[Column53]])), \"\",Table1[[#This Row],[Column52]]*Table1[[#This Row],[Column53]])","v":""},null,null,null,null,{"$f":"IF(OR(ISBLANK(Table1[[#This Row],[Column57]]),ISBLANK(Table1[[#This Row],[Column58]])), \"\",Table1[[#This Row],[Column57]]*Table1[[#This Row],[Column58]])","v":""},null,null,null,null,{"$f":"IF(OR(ISBLANK(Table1[[#This Row],[Column61]]),ISBLANK(Table1[[#This Row],[Column62]])), \"\",Table1[[#This Row],[Column61]]*Table1[[#This Row],[Column62]])","v":""}]
[null,null,null,null,null,null,{"$f":"IF(OR(ISBLANK(Table1[[#This Row],[Column3]]),ISBLANK(Table1[[#This Row],[Column4]])), \"\",Table1[[#This Row],[Column3]]*Table1[[#This Row],[Column4]])","v":""},null,null,null,null,{"$f":"IF(OR(ISBLANK(Table1[[#This Row],[Column7]]),ISBLANK(Table1[[#This Row],[Column8]])), \"\",Table1[[#This Row],[Column7]]*Table1[[#This Row],[Column8]])","v":""},null,null,null,null,{"$f":"IF(OR(ISBLANK(Table1[[#This Row],[Column12]]),ISBLANK(Table1[[#This Row],[Column13]])), \"\",Table1[[#This Row],[Column12]]*Table1[[#This Row],[Column13]])","v":""},null,null,null,null,{"$f":"IF(OR(ISBLANK(Table1[[#This Row],[Column16]]),ISBLANK(Table1[[#This Row],[Column17]])), \"\",Table1[[#This Row],[Column16]]*Table1[[#This Row],[Column17]])","v":""},null,null,null,null,{"$f":"IF(OR(ISBLANK(Table1[[#This Row],[Column21]]),ISBLANK(Table1[[#This Row],[Column22]])), \"\",Table1[[#This Row],[Column21]]*Table1[[#This Row],[Column22]])","v":""},null,null,null,null,{"$f":"IF(OR(ISBLANK(Table1[[#This Row],[Column25]]),ISBLANK(Table1[[#This Row],[Column26]])), \"\",Table1[[#This Row],[Column25]]*Table1[[#This Row],[Column26]])","v":""},null,null,null,null,{"$f":"IF(OR(ISBLANK(Table1[[#This Row],[Column30]]),ISBLANK(Table1[[#This Row],[Column31]])), \"\",Table1[[#This Row],[Column30]]*Table1[[#This Row],[Column31]])","v":""},null,null,null,null,{"$f":"IF(OR(ISBLANK(Table1[[#This Row],[Column34]]),ISBLANK(Table1[[#This Row],[Column35]])), \"\",Table1[[#This Row],[Column34]]*Table1[[#This Row],[Column35]])","v":""},null,null,null,null,{"$f":"IF(OR(ISBLANK(Table1[[#This Row],[Column39]]),ISBLANK(Table1[[#This Row],[Column40]])), \"\",Table1[[#This Row],[Column39]]*Table1[[#This Row],[Column40]])","v":""},null,null,null,null,{"$f":"IF(OR(ISBLANK(Table1[[#This Row],[Column43]]),ISBLANK(Table1[[#This Row],[Column44]])), \"\",Table1[[#This Row],[Column43]]*Table1[[#This Row],[Column44]])","v":""},null,null,null,null,{"$f":"IF(OR(ISBLANK(Table1[[#This Row],[Column48]]),ISBLANK(Table1[[#This Row],[Column49]])), \"\",Table1[[#This Row],[Column48]]*Table1[[#This Row],[Column49]])","v":""},null,null,null,null,{"$f":"IF(OR(ISBLANK(Table1[[#This Row],[Column52]]),ISBLANK(Table1[[#This Row],[Column53]])), \"\",Table1[[#This Row],[Column52]]*Table1[[#This Row],[Column53]])","v":""},null,null,null,null,{"$f":"IF(OR(ISBLANK(Table1[[#This Row],[Column57]]),ISBLANK(Table1[[#This Row],[Column58]])), \"\",Table1[[#This Row],[Column57]]*Table1[[#This Row],[Column58]])","v":""},null,null,null,null,{"$f":"IF(OR(ISBLANK(Table1[[#This Row],[Column61]]),ISBLANK(Table1[[#This Row],[Column62]])), \"\",Table1[[#This Row],[Column61]]*Table1[[#This Row],[Column62]])","v":""}]
[null,null,null,null,null,null,{"$f":"IF(OR(ISBLANK(Table1[[#This Row],[Column3]]),ISBLANK(Table1[[#This Row],[Column4]])), \"\",Table1[[#This Row],[Column3]]*Table1[[#This Row],[Column4]])","v":""},null,null,null,null,{"$f":"IF(OR(ISBLANK(Table1[[#This Row],[Column7]]),ISBLANK(Table1[[#This Row],[Column8]])), \"\",Table1[[#This Row],[Column7]]*Table1[[#This Row],[Column8]])","v":""},null,null,null,null,{"$f":"IF(OR(ISBLANK(Table1[[#This Row],[Column12]]),ISBLANK(Table1[[#This Row],[Column13]])), \"\",Table1[[#This Row],[Column12]]*Table1[[#This Row],[Column13]])","v":""},null,null,null,null,{"$f":"IF(OR(ISBLANK(Table1[[#This Row],[Column16]]),ISBLANK(Table1[[#This Row],[Column17]])), \"\",Table1[[#This Row],[Column16]]*Table1[[#This Row],[Column17]])","v":""},null,null,null,null,{"$f":"IF(OR(ISBLANK(Table1[[#This Row],[Column21]]),ISBLANK(Table1[[#This Row],[Column22]])), \"\",Table1[[#This Row],[Column21]]*Table1[[#This Row],[Column22]])","v":""},null,null,null,null,{"$f":"IF(OR(ISBLANK(Table1[[#This Row],[Column25]]),ISBLANK(Table1[[#This Row],[Column26]])), \"\",Table1[[#This Row],[Column25]]*Table1[[#This Row],[Column26]])","v":""},null,null,null,null,{"$f":"IF(OR(ISBLANK(Table1[[#This Row],[Column30]]),ISBLANK(Table1[[#This Row],[Column31]])), \"\",Table1[[#This Row],[Column30]]*Table1[[#This Row],[Column31]])","v":""},null,null,null,null,{"$f":"IF(OR(ISBLANK(Table1[[#This Row],[Column34]]),ISBLANK(Table1[[#This Row],[Column35]])), \"\",Table1[[#This Row],[Column34]]*Table1[[#This Row],[Column35]])","v":""},null,null,null,null,{"$f":"IF(OR(ISBLANK(Table1[[#This Row],[Column39]]),ISBLANK(Table1[[#This Row],[Column40]])), \"\",Table1[[#This Row],[Column39]]*Table1[[#This Row],[Column40]])","v":""},null,null,null,null,{"$f":"IF(OR(ISBLANK(Table1[[#This Row],[Column43]]),ISBLANK(Table1[[#This Row],[Column44]])), \"\",Table1[[#This Row],[Column43]]*Table1[[#This Row],[Column44]])","v":""},null,null,null,null,{"$f":"IF(OR(ISBLANK(Table1[[#This Row],[Column48]]),ISBLANK(Table1[[#This Row],[Column49]])), \"\",Table1[[#This Row],[Column48]]*Table1[[#This Row],[Column49]])","v":""},null,null,null,null,{"$f":"IF(OR(ISBLANK(Table1[[#This Row],[Column52]]),ISBLANK(Table1[[#This Row],[Column53]])), \"\",Table1[[#This Row],[Column52]]*Table1[[#This Row],[Column53]])","v":""},null,null,null,null,{"$f":"IF(OR(ISBLANK(Table1[[#This Row],[Column57]]),ISBLANK(Table1[[#This Row],[Column58]])), \"\",Table1[[#This Row],[Column57]]*Table1[[#This Row],[Column58]])","v":""},null,null,null,null,{"$f":"IF(OR(ISBLANK(Table1[[#This Row],[Column61]]),ISBLANK(Table1[[#This Row],[Column62]])), \"\",Table1[[#This Row],[Column61]]*Table1[[#This Row],[Column62]])","v":""}]
[null,null,null,null,null,null,{"$f":"IF(OR(ISBLANK(Table1[[#This Row],[Column3]]),ISBLANK(Table1[[#This Row],[Column4]])), \"\",Table1[[#This Row],[Column3]]*Table1[[#This Row],[Column4]])","v":""},null,null,null,null,{"$f":"IF(OR(ISBLANK(Table1[[#This Row],[Column7]]),ISBLANK(Table1[[#This Row],[Column8]])), \"\",Table1[[#This Row],[Column7]]*Table1[[#This Row],[Column8]])","v":""},null,null,null,null,{"$f":"IF(OR(ISBLANK(Table1[[#This Row],[Column12]]),ISBLANK(Table1[[#This Row],[Column13]])), \"\",Table1[[#This Row],[Column12]]*Table1[[#This Row],[Column13]])","v":""},null,null,null,null,{"$f":"IF(OR(ISBLANK(Table1[[#This Row],[Column16]]),ISBLANK(Table1[[#This Row],[Column17]])), \"\",Table1[[#This Row],[Column16]]*Table1[[#This Row],[Column17]])","v":""},null,null,null,null,{"$f":"IF(OR(ISBLANK(Table1[[#This Row],[Column21]]),ISBLANK(Table1[[#This Row],[Column22]])), \"\",Table1[[#This Row],[Column21]]*Table1[[#This Row],[Column22]])","v":""},null,null,null,null,{"$f":"IF(OR(ISBLANK(Table1[[#This Row],[Column25]]),ISBLANK(Table1[[#This Row],[Column26]])), \"\",Table1[[#This Row],[Column25]]*Table1[[#This Row],[Column26]])","v":""},null,null,null,null,{"$f":"IF(OR(ISBLANK(Table1[[#This Row],[Column30]]),ISBLANK(Table1[[#This Row],[Column31]])), \"\",Table1[[#This Row],[Column30]]*Table1[[#This Row],[Column31]])","v":""},null,null,null,null,{"$f":"IF(OR(ISBLANK(Table1[[#This Row],[Column34]]),ISBLANK(Table1[[#This Row],[Column35]])), \"\",Table1[[#This Row],[Column34]]*Table1[[#This Row],[Column35]])","v":""},null,null,null,null,{"$f":"IF(OR(ISBLANK(Table1[[#This Row],[Column39]]),ISBLANK(Table1[[#This Row],[Column40]])), \"\",Table1[[#This Row],[Column39]]*Table1[[#This Row],[Column40]])","v":""},null,null,null,null,{"$f":"IF(OR(ISBLANK(Table1[[#This Row],[Column43]]),ISBLANK(Table1[[#This Row],[Column44]])), \"\",Table1[[#This Row],[Column43]]*Table1[[#This Row],[Column44]])","v":""},null,null,null,null,{"$f":"IF(OR(ISBLANK(Table1[[#This Row],[Column48]]),ISBLANK(Table1[[#This Row],[Column49]])), \"\",Table1[[#This Row],[Column48]]*Table1[[#This Row],[Column49]])","v":""},null,null,null,null,{"$f":"IF(OR(ISBLANK(Table1[[#This Row],[Column52]]),ISBLANK(Table1[[#This Row],[Column53]])), \"\",Table1[[#This Row],[Column52]]*Table1[[#This Row],[Column53]])","v":""},null,null,null,null,{"$f":"IF(OR(ISBLANK(Table1[[#This Row],[Column57]]),ISBLANK(Table1[[#This Row],[Column58]])), \"\",Table1[[#This Row],[Column57]]*Table1[[#This Row],[Column58]])","v":""},null,null,null,null,{"$f":"IF(OR(ISBLANK(Table1[[#This Row],[Column61]]),ISBLANK(Table1[[#This Row],[Column62]])), \"\",Table1[[#This Row],[Column61]]*Table1[[#This Row],[Column62]])","v":""}]
[null,null,null,null,null,null,{"$f":"IF(OR(ISBLANK(Table1[[#This Row],[Column3]]),ISBLANK(Table1[[#This Row],[Column4]])), \"\",Table1[[#This Row],[Column3]]*Table1[[#This Row],[Column4]])","v":""},null,null,null,null,{"$f":"IF(OR(ISBLANK(Table1[[#This Row],[Column7]]),ISBLANK(Table1[[#This Row],[Column8]])), \"\",Table1[[#This Row],[Column7]]*Table1[[#This Row],[Column8]])","v":""},null,null,null,null,{"$f":"IF(OR(ISBLANK(Table1[[#This Row],[Column12]]),ISBLANK(Table1[[#This Row],[Column13]])), \"\",Table1[[#This Row],[Column12]]*Table1[[#This Row],[Column13]])","v":""},null,null,null,null,{"$f":"IF(OR(ISBLANK(Table1[[#This Row],[Column16]]),ISBLANK(Table1[[#This Row],[Column17]])), \"\",Table1[[#This Row],[Column16]]*Table1[[#This Row],[Column17]])","v":""},null,null,null,null,{"$f":"IF(OR(ISBLANK(Table1[[#This Row],[Column21]]),ISBLANK(Table1[[#This Row],[Column22]])), \"\",Table1[[#This Row],[Column21]]*Table1[[#This Row],[Column22]])","v":""},null,null,null,null,{"$f":"IF(OR(ISBLANK(Table1[[#This Row],[Column25]]),ISBLANK(Table1[[#This Row],[Column26]])), \"\",Table1[[#This Row],[Column25]]*Table1[[#This Row],[Column26]])","v":""},null,null,null,null,{"$f":"IF(OR(ISBLANK(Table1[[#This Row],[Column30]]),ISBLANK(Table1[[#This Row],[Column31]])), \"\",Table1[[#This Row],[Column30]]*Table1[[#This Row],[Column31]])","v":""},null,null,null,null,{"$f":"IF(OR(ISBLANK(Table1[[#This Row],[Column34]]),ISBLANK(Table1[[#This Row],[Column35]])), \"\",Table1[[#This Row],[Column34]]*Table1[[#This Row],[Column35]])","v":""},null,null,null,null,{"$f":"IF(OR(ISBLANK(Table1[[#This Row],[Column39]]),ISBLANK(Table1[[#This Row],[Column40]])), \"\",Table1[[#This Row],[Column39]]*Table1[[#This Row],[Column40]])","v":""},null,null,null,null,{"$f":"IF(OR(ISBLANK(Table1[[#This Row],[Column43]]),ISBLANK(Table1[[#This Row],[Column44]])), \"\",Table1[[#This Row],[Column43]]*Table1[[#This Row],[Column44]])","v":""},null,null,null,null,{"$f":"IF(OR(ISBLANK(Table1[[#This Row],[Column48]]),ISBLANK(Table1[[#This Row],[Column49]])), \"\",Table1[[#This Row],[Column48]]*Table1[[#This Row],[Column49]])","v":""},null,null,null,null,{"$f":"IF(OR(ISBLANK(Table1[[#This Row],[Column52]]),ISBLANK(Table1[[#This Row],[Column53]])), \"\",Table1[[#This Row],[Column52]]*Table1[[#This Row],[Column53]])","v":""},null,null,null,null,{"$f":"IF(OR(ISBLANK(Table1[[#This Row],[Column57]]),ISBLANK(Table1[[#This Row],[Column58]])), \"\",Table1[[#This Row],[Column57]]*Table1[[#This Row],[Column58]])","v":""},null,null,null,null,{"$f":"IF(OR(ISBLANK(Table1[[#This Row],[Column61]]),ISBLANK(Table1[[#This Row],[Column62]])), \"\",Table1[[#This Row],[Column61]]*Table1[[#This Row],[Column62]])","v":""}]
[null,null,null,null,null,null,{"$f":"IF(OR(ISBLANK(Table1[[#This Row],[Column3]]),ISBLANK(Table1[[#This Row],[Column4]])), \"\",Table1[[#This Row],[Column3]]*Table1[[#This Row],[Column4]])","v":""},null,null,null,null,{"$f":"IF(OR(ISBLANK(Table1[[#This Row],[Column7]]),ISBLANK(Table1[[#This Row],[Column8]])), \"\",Table1[[#This Row],[Column7]]*Table1[[#This Row],[Column8]])","v":""},null,null,null,null,{"$f":"IF(OR(ISBLANK(Table1[[#This Row],[Column12]]),ISBLANK(Table1[[#This Row],[Column13]])), \"\",Table1[[#This Row],[Column12]]*Table1[[#This Row],[Column13]])","v":""},null,null,null,null,{"$f":"IF(OR(ISBLANK(Table1[[#This Row],[Column16]]),ISBLANK(Table1[[#This Row],[Column17]])), \"\",Table1[[#This Row],[Column16]]*Table1[[#This Row],[Column17]])","v":""},null,null,null,null,{"$f":"IF(OR(ISBLANK(Table1[[#This Row],[Column21]]),ISBLANK(Table1[[#This Row],[Column22]])), \"\",Table1[[#This Row],[Column21]]*Table1[[#This Row],[Column22]])","v":""},null,null,null,null,{"$f":"IF(OR(ISBLANK(Table1[[#This Row],[Column25]]),ISBLANK(Table1[[#This Row],[Column26]])), \"\",Table1[[#This Row],[Column25]]*Table1[[#This Row],[Column26]])","v":""},null,null,null,null,{"$f":"IF(OR(ISBLANK(Table1[[#This Row],[Column30]]),ISBLANK(Table1[[#This Row],[Column31]])), \"\",Table1[[#This Row],[Column30]]*Table1[[#This Row],[Column31]])","v":""},null,null,null,null,{"$f":"IF(OR(ISBLANK(Table1[[#This Row],[Column34]]),ISBLANK(Table1[[#This Row],[Column35]])), \"\",Table1[[#This Row],[Column34]]*Table1[[#This Row],[Column35]])","v":""},null,null,null,null,{"$f":"IF(OR(ISBLANK(Table1[[#This Row],[Column39]]),ISBLANK(Table1[[#This Row],[Column40]])), \"\",Table1[[#This Row],[Column39]]*Table1[[#This Row],[Column40]])","v":""},null,null,null,null,{"$f":"IF(OR(ISBLANK(Table1[[#This Row],[Column43]]),ISBLANK(Table1[[#This Row],[Column44]])), \"\",Table1[[#This Row],[Column43]]*Table1[[#This Row],[Column44]])","v":""},null,null,null,null,{"$f":"IF(OR(ISBLANK(Table1[[#This Row],[Column48]]),ISBLANK(Table1[[#This Row],[Column49]])), \"\",Table1[[#This Row],[Column48]]*Table1[[#This Row],[Column49]])","v":""},null,null,null,null,{"$f":"IF(OR(ISBLANK(Table1[[#This Row],[Column52]]),ISBLANK(Table1[[#This Row],[Column53]])), \"\",Table1[[#This Row],[Column52]]*Table1[[#This Row],[Column53]])","v":""},null,null,null,null,{"$f":"IF(OR(ISBLANK(Table1[[#This Row],[Column57]]),ISBLANK(Table1[[#This Row],[Column58]])), \"\",Table1[[#This Row],[Column57]]*Table1[[#This Row],[Column58]])","v":""},null,null,null,null,{"$f":"IF(OR(ISBLANK(Table1[[#This Row],[Column61]]),ISBLANK(Table1[[#This Row],[Column62]])), \"\",Table1[[#This Row],[Column61]]*Table1[[#This Row],[Column62]])","v":""}]
[null,null,null,null,null,null,{"$f":"IF(OR(ISBLANK(Table1[[#This Row],[Column3]]),ISBLANK(Table1[[#This Row],[Column4]])), \"\",Table1[[#This Row],[Column3]]*Table1[[#This Row],[Column4]])","v":""},null,null,null,null,{"$f":"IF(OR(ISBLANK(Table1[[#This Row],[Column7]]),ISBLANK(Table1[[#This Row],[Column8]])), \"\",Table1[[#This Row],[Column7]]*Table1[[#This Row],[Column8]])","v":""},null,null,null,null,{"$f":"IF(OR(ISBLANK(Table1[[#This Row],[Column12]]),ISBLANK(Table1[[#This Row],[Column13]])), \"\",Table1[[#This Row],[Column12]]*Table1[[#This Row],[Column13]])","v":""},null,null,null,null,{"$f":"IF(OR(ISBLANK(Table1[[#This Row],[Column16]]),ISBLANK(Table1[[#This Row],[Column17]])), \"\",Table1[[#This Row],[Column16]]*Table1[[#This Row],[Column17]])","v":""},null,null,null,null,{"$f":"IF(OR(ISBLANK(Table1[[#This Row],[Column21]]),ISBLANK(Table1[[#This Row],[Column22]])), \"\",Table1[[#This Row],[Column21]]*Table1[[#This Row],[Column22]])","v":""},null,null,null,null,{"$f":"IF(OR(ISBLANK(Table1[[#This Row],[Column25]]),ISBLANK(Table1[[#This Row],[Column26]])), \"\",Table1[[#This Row],[Column25]]*Table1[[#This Row],[Column26]])","v":""},null,null,null,null,{"$f":"IF(OR(ISBLANK(Table1[[#This Row],[Column30]]),ISBLANK(Table1[[#This Row],[Column31]])), \"\",Table1[[#This Row],[Column30]]*Table1[[#This Row],[Column31]])","v":""},null,null,null,null,{"$f":"IF(OR(ISBLANK(Table1[[#This Row],[Column34]]),ISBLANK(Table1[[#This Row],[Column35]])), \"\",Table1[[#This Row],[Column34]]*Table1[[#This Row],[Column35]])","v":""},null,null,null,null,{"$f":"IF(OR(ISBLANK(Table1[[#This Row],[Column39]]),ISBLANK(Table1[[#This Row],[Column40]])), \"\",Table1[[#This Row],[Column39]]*Table1[[#This Row],[Column40]])","v":""},null,null,null,null,{"$f":"IF(OR(ISBLANK(Table1[[#This Row],[Column43]]),ISBLANK(Table1[[#This Row],[Column44]])), \"\",Table1[[#This Row],[Column43]]*Table1[[#This Row],[Column44]])","v":""},null,null,null,null,{"$f":"IF(OR(ISBLANK(Table1[[#This Row],[Column48]]),ISBLANK(Table1[[#This Row],[Column49]])), \"\",Table1[[#This Row],[Column48]]*Table1[[#This Row],[Column49]])","v":""},null,null,null,null,{"$f":"IF(OR(ISBLANK(Table1[[#This Row],[Column52]]),ISBLANK(Table1[[#This Row],[Column53]])), \"\",Table1[[#This Row],[Column52]]*Table1[[#This Row],[Column53]])","v":""},null,null,null,null,{"$f":"IF(OR(ISBLANK(Table1[[#This Row],[Column57]]),ISBLANK(Table1[[#This Row],[Column58]])), \"\",Table1[[#This Row],[Column57]]*Table1[[#This Row],[Column58]])","v":""},null,null,null,null,{"$f":"IF(OR(ISBLANK(Table1[[#This Row],[Column61]]),ISBLANK(Table1[[#This Row],[Column62]])), \"\",Table1[[#This Row],[Column61]]*Table1[[#This Row],[Column62]])","v":""}]
[null,null,null,null,null,null,{"$f":"IF(OR(ISBLANK(Table1[[#This Row],[Column3]]),ISBLANK(Table1[[#This Row],[Column4]])), \"\",Table1[[#This Row],[Column3]]*Table1[[#This Row],[Column4]])","v":""},null,null,null,null,{"$f":"IF(OR(ISBLANK(Table1[[#This Row],[Column7]]),ISBLANK(Table1[[#This Row],[Column8]])), \"\",Table1[[#This Row],[Column7]]*Table1[[#This Row],[Column8]])","v":""},null,null,null,null,{"$f":"IF(OR(ISBLANK(Table1[[#This Row],[Column12]]),ISBLANK(Table1[[#This Row],[Column13]])), \"\",Table1[[#This Row],[Column12]]*Table1[[#This Row],[Column13]])","v":""},null,null,null,null,{"$f":"IF(OR(ISBLANK(Table1[[#This Row],[Column16]]),ISBLANK(Table1[[#This Row],[Column17]])), \"\",Table1[[#This Row],[Column16]]*Table1[[#This Row],[Column17]])","v":""},null,null,null,null,{"$f":"IF(OR(ISBLANK(Table1[[#This Row],[Column21]]),ISBLANK(Table1[[#This Row],[Column22]])), \"\",Table1[[#This Row],[Column21]]*Table1[[#This Row],[Column22]])","v":""},null,null,null,null,{"$f":"IF(OR(ISBLANK(Table1[[#This Row],[Column25]]),ISBLANK(Table1[[#This Row],[Column26]])), \"\",Table1[[#This Row],[Column25]]*Table1[[#This Row],[Column26]])","v":""},null,null,null,null,{"$f":"IF(OR(ISBLANK(Table1[[#This Row],[Column30]]),ISBLANK(Table1[[#This Row],[Column31]])), \"\",Table1[[#This Row],[Column30]]*Table1[[#This Row],[Column31]])","v":""},null,null,null,null,{"$f":"IF(OR(ISBLANK(Table1[[#This Row],[Column34]]),ISBLANK(Table1[[#This Row],[Column35]])), \"\",Table1[[#This Row],[Column34]]*Table1[[#This Row],[Column35]])","v":""},null,null,null,null,{"$f":"IF(OR(ISBLANK(Table1[[#This Row],[Column39]]),ISBLANK(Table1[[#This Row],[Column40]])), \"\",Table1[[#This Row],[Column39]]*Table1[[#This Row],[Column40]])","v":""},null,null,null,null,{"$f":"IF(OR(ISBLANK(Table1[[#This Row],[Column43]]),ISBLANK(Table1[[#This Row],[Column44]])), \"\",Table1[[#This Row],[Column43]]*Table1[[#This Row],[Column44]])","v":""},null,null,null,null,{"$f":"IF(OR(ISBLANK(Table1[[#This Row],[Column48]]),ISBLANK(Table1[[#This Row],[Column49]])), \"\",Table1[[#This Row],[Column48]]*Table1[[#This Row],[Column49]])","v":""},null,null,null,null,{"$f":"IF(OR(ISBLANK(Table1[[#This Row],[Column52]]),ISBLANK(Table1[[#This Row],[Column53]])), \"\",Table1[[#This Row],[Column52]]*Table1[[#This Row],[Column53]])","v":""},null,null,null,null,{"$f":"IF(OR(ISBLANK(Table1[[#This Row],[Column57]]),ISBLANK(Table1[[#This Row],[Column58]])), \"\",Table1[[#This Row],[Column57]]*Table1[[#This Row],[Column58]])","v":""},null,null,null,null,{"$f":"IF(OR(ISBLANK(Table1[[#This Row],[Column61]]),ISBLANK(Table1[[#This Row],[Column62]])), \"\",Table1[[#This Row],[Column61]]*Table1[[#This Row],[Column62]])","v":""}]
[null,null,null,null,null,null,{"$f":"IF(OR(ISBLANK(Table1[[#This Row],[Column3]]),ISBLANK(Table1[[#This Row],[Column4]])), \"\",Table1[[#This Row],[Column3]]*Table1[[#This Row],[Column4]])","v":""},null,null,null,null,{"$f":"IF(OR(ISBLANK(Table1[[#This Row],[Column7]]),ISBLANK(Table1[[#This Row],[Column8]])), \"\",Table1[[#This Row],[Column7]]*Table1[[#This Row],[Column8]])","v":""},null,null,null,null,{"$f":"IF(OR(ISBLANK(Table1[[#This Row],[Column12]]),ISBLANK(Table1[[#This Row],[Column13]])), \"\",Table1[[#This Row],[Column12]]*Table1[[#This Row],[Column13]])","v":""},null,null,null,null,{"$f":"IF(OR(ISBLANK(Table1[[#This Row],[Column16]]),ISBLANK(Table1[[#This Row],[Column17]])), \"\",Table1[[#This Row],[Column16]]*Table1[[#This Row],[Column17]])","v":""},null,null,null,null,{"$f":"IF(OR(ISBLANK(Table1[[#This Row],[Column21]]),ISBLANK(Table1[[#This Row],[Column22]])), \"\",Table1[[#This Row],[Column21]]*Table1[[#This Row],[Column22]])","v":""},null,null,null,null,{"$f":"IF(OR(ISBLANK(Table1[[#This Row],[Column25]]),ISBLANK(Table1[[#This Row],[Column26]])), \"\",Table1[[#This Row],[Column25]]*Table1[[#This Row],[Column26]])","v":""},null,null,null,null,{"$f":"IF(OR(ISBLANK(Table1[[#This Row],[Column30]]),ISBLANK(Table1[[#This Row],[Column31]])), \"\",Table1[[#This Row],[Column30]]*Table1[[#This Row],[Column31]])","v":""},null,null,null,null,{"$f":"IF(OR(ISBLANK(Table1[[#This Row],[Column34]]),ISBLANK(Table1[[#This Row],[Column35]])), \"\",Table1[[#This Row],[Column34]]*Table1[[#This Row],[Column35]])","v":""},null,null,null,null,{"$f":"IF(OR(ISBLANK(Table1[[#This Row],[Column39]]),ISBLANK(Table1[[#This Row],[Column40]])), \"\",Table1[[#This Row],[Column39]]*Table1[[#This Row],[Column40]])","v":""},null,null,null,null,{"$f":"IF(OR(ISBLANK(Table1[[#This Row],[Column43]]),ISBLANK(Table1[[#This Row],[Column44]])), \"\",Table1[[#This Row],[Column43]]*Table1[[#This Row],[Column44]])","v":""},null,null,null,null,{"$f":"IF(OR(ISBLANK(Table1[[#This Row],[Column48]]),ISBLANK(Table1[[#This Row],[Column49]])), \"\",Table1[[#This Row],[Column48]]*Table1[[#This Row],[Column49]])","v":""},null,null,null,null,{"$f":"IF(OR(ISBLANK(Table1[[#This Row],[Column52]]),ISBLANK(Table1[[#This Row],[Column53]])), \"\",Table1[[#This Row],[Column52]]*Table1[[#This Row],[Column53]])","v":""},null,null,null,null,{"$f":"IF(OR(ISBLANK(Table1[[#This Row],[Column57]]),ISBLANK(Table1[[#This Row],[Column58]])), \"\",Table1[[#This Row],[Column57]]*Table1[[#This Row],[Column58]])","v":""},null,null,null,null,{"$f":"IF(OR(ISBLANK(Table1[[#This Row],[Column61]]),ISBLANK(Table1[[#This Row],[Column62]])), \"\",Table1[[#This Row],[Column61]]*Table1[[#This Row],[Column62]])","v":""}]
[null,null,null,null,null,null,{"$f":"IF(OR(ISBLANK(Table1[[#This Row],[Column3]]),ISBLANK(Table1[[#This Row],[Column4]])), \"\",Table1[[#This Row],[Column3]]*Table1[[#This Row],[Column4]])","v":""},null,null,null,null,{"$f":"IF(OR(ISBLANK(Table1[[#This Row],[Column7]]),ISBLANK(Table1[[#This Row],[Column8]])), \"\",Table1[[#This Row],[Column7]]*Table1[[#This Row],[Column8]])","v":""},null,null,null,null,{"$f":"IF(OR(ISBLANK(Table1[[#This Row],[Column12]]),ISBLANK(Table1[[#This Row],[Column13]])), \"\",Table1[[#This Row],[Column12]]*Table1[[#This Row],[Column13]])","v":""},null,null,null,null,{"$f":"IF(OR(ISBLANK(Table1[[#This Row],[Column16]]),ISBLANK(Table1[[#This Row],[Column17]])), \"\",Table1[[#This Row],[Column16]]*Table1[[#This Row],[Column17]])","v":""},null,null,null,null,{"$f":"IF(OR(ISBLANK(Table1[[#This Row],[Column21]]),ISBLANK(Table1[[#This Row],[Column22]])), \"\",Table1[[#This Row],[Column21]]*Table1[[#This Row],[Column22]])","v":""},null,null,null,null,{"$f":"IF(OR(ISBLANK(Table1[[#This Row],[Column25]]),ISBLANK(Table1[[#This Row],[Column26]])), \"\",Table1[[#This Row],[Column25]]*Table1[[#This Row],[Column26]])","v":""},null,null,null,null,{"$f":"IF(OR(ISBLANK(Table1[[#This Row],[Column30]]),ISBLANK(Table1[[#This Row],[Column31]])), \"\",Table1[[#This Row],[Column30]]*Table1[[#This Row],[Column31]])","v":""},null,null,null,null,{"$f":"IF(OR(ISBLANK(Table1[[#This Row],[Column34]]),ISBLANK(Table1[[#This Row],[Column35]])), \"\",Table1[[#This Row],[Column34]]*Table1[[#This Row],[Column35]])","v":""},null,null,null,null,{"$f":"IF(OR(ISBLANK(Table1[[#This Row],[Column39]]),ISBLANK(Table1[[#This Row],[Column40]])), \"\",Table1[[#This Row],[Column39]]*Table1[[#This Row],[Column40]])","v":""},null,null,null,null,{"$f":"IF(OR(ISBLANK(Table1[[#This Row],[Column43]]),ISBLANK(Table1[[#This Row],[Column44]])), \"\",Table1[[#This Row],[Column43]]*Table1[[#This Row],[Column44]])","v":""},null,null,null,null,{"$f":"IF(OR(ISBLANK(Table1[[#This Row],[Column48]]),ISBLANK(Table1[[#This Row],[Column49]])), \"\",Table1[[#This Row],[Column48]]*Table1[[#This Row],[Column49]])","v":""},null,null,null,null,{"$f":"IF(OR(ISBLANK(Table1[[#This Row],[Column52]]),ISBLANK(Table1[[#This Row],[Column53]])), \"\",Table1[[#This Row],[Column52]]*Table1[[#This Row],[Column53]])","v":""},null,null,null,null,{"$f":"IF(OR(ISBLANK(Table1[[#This Row],[Column57]]),ISBLANK(Table1[[#This Row],[Column58]])), \"\",Table1[[#This Row],[Column57]]*Table1[[#This Row],[Column58]])","v":""},null,null,null,null,{"$f":"IF(OR(ISBLANK(Table1[[#This Row],[Column61]]),ISBLANK(Table1[[#This Row],[Column62]])), \"\",Table1[[#This Row],[Column61]]*Table1[[#This Row],[Column62]])","v":""}]
[null,null,null,null,null,null,{"$f":"IF(OR(ISBLANK(Table1[[#This Row],[Column3]]),ISBLANK(Table1[[#This Row],[Column4]])), \"\",Table1[[#This Row],[Column3]]*Table1[[#This Row],[Column4]])","v":""},null,null,null,null,{"$f":"IF(OR(ISBLANK(Table1[[#This Row],[Column7]]),ISBLANK(Table1[[#This Row],[Column8]])), \"\",Table1[[#This Row],[Column7]]*Table1[[#This Row],[Column8]])","v":""},null,null,null,null,{"$f":"IF(OR(ISBLANK(Table1[[#This Row],[Column12]]),ISBLANK(Table1[[#This Row],[Column13]])), \"\",Table1[[#This Row],[Column12]]*Table1[[#This Row],[Column13]])","v":""},null,null,null,null,{"$f":"IF(OR(ISBLANK(Table1[[#This Row],[Column16]]),ISBLANK(Table1[[#This Row],[Column17]])), \"\",Table1[[#This Row],[Column16]]*Table1[[#This Row],[Column17]])","v":""},null,null,null,null,{"$f":"IF(OR(ISBLANK(Table1[[#This Row],[Column21]]),ISBLANK(Table1[[#This Row],[Column22]])), \"\",Table1[[#This Row],[Column21]]*Table1[[#This Row],[Column22]])","v":""},null,null,null,null,{"$f":"IF(OR(ISBLANK(Table1[[#This Row],[Column25]]),ISBLANK(Table1[[#This Row],[Column26]])), \"\",Table1[[#This Row],[Column25]]*Table1[[#This Row],[Column26]])","v":""},null,null,null,null,{"$f":"IF(OR(ISBLANK(Table1[[#This Row],[Column30]]),ISBLANK(Table1[[#This Row],[Column31]])), \"\",Table1[[#This Row],[Column30]]*Table1[[#This Row],[Column31]])","v":""},null,null,null,null,{"$f":"IF(OR(ISBLANK(Table1[[#This Row],[Column34]]),ISBLANK(Table1[[#This Row],[Column35]])), \"\",Table1[[#This Row],[Column34]]*Table1[[#This Row],[Column35]])","v":""},null,null,null,null,{"$f":"IF(OR(ISBLANK(Table1[[#This Row],[Column39]]),ISBLANK(Table1[[#This Row],[Column40]])), \"\",Table1[[#This Row],[Column39]]*Table1[[#This Row],[Column40]])","v":""},null,null,null,null,{"$f":"IF(OR(ISBLANK(Table1[[#This Row],[Column43]]),ISBLANK(Table1[[#This Row],[Column44]])), \"\",Table1[[#This Row],[Column43]]*Table1[[#This Row],[Column44]])","v":""},null,null,null,null,{"$f":"IF(OR(ISBLANK(Table1[[#This Row],[Column48]]),ISBLANK(Table1[[#This Row],[Column49]])), \"\",Table1[[#This Row],[Column48]]*Table1[[#This Row],[Column49]])","v":""},null,null,null,null,{"$f":"IF(OR(ISBLANK(Table1[[#This Row],[Column52]]),ISBLANK(Table1[[#This Row],[Column53]])), \"\",Table1[[#This Row],[Column52]]*Table1[[#This Row],[Column53]])","v":""},null,null,null,null,{"$f":"IF(OR(ISBLANK(Table1[[#This Row],[Column57]]),ISBLANK(Table1[[#This Row],[Column58]])), \"\",Table1[[#This Row],[Column57]]*Table1[[#This Row],[Column58]])","v":""},null,null,null,null,{"$f":"IF(OR(ISBLANK(Table1[[#This Row],[Column61]]),ISBLANK(Table1[[#This Row],[Column62]])), \"\",Table1[[#This Row],[Column61]]*Table1[[#This Row],[Column62]])","v":""}]
[null,null,null,null,null,null,{"$f":"IF(OR(ISBLANK(Table1[[#This Row],[Column3]]),ISBLANK(Table1[[#This Row],[Column4]])), \"\",Table1[[#This Row],[Column3]]*Table1[[#This Row],[Column4]])","v":""},null,null,null,null,{"$f":"IF(OR(ISBLANK(Table1[[#This Row],[Column7]]),ISBLANK(Table1[[#This Row],[Column8]])), \"\",Table1[[#This Row],[Column7]]*Table1[[#This Row],[Column8]])","v":""},null,null,null,null,{"$f":"IF(OR(ISBLANK(Table1[[#This Row],[Column12]]),ISBLANK(Table1[[#This Row],[Column13]])), \"\",Table1[[#This Row],[Column12]]*Table1[[#This Row],[Column13]])","v":""},null,null,null,null,{"$f":"IF(OR(ISBLANK(Table1[[#This Row],[Column16]]),ISBLANK(Table1[[#This Row],[Column17]])), \"\",Table1[[#This Row],[Column16]]*Table1[[#This Row],[Column17]])","v":""},null,null,null,null,{"$f":"IF(OR(ISBLANK(Table1[[#This Row],[Column21]]),ISBLANK(Table1[[#This Row],[Column22]])), \"\",Table1[[#This Row],[Column21]]*Table1[[#This Row],[Column22]])","v":""},null,null,null,null,{"$f":"IF(OR(ISBLANK(Table1[[#This Row],[Column25]]),ISBLANK(Table1[[#This Row],[Column26]])), \"\",Table1[[#This Row],[Column25]]*Table1[[#This Row],[Column26]])","v":""},null,null,null,null,{"$f":"IF(OR(ISBLANK(Table1[[#This Row],[Column30]]),ISBLANK(Table1[[#This Row],[Column31]])), \"\",Table1[[#This Row],[Column30]]*Table1[[#This Row],[Column31]])","v":""},null,null,null,null,{"$f":"IF(OR(ISBLANK(Table1[[#This Row],[Column34]]),ISBLANK(Table1[[#This Row],[Column35]])), \"\",Table1[[#This Row],[Column34]]*Table1[[#This Row],[Column35]])","v":""},null,null,null,null,{"$f":"IF(OR(ISBLANK(Table1[[#This Row],[Column39]]),ISBLANK(Table1[[#This Row],[Column40]])), \"\",Table1[[#This Row],[Column39]]*Table1[[#This Row],[Column40]])","v":""},null,null,null,null,{"$f":"IF(OR(ISBLANK(Table1[[#This Row],[Column43]]),ISBLANK(Table1[[#This Row],[Column44]])), \"\",Table1[[#This Row],[Column43]]*Table1[[#This Row],[Column44]])","v":""},null,null,null,null,{"$f":"IF(OR(ISBLANK(Table1[[#This Row],[Column48]]),ISBLANK(Table1[[#This Row],[Column49]])), \"\",Table1[[#This Row],[Column48]]*Table1[[#This Row],[Column49]])","v":""},null,null,null,null,{"$f":"IF(OR(ISBLANK(Table1[[#This Row],[Column52]]),ISBLANK(Table1[[#This Row],[Column53]])), \"\",Table1[[#This Row],[Column52]]*Table1[[#This Row],[Column53]])","v":""},null,null,null,null,{"$f":"IF(OR(ISBLANK(Table1[[#This Row],[Column57]]),ISBLANK(Table1[[#This Row],[Column58]])), \"\",Table1[[#This Row],[Column57]]*Table1[[#This Row],[Column58]])","v":""},null,null,null,null,{"$f":"IF(OR(ISBLANK(Table1[[#This Row],[Column61]]),ISBLANK(Table1[[#This Row],[Column62]])), \"\",Table1[[#This Row],[Column61]]*Table1[[#This Row],[Column62]])","v":""}]
[null,null,null,null,null,null,{"$f":"IF(OR(ISBLANK(Table1[[#This Row],[Column3]]),ISBLANK(Table1[[#This Row],[Column4]])), \"\",Table1[[#This Row],[Column3]]*Table1[[#This Row],[Column4]])","v":""},null,null,null,null,{"$f":"IF(OR(ISBLANK(Table1[[#This Row],[Column7]]),ISBLANK(Table1[[#This Row],[Column8]])), \"\",Table1[[#This Row],[Column7]]*Table1[[#This Row],[Column8]])","v":""},null,null,null,null,{"$f":"IF(OR(ISBLANK(Table1[[#This Row],[Column12]]),ISBLANK(Table1[[#This Row],[Column13]])), \"\",Table1[[#This Row],[Column12]]*Table1[[#This Row],[Column13]])","v":""},null,null,null,null,{"$f":"IF(OR(ISBLANK(Table1[[#This Row],[Column16]]),ISBLANK(Table1[[#This Row],[Column17]])), \"\",Table1[[#This Row],[Column16]]*Table1[[#This Row],[Column17]])","v":""},null,null,null,null,{"$f":"IF(OR(ISBLANK(Table1[[#This Row],[Column21]]),ISBLANK(Table1[[#This Row],[Column22]])), \"\",Table1[[#This Row],[Column21]]*Table1[[#This Row],[Column22]])","v":""},null,null,null,null,{"$f":"IF(OR(ISBLANK(Table1[[#This Row],[Column25]]),ISBLANK(Table1[[#This Row],[Column26]])), \"\",Table1[[#This Row],[Column25]]*Table1[[#This Row],[Column26]])","v":""},null,null,null,null,{"$f":"IF(OR(ISBLANK(Table1[[#This Row],[Column30]]),ISBLANK(Table1[[#This Row],[Column31]])), \"\",Table1[[#This Row],[Column30]]*Table1[[#This Row],[Column31]])","v":""},null,null,null,null,{"$f":"IF(OR(ISBLANK(Table1[[#This Row],[Column34]]),ISBLANK(Table1[[#This Row],[Column35]])), \"\",Table1[[#This Row],[Column34]]*Table1[[#This Row],[Column35]])","v":""},null,null,null,null,{"$f":"IF(OR(ISBLANK(Table1[[#This Row],[Column39]]),ISBLANK(Table1[[#This Row],[Column40]])), \"\",Table1[[#This Row],[Column39]]*Table1[[#This Row],[Column40]])","v":""},null,null,null,null,{"$f":"IF(OR(ISBLANK(Table1[[#This Row],[Column43]]),ISBLANK(Table1[[#This Row],[Column44]])), \"\",Table1[[#This Row],[Column43]]*Table1[[#This Row],[Column44]])","v":""},null,null,null,null,{"$f":"IF(OR(ISBLANK(Table1[[#This Row],[Column48]]),ISBLANK(Table1[[#This Row],[Column49]])), \"\",Table1[[#This Row],[Column48]]*Table1[[#This Row],[Column49]])","v":""},null,null,null,null,{"$f":"IF(OR(ISBLANK(Table1[[#This Row],[Column52]]),ISBLANK(Table1[[#This Row],[Column53]])), \"\",Table1[[#This Row],[Column52]]*Table1[[#This Row],[Column53]])","v":""},null,null,null,null,{"$f":"IF(OR(ISBLANK(Table1[[#This Row],[Column57]]),ISBLANK(Table1[[#This Row],[Column58]])), \"\",Table1[[#This Row],[Column57]]*Table1[[#This Row],[Column58]])","v":""},null,null,null,null,{"$f":"IF(OR(ISBLANK(Table1[[#This Row],[Column61]]),ISBLANK(Table1[[#This Row],[Column62]])), \"\",Table1[[#This Row],[Column61]]*Table1[[#This Row],[Column62]])","v":""}]
[null,null,null,null,null,null,{"$f":"IF(OR(ISBLANK(Table1[[#This Row],[Column3]]),ISBLANK(Table1[[#This Row],[Column4]])), \"\",Table1[[#This Row],[Column3]]*Table1[[#This Row],[Column4]])","v":""},null,null,null,null,{"$f":"IF(OR(ISBLANK(Table1[[#This Row],[Column7]]),ISBLANK(Table1[[#This Row],[Column8]])), \"\",Table1[[#This Row],[Column7]]*Table1[[#This Row],[Column8]])","v":""},null,null,null,null,{"$f":"IF(OR(ISBLANK(Table1[[#This Row],[Column12]]),ISBLANK(Table1[[#This Row],[Column13]])), \"\",Table1[[#This Row],[Column12]]*Table1[[#This Row],[Column13]])","v":""},null,null,null,null,{"$f":"IF(OR(ISBLANK(Table1[[#This Row],[Column16]]),ISBLANK(Table1[[#This Row],[Column17]])), \"\",Table1[[#This Row],[Column16]]*Table1[[#This Row],[Column17]])","v":""},null,null,null,null,{"$f":"IF(OR(ISBLANK(Table1[[#This Row],[Column21]]),ISBLANK(Table1[[#This Row],[Column22]])), \"\",Table1[[#This Row],[Column21]]*Table1[[#This Row],[Column22]])","v":""},null,null,null,null,{"$f":"IF(OR(ISBLANK(Table1[[#This Row],[Column25]]),ISBLANK(Table1[[#This Row],[Column26]])), \"\",Table1[[#This Row],[Column25]]*Table1[[#This Row],[Column26]])","v":""},null,null,null,null,{"$f":"IF(OR(ISBLANK(Table1[[#This Row],[Column30]]),ISBLANK(Table1[[#This Row],[Column31]])), \"\",Table1[[#This Row],[Column30]]*Table1[[#This Row],[Column31]])","v":""},null,null,null,null,{"$f":"IF(OR(ISBLANK(Table1[[#This Row],[Column34]]),ISBLANK(Table1[[#This Row],[Column35]])), \"\",Table1[[#This Row],[Column34]]*Table1[[#This Row],[Column35]])","v":""},null,null,null,null,{"$f":"IF(OR(ISBLANK(Table1[[#This Row],[Column39]]),ISBLANK(Table1[[#This Row],[Column40]])), \"\",Table1[[#This Row],[Column39]]*Table1[[#This Row],[Column40]])","v":""},null,null,null,null,{"$f":"IF(OR(ISBLANK(Table1[[#This Row],[Column43]]),ISBLANK(Table1[[#This Row],[Column44]])), \"\",Table1[[#This Row],[Column43]]*Table1[[#This Row],[Column44]])","v":""},null,null,null,null,{"$f":"IF(OR(ISBLANK(Table1[[#This Row],[Column48]]),ISBLANK(Table1[[#This Row],[Column49]])), \"\",Table1[[#This Row],[Column48]]*Table1[[#This Row],[Column49]])","v":""},null,null,null,null,{"$f":"IF(OR(ISBLANK(Table1[[#This Row],[Column52]]),ISBLANK(Table1[[#This Row],[Column53]])), \"\",Table1[[#This Row],[Column52]]*Table1[[#This Row],[Column53]])","v":""},null,null,null,null,{"$f":"IF(OR(ISBLANK(Table1[[#This Row],[Column57]]),ISBLANK(Table1[[#This Row],[Column58]])), \"\",Table1[[#This Row],[Column57]]*Table1[[#This Row],[Column58]])","v":""},null,null,null,null,{"$f":"IF(OR(ISBLANK(Table1[[#This Row],[Column61]]),ISBLANK(Table1[[#This Row],[Column62]])), \"\",Table1[[#This Row],[Column61]]*Table1[[#This Row],[Column62]])","v":""}]
[null,null,null,null,null,null,{"$f":"IF(OR(ISBLANK(Table1[[#This Row],[Column3]]),ISBLANK(Table1[[#This Row],[Column4]])), \"\",Table1[[#This Row],[Column3]]*Table1[[#This Row],[Column4]])","v":""},null,null,null,null,{"$f":"IF(OR(ISBLANK(Table1[[#This Row],[Column7]]),ISBLANK(Table1[[#This Row],[Column8]])), \"\",Table1[[#This Row],[Column7]]*Table1[[#This Row],[Column8]])","v":""},null,null,null,null,{"$f":"IF(OR(ISBLANK(Table1[[#This Row],[Column12]]),ISBLANK(Table1[[#This Row],[Column13]])), \"\",Table1[[#This Row],[Column12]]*Table1[[#This Row],[Column13]])","v":""},null,null,null,null,{"$f":"IF(OR(ISBLANK(Table1[[#This Row],[Column16]]),ISBLANK(Table1[[#This Row],[Column17]])), \"\",Table1[[#This Row],[Column16]]*Table1[[#This Row],[Column17]])","v":""},null,null,null,null,{"$f":"IF(OR(ISBLANK(Table1[[#This Row],[Column21]]),ISBLANK(Table1[[#This Row],[Column22]])), \"\",Table1[[#This Row],[Column21]]*Table1[[#This Row],[Column22]])","v":""},null,null,null,null,{"$f":"IF(OR(ISBLANK(Table1[[#This Row],[Column25]]),ISBLANK(Table1[[#This Row],[Column26]])), \"\",Table1[[#This Row],[Column25]]*Table1[[#This Row],[Column26]])","v":""},null,null,null,null,{"$f":"IF(OR(ISBLANK(Table1[[#This Row],[Column30]]),ISBLANK(Table1[[#This Row],[Column31]])), \"\",Table1[[#This Row],[Column30]]*Table1[[#This Row],[Column31]])","v":""},null,null,null,null,{"$f":"IF(OR(ISBLANK(Table1[[#This Row],[Column34]]),ISBLANK(Table1[[#This Row],[Column35]])), \"\",Table1[[#This Row],[Column34]]*Table1[[#This Row],[Column35]])","v":""},null,null,null,null,{"$f":"IF(OR(ISBLANK(Table1[[#This Row],[Column39]]),ISBLANK(Table1[[#This Row],[Column40]])), \"\",Table1[[#This Row],[Column39]]*Table1[[#This Row],[Column40]])","v":""},null,null,null,null,{"$f":"IF(OR(ISBLANK(Table1[[#This Row],[Column43]]),ISBLANK(Table1[[#This Row],[Column44]])), \"\",Table1[[#This Row],[Column43]]*Table1[[#This Row],[Column44]])","v":""},null,null,null,null,{"$f":"IF(OR(ISBLANK(Table1[[#This Row],[Column48]]),ISBLANK(Table1[[#This Row],[Column49]])), \"\",Table1[[#This Row],[Column48]]*Table1[[#This Row],[Column49]])","v":""},null,null,null,null,{"$f":"IF(OR(ISBLANK(Table1[[#This Row],[Column52]]),ISBLANK(Table1[[#This Row],[Column53]])), \"\",Table1[[#This Row],[Column52]]*Table1[[#This Row],[Column53]])","v":""},null,null,null,null,{"$f":"IF(OR(ISBLANK(Table1[[#This Row],[Column57]]),ISBLANK(Table1[[#This Row],[Column58]])), \"\",Table1[[#This Row],[Column57]]*Table1[[#This Row],[Column58]])","v":""},null,null,null,null,{"$f":"IF(OR(ISBLANK(Table1[[#This Row],[Column61]]),ISBLANK(Table1[[#This Row],[Column62]])), \"\",Table1[[#This Row],[Column61]]*Table1[[#This Row],[Column62]])","v":""}]
[null,null,null,null,null,null,{"$f":"IF(OR(ISBLANK(Table1[[#This Row],[Column3]]),ISBLANK(Table1[[#This Row],[Column4]])), \"\",Table1[[#This Row],[Column3]]*Table1[[#This Row],[Column4]])","v":""},null,null,null,null,{"$f":"IF(OR(ISBLANK(Table1[[#This Row],[Column7]]),ISBLANK(Table1[[#This Row],[Column8]])), \"\",Table1[[#This Row],[Column7]]*Table1[[#This Row],[Column8]])","v":""},null,null,null,null,{"$f":"IF(OR(ISBLANK(Table1[[#This Row],[Column12]]),ISBLANK(Table1[[#This Row],[Column13]])), \"\",Table1[[#This Row],[Column12]]*Table1[[#This Row],[Column13]])","v":""},null,null,null,null,{"$f":"IF(OR(ISBLANK(Table1[[#This Row],[Column16]]),ISBLANK(Table1[[#This Row],[Column17]])), \"\",Table1[[#This Row],[Column16]]*Table1[[#This Row],[Column17]])","v":""},null,null,null,null,{"$f":"IF(OR(ISBLANK(Table1[[#This Row],[Column21]]),ISBLANK(Table1[[#This Row],[Column22]])), \"\",Table1[[#This Row],[Column21]]*Table1[[#This Row],[Column22]])","v":""},null,null,null,null,{"$f":"IF(OR(ISBLANK(Table1[[#This Row],[Column25]]),ISBLANK(Table1[[#This Row],[Column26]])), \"\",Table1[[#This Row],[Column25]]*Table1[[#This Row],[Column26]])","v":""},null,null,null,null,{"$f":"IF(OR(ISBLANK(Table1[[#This Row],[Column30]]),ISBLANK(Table1[[#This Row],[Column31]])), \"\",Table1[[#This Row],[Column30]]*Table1[[#This Row],[Column31]])","v":""},null,null,null,null,{"$f":"IF(OR(ISBLANK(Table1[[#This Row],[Column34]]),ISBLANK(Table1[[#This Row],[Column35]])), \"\",Table1[[#This Row],[Column34]]*Table1[[#This Row],[Column35]])","v":""},null,null,null,null,{"$f":"IF(OR(ISBLANK(Table1[[#This Row],[Column39]]),ISBLANK(Table1[[#This Row],[Column40]])), \"\",Table1[[#This Row],[Column39]]*Table1[[#This Row],[Column40]])","v":""},null,null,null,null,{"$f":"IF(OR(ISBLANK(Table1[[#This Row],[Column43]]),ISBLANK(Table1[[#This Row],[Column44]])), \"\",Table1[[#This Row],[Column43]]*Table1[[#This Row],[Column44]])","v":""},null,null,null,null,{"$f":"IF(OR(ISBLANK(Table1[[#This Row],[Column48]]),ISBLANK(Table1[[#This Row],[Column49]])), \"\",Table1[[#This Row],[Column48]]*Table1[[#This Row],[Column49]])","v":""},null,null,null,null,{"$f":"IF(OR(ISBLANK(Table1[[#This Row],[Column52]]),ISBLANK(Table1[[#This Row],[Column53]])), \"\",Table1[[#This Row],[Column52]]*Table1[[#This Row],[Column53]])","v":""},null,null,null,null,{"$f":"IF(OR(ISBLANK(Table1[[#This Row],[Column57]]),ISBLANK(Table1[[#This Row],[Column58]])), \"\",Table1[[#This Row],[Column57]]*Table1[[#This Row],[Column58]])","v":""},null,null,null,null,{"$f":"IF(OR(ISBLANK(Table1[[#This Row],[Column61]]),ISBLANK(Table1[[#This Row],[Column62]])), \"\",Table1[[#This Row],[Column61]]*Table1[[#This Row],[Column62]])","v":""}]
[null,null,null,null,null,null,{"$f":"IF(OR(ISBLANK(Table1[[#This Row],[Column3]]),ISBLANK(Table1[[#This Row],[Column4]])), \"\",Table1[[#This Row],[Column3]]*Table1[[#This Row],[Column4]])","v":""},null,null,null,null,{"$f":"IF(OR(ISBLANK(Table1[[#This Row],[Column7]]),ISBLANK(Table1[[#This Row],[Column8]])), \"\",Table1[[#This Row],[Column7]]*Table1[[#This Row],[Column8]])","v":""},null,null,null,null,{"$f":"IF(OR(ISBLANK(Table1[[#This Row],[Column12]]),ISBLANK(Table1[[#This Row],[Column13]])), \"\",Table1[[#This Row],[Column12]]*Table1[[#This Row],[Column13]])","v":""},null,null,null,null,{"$f":"IF(OR(ISBLANK(Table1[[#This Row],[Column16]]),ISBLANK(Table1[[#This Row],[Column17]])), \"\",Table1[[#This Row],[Column16]]*Table1[[#This Row],[Column17]])","v":""},null,null,null,null,{"$f":"IF(OR(ISBLANK(Table1[[#This Row],[Column21]]),ISBLANK(Table1[[#This Row],[Column22]])), \"\",Table1[[#This Row],[Column21]]*Table1[[#This Row],[Column22]])","v":""},null,null,null,null,{"$f":"IF(OR(ISBLANK(Table1[[#This Row],[Column25]]),ISBLANK(Table1[[#This Row],[Column26]])), \"\",Table1[[#This Row],[Column25]]*Table1[[#This Row],[Column26]])","v":""},null,null,null,null,{"$f":"IF(OR(ISBLANK(Table1[[#This Row],[Column30]]),ISBLANK(Table1[[#This Row],[Column31]])), \"\",Table1[[#This Row],[Column30]]*Table1[[#This Row],[Column31]])","v":""},null,null,null,null,{"$f":"IF(OR(ISBLANK(Table1[[#This Row],[Column34]]),ISBLANK(Table1[[#This Row],[Column35]])), \"\",Table1[[#This Row],[Column34]]*Table1[[#This Row],[Column35]])","v":""},null,null,null,null,{"$f":"IF(OR(ISBLANK(Table1[[#This Row],[Column39]]),ISBLANK(Table1[[#This Row],[Column40]])), \"\",Table1[[#This Row],[Column39]]*Table1[[#This Row],[Column40]])","v":""},null,null,null,null,{"$f":"IF(OR(ISBLANK(Table1[[#This Row],[Column43]]),ISBLANK(Table1[[#This Row],[Column44]])), \"\",Table1[[#This Row],[Column43]]*Table1[[#This Row],[Column44]])","v":""},null,null,null,null,{"$f":"IF(OR(ISBLANK(Table1[[#This Row],[Column48]]),ISBLANK(Table1[[#This Row],[Column49]])), \"\",Table1[[#This Row],[Column48]]*Table1[[#This Row],[Column49]])","v":""},null,null,null,null,{"$f":"IF(OR(ISBLANK(Table1[[#This Row],[Column52]]),ISBLANK(Table1[[#This Row],[Column53]])), \"\",Table1[[#This Row],[Column52]]*Table1[[#This Row],[Column53]])","v":""},null,null,null,null,{"$f":"IF(OR(ISBLANK(Table1[[#This Row],[Column57]]),ISBLANK(Table1[[#This Row],[Column58]])), \"\",Table1[[#This Row],[Column57]]*Table1[[#This Row],[Column58]])","v":""},null,null,null,null,{"$f":"IF(OR(ISBLANK(Table1[[#This Row],[Column61]]),ISBLANK(Table1[[#This Row],[Column62]])), \"\",Table1[[#This Row],[Column61]]*Table1[[#This Row],[Column62]])","v":""}]
[null,null,null,null,null,null,{"$f":"IF(OR(ISBLANK(Table1[[#This Row],[Column3]]),ISBLANK(Table1[[#This Row],[Column4]])), \"\",Table1[[#This Row],[Column3]]*Table1[[#This Row],[Column4]])","v":""},null,null,null,null,{"$f":"IF(OR(ISBLANK(Table1[[#This Row],[Column7]]),ISBLANK(Table1[[#This Row],[Column8]])), \"\",Table1[[#This Row],[Column7]]*Table1[[#This Row],[Column8]])","v":""},null,null,null,null,{"$f":"IF(OR(ISBLANK(Table1[[#This Row],[Column12]]),ISBLANK(Table1[[#This Row],[Column13]])), \"\",Table1[[#This Row],[Column12]]*Table1[[#This Row],[Column13]])","v":""},null,null,null,null,{"$f":"IF(OR(ISBLANK(Table1[[#This Row],[Column16]]),ISBLANK(Table1[[#This Row],[Column17]])), \"\",Table1[[#This Row],[Column16]]*Table1[[#This Row],[Column17]])","v":""},null,null,null,null,{"$f":"IF(OR(ISBLANK(Table1[[#This Row],[Column21]]),ISBLANK(Table1[[#This Row],[Column22]])), \"\",Table1[[#This Row],[Column21]]*Table1[[#This Row],[Column22]])","v":""},null,null,null,null,{"$f":"IF(OR(ISBLANK(Table1[[#This Row],[Column25]]),ISBLANK(Table1[[#This Row],[Column26]])), \"\",Table1[[#This Row],[Column25]]*Table1[[#This Row],[Column26]])","v":""},null,null,null,null,{"$f":"IF(OR(ISBLANK(Table1[[#This Row],[Column30]]),ISBLANK(Table1[[#This Row],[Column31]])), \"\",Table1[[#This Row],[Column30]]*Table1[[#This Row],[Column31]])","v":""},null,null,null,null,{"$f":"IF(OR(ISBLANK(Table1[[#This Row],[Column34]]),ISBLANK(Table1[[#This Row],[Column35]])), \"\",Table1[[#This Row],[Column34]]*Table1[[#This Row],[Column35]])","v":""},null,null,null,null,{"$f":"IF(OR(ISBLANK(Table1[[#This Row],[Column39]]),ISBLANK(Table1[[#This Row],[Column40]])), \"\",Table1[[#This Row],[Column39]]*Table1[[#This Row],[Column40]])","v":""},null,null,null,null,{"$f":"IF(OR(ISBLANK(Table1[[#This Row],[Column43]]),ISBLANK(Table1[[#This Row],[Column44]])), \"\",Table1[[#This Row],[Column43]]*Table1[[#This Row],[Column44]])","v":""},null,null,null,null,{"$f":"IF(OR(ISBLANK(Table1[[#This Row],[Column48]]),ISBLANK(Table1[[#This Row],[Column49]])), \"\",Table1[[#This Row],[Column48]]*Table1[[#This Row],[Column49]])","v":""},null,null,null,null,{"$f":"IF(OR(ISBLANK(Table1[[#This Row],[Column52]]),ISBLANK(Table1[[#This Row],[Column53]])), \"\",Table1[[#This Row],[Column52]]*Table1[[#This Row],[Column53]])","v":""},null,null,null,null,{"$f":"IF(OR(ISBLANK(Table1[[#This Row],[Column57]]),ISBLANK(Table1[[#This Row],[Column58]])), \"\",Table1[[#This Row],[Column57]]*Table1[[#This Row],[Column58]])","v":""},null,null,null,null,{"$f":"IF(OR(ISBLANK(Table1[[#This Row],[Column61]]),ISBLANK(Table1[[#This Row],[Column62]])), \"\",Table1[[#This Row],[Column61]]*Table1[[#This Row],[Column62]])","v":""}]
[null,null,null,null,null,null,{"$f":"IF(OR(ISBLANK(Table1[[#This Row],[Column3]]),ISBLANK(Table1[[#This Row],[Column4]])), \"\",Table1[[#This Row],[Column3]]*Table1[[#This Row],[Column4]])","v":""},null,null,null,null,{"$f":"IF(OR(ISBLANK(Table1[[#This Row],[Column7]]),ISBLANK(Table1[[#This Row],[Column8]])), \"\",Table1[[#This Row],[Column7]]*Table1[[#This Row],[Column8]])","v":""},null,null,null,null,{"$f":"IF(OR(ISBLANK(Table1[[#This Row],[Column12]]),ISBLANK(Table1[[#This Row],[Column13]])), \"\",Table1[[#This Row],[Column12]]*Table1[[#This Row],[Column13]])","v":""},null,null,null,null,{"$f":"IF(OR(ISBLANK(Table1[[#This Row],[Column16]]),ISBLANK(Table1[[#This Row],[Column17]])), \"\",Table1[[#This Row],[Column16]]*Table1[[#This Row],[Column17]])","v":""},null,null,null,null,{"$f":"IF(OR(ISBLANK(Table1[[#This Row],[Column21]]),ISBLANK(Table1[[#This Row],[Column22]])), \"\",Table1[[#This Row],[Column21]]*Table1[[#This Row],[Column22]])","v":""},null,null,null,null,{"$f":"IF(OR(ISBLANK(Table1[[#This Row],[Column25]]),ISBLANK(Table1[[#This Row],[Column26]])), \"\",Table1[[#This Row],[Column25]]*Table1[[#This Row],[Column26]])","v":""},null,null,null,null,{"$f":"IF(OR(ISBLANK(Table1[[#This Row],[Column30]]),ISBLANK(Table1[[#This Row],[Column31]])), \"\",Table1[[#This Row],[Column30]]*Table1[[#This Row],[Column31]])","v":""},null,null,null,null,{"$f":"IF(OR(ISBLANK(Table1[[#This Row],[Column34]]),ISBLANK(Table1[[#This Row],[Column35]])), \"\",Table1[[#This Row],[Column34]]*Table1[[#This Row],[Column35]])","v":""},null,null,null,null,{"$f":"IF(OR(ISBLANK(Table1[[#This Row],[Column39]]),ISBLANK(Table1[[#This Row],[Column40]])), \"\",Table1[[#This Row],[Column39]]*Table1[[#This Row],[Column40]])","v":""},null,null,null,null,{"$f":"IF(OR(ISBLANK(Table1[[#This Row],[Column43]]),ISBLANK(Table1[[#This Row],[Column44]])), \"\",Table1[[#This Row],[Column43]]*Table1[[#This Row],[Column44]])","v":""},null,null,null,null,{"$f":"IF(OR(ISBLANK(Table1[[#This Row],[Column48]]),ISBLANK(Table1[[#This Row],[Column49]])), \"\",Table1[[#This Row],[Column48]]*Table1[[#This Row],[Column49]])","v":""},null,null,null,null,{"$f":"IF(OR(ISBLANK(Table1[[#This Row],[Column52]]),ISBLANK(Table1[[#This Row],[Column53]])), \"\",Table1[[#This Row],[Column52]]*Table1[[#This Row],[Column53]])","v":""},null,null,null,null,{"$f":"IF(OR(ISBLANK(Table1[[#This Row],[Column57]]),ISBLANK(Table1[[#This Row],[Column58]])), \"\",Table1[[#This Row],[Column57]]*Table1[[#This Row],[Column58]])","v":""},null,null,null,null,{"$f":"IF(OR(ISBLANK(Table1[[#This Row],[Column61]]),ISBLANK(Table1[[#This Row],[Column62]])), \"\",Table1[[#This Row],[Column61]]*Table1[[#This Row],[Column62]])","v":""}]
[null,null,null,null,null,null,{"$f":"IF(OR(ISBLANK(Table1[[#This Row],[Column3]]),ISBLANK(Table1[[#This Row],[Column4]])), \"\",Table1[[#This Row],[Column3]]*Table1[[#This Row],[Column4]])","v":""},null,null,null,null,{"$f":"IF(OR(ISBLANK(Table1[[#This Row],[Column7]]),ISBLANK(Table1[[#This Row],[Column8]])), \"\",Table1[[#This Row],[Column7]]*Table1[[#This Row],[Column8]])","v":""},null,null,null,null,{"$f":"IF(OR(ISBLANK(Table1[[#This Row],[Column12]]),ISBLANK(Table1[[#This Row],[Column13]])), \"\",Table1[[#This Row],[Column12]]*Table1[[#This Row],[Column13]])","v":""},null,null,null,null,{"$f":"IF(OR(ISBLANK(Table1[[#This Row],[Column16]]),ISBLANK(Table1[[#This Row],[Column17]])), \"\",Table1[[#This Row],[Column16]]*Table1[[#This Row],[Column17]])","v":""},null,null,null,null,{"$f":"IF(OR(ISBLANK(Table1[[#This Row],[Column21]]),ISBLANK(Table1[[#This Row],[Column22]])), \"\",Table1[[#This Row],[Column21]]*Table1[[#This Row],[Column22]])","v":""},null,null,null,null,{"$f":"IF(OR(ISBLANK(Table1[[#This Row],[Column25]]),ISBLANK(Table1[[#This Row],[Column26]])), \"\",Table1[[#This Row],[Column25]]*Table1[[#This Row],[Column26]])","v":""},null,null,null,null,{"$f":"IF(OR(ISBLANK(Table1[[#This Row],[Column30]]),ISBLANK(Table1[[#This Row],[Column31]])), \"\",Table1[[#This Row],[Column30]]*Table1[[#This Row],[Column31]])","v":""},null,null,null,null,{"$f":"IF(OR(ISBLANK(Table1[[#This Row],[Column34]]),ISBLANK(Table1[[#This Row],[Column35]])), \"\",Table1[[#This Row],[Column34]]*Table1[[#This Row],[Column35]])","v":""},null,null,null,null,{"$f":"IF(OR(ISBLANK(Table1[[#This Row],[Column39]]),ISBLANK(Table1[[#This Row],[Column40]])), \"\",Table1[[#This Row],[Column39]]*Table1[[#This Row],[Column40]])","v":""},null,null,null,null,{"$f":"IF(OR(ISBLANK(Table1[[#This Row],[Column43]]),ISBLANK(Table1[[#This Row],[Column44]])), \"\",Table1[[#This Row],[Column43]]*Table1[[#This Row],[Column44]])","v":""},null,null,null,null,{"$f":"IF(OR(ISBLANK(Table1[[#This Row],[Column48]]),ISBLANK(Table1[[#This Row],[Column49]])), \"\",Table1[[#This Row],[Column48]]*Table1[[#This Row],[Column49]])","v":""},null,null,null,null,{"$f":"IF(OR(ISBLANK(Table1[[#This Row],[Column52]]),ISBLANK(Table1[[#This Row],[Column53]])), \"\",Table1[[#This Row],[Column52]]*Table1[[#This Row],[Column53]])","v":""},null,null,null,null,{"$f":"IF(OR(ISBLANK(Table1[[#This Row],[Column57]]),ISBLANK(Table1[[#This Row],[Column58]])), \"\",Table1[[#This Row],[Column57]]*Table1[[#This Row],[Column58]])","v":""},null,null,null,null,{"$f":"IF(OR(ISBLANK(Table1[[#This Row],[Column61]]),ISBLANK(Table1[[#This Row],[Column62]])), \"\",Table1[[#This Row],[Column61]]*Table1[[#This Row],[Column62]])","v":""}]
[null,null,null,null,null,null,{"$f":"IF(OR(ISBLANK(Table1[[#This Row],[Column3]]),ISBLANK(Table1[[#This Row],[Column4]])), \"\",Table1[[#This Row],[Column3]]*Table1[[#This Row],[Column4]])","v":""},null,null,null,null,{"$f":"IF(OR(ISBLANK(Table1[[#This Row],[Column7]]),ISBLANK(Table1[[#This Row],[Column8]])), \"\",Table1[[#This Row],[Column7]]*Table1[[#This Row],[Column8]])","v":""},null,null,null,null,{"$f":"IF(OR(ISBLANK(Table1[[#This Row],[Column12]]),ISBLANK(Table1[[#This Row],[Column13]])), \"\",Table1[[#This Row],[Column12]]*Table1[[#This Row],[Column13]])","v":""},null,null,null,null,{"$f":"IF(OR(ISBLANK(Table1[[#This Row],[Column16]]),ISBLANK(Table1[[#This Row],[Column17]])), \"\",Table1[[#This Row],[Column16]]*Table1[[#This Row],[Column17]])","v":""},null,null,null,null,{"$f":"IF(OR(ISBLANK(Table1[[#This Row],[Column21]]),ISBLANK(Table1[[#This Row],[Column22]])), \"\",Table1[[#This Row],[Column21]]*Table1[[#This Row],[Column22]])","v":""},null,null,null,null,{"$f":"IF(OR(ISBLANK(Table1[[#This Row],[Column25]]),ISBLANK(Table1[[#This Row],[Column26]])), \"\",Table1[[#This Row],[Column25]]*Table1[[#This Row],[Column26]])","v":""},null,null,null,null,{"$f":"IF(OR(ISBLANK(Table1[[#This Row],[Column30]]),ISBLANK(Table1[[#This Row],[Column31]])), \"\",Table1[[#This Row],[Column30]]*Table1[[#This Row],[Column31]])","v":""},null,null,null,null,{"$f":"IF(OR(ISBLANK(Table1[[#This Row],[Column34]]),ISBLANK(Table1[[#This Row],[Column35]])), \"\",Table1[[#This Row],[Column34]]*Table1[[#This Row],[Column35]])","v":""},null,null,null,null,{"$f":"IF(OR(ISBLANK(Table1[[#This Row],[Column39]]),ISBLANK(Table1[[#This Row],[Column40]])), \"\",Table1[[#This Row],[Column39]]*Table1[[#This Row],[Column40]])","v":""},null,null,null,null,{"$f":"IF(OR(ISBLANK(Table1[[#This Row],[Column43]]),ISBLANK(Table1[[#This Row],[Column44]])), \"\",Table1[[#This Row],[Column43]]*Table1[[#This Row],[Column44]])","v":""},null,null,null,null,{"$f":"IF(OR(ISBLANK(Table1[[#This Row],[Column48]]),ISBLANK(Table1[[#This Row],[Column49]])), \"\",Table1[[#This Row],[Column48]]*Table1[[#This Row],[Column49]])","v":""},null,null,null,null,{"$f":"IF(OR(ISBLANK(Table1[[#This Row],[Column52]]),ISBLANK(Table1[[#This Row],[Column53]])), \"\",Table1[[#This Row],[Column52]]*Table1[[#This Row],[Column53]])","v":""},null,null,null,null,{"$f":"IF(OR(ISBLANK(Table1[[#This Row],[Column57]]),ISBLANK(Table1[[#This Row],[Column58]])), \"\",Table1[[#This Row],[Column57]]*Table1[[#This Row],[Column58]])","v":""},null,null,null,null,{"$f":"IF(OR(ISBLANK(Table1[[#This Row],[Column61]]),ISBLANK(Table1[[#This Row],[Column62]])), \"\",Table1[[#This Row],[Column61]]*Table1[[#This Row],[Column62]])","v":""}]
[null,null,null,null,null,null,{"$f":"IF(OR(ISBLANK(Table1[[#This Row],[Column3]]),ISBLANK(Table1[[#This Row],[Column4]])), \"\",Table1[[#This Row],[Column3]]*Table1[[#This Row],[Column4]])","v":""},null,null,null,null,{"$f":"IF(OR(ISBLANK(Table1[[#This Row],[Column7]]),ISBLANK(Table1[[#This Row],[Column8]])), \"\",Table1[[#This Row],[Column7]]*Table1[[#This Row],[Column8]])","v":""},null,null,null,null,{"$f":"IF(OR(ISBLANK(Table1[[#This Row],[Column12]]),ISBLANK(Table1[[#This Row],[Column13]])), \"\",Table1[[#This Row],[Column12]]*Table1[[#This Row],[Column13]])","v":""},null,null,null,null,{"$f":"IF(OR(ISBLANK(Table1[[#This Row],[Column16]]),ISBLANK(Table1[[#This Row],[Column17]])), \"\",Table1[[#This Row],[Column16]]*Table1[[#This Row],[Column17]])","v":""},null,null,null,null,{"$f":"IF(OR(ISBLANK(Table1[[#This Row],[Column21]]),ISBLANK(Table1[[#This Row],[Column22]])), \"\",Table1[[#This Row],[Column21]]*Table1[[#This Row],[Column22]])","v":""},null,null,null,null,{"$f":"IF(OR(ISBLANK(Table1[[#This Row],[Column25]]),ISBLANK(Table1[[#This Row],[Column26]])), \"\",Table1[[#This Row],[Column25]]*Table1[[#This Row],[Column26]])","v":""},null,null,null,null,{"$f":"IF(OR(ISBLANK(Table1[[#This Row],[Column30]]),ISBLANK(Table1[[#This Row],[Column31]])), \"\",Table1[[#This Row],[Column30]]*Table1[[#This Row],[Column31]])","v":""},null,null,null,null,{"$f":"IF(OR(ISBLANK(Table1[[#This Row],[Column34]]),ISBLANK(Table1[[#This Row],[Column35]])), \"\",Table1[[#This Row],[Column34]]*Table1[[#This Row],[Column35]])","v":""},null,null,null,null,{"$f":"IF(OR(ISBLANK(Table1[[#This Row],[Column39]]),ISBLANK(Table1[[#This Row],[Column40]])), \"\",Table1[[#This Row],[Column39]]*Table1[[#This Row],[Column40]])","v":""},null,null,null,null,{"$f":"IF(OR(ISBLANK(Table1[[#This Row],[Column43]]),ISBLANK(Table1[[#This Row],[Column44]])), \"\",Table1[[#This Row],[Column43]]*Table1[[#This Row],[Column44]])","v":""},null,null,null,null,{"$f":"IF(OR(ISBLANK(Table1[[#This Row],[Column48]]),ISBLANK(Table1[[#This Row],[Column49]])), \"\",Table1[[#This Row],[Column48]]*Table1[[#This Row],[Column49]])","v":""},null,null,null,null,{"$f":"IF(OR(ISBLANK(Table1[[#This Row],[Column52]]),ISBLANK(Table1[[#This Row],[Column53]])), \"\",Table1[[#This Row],[Column52]]*Table1[[#This Row],[Column53]])","v":""},null,null,null,null,{"$f":"IF(OR(ISBLANK(Table1[[#This Row],[Column57]]),ISBLANK(Table1[[#This Row],[Column58]])), \"\",Table1[[#This Row],[Column57]]*Table1[[#This Row],[Column58]])","v":""},null,null,null,null,{"$f":"IF(OR(ISBLANK(Table1[[#This Row],[Column61]]),ISBLANK(Table1[[#This Row],[Column62]])), \"\",Table1[[#This Row],[Column61]]*Table1[[#This Row],[Column62]])","v":""}]
[null,null,null,null,null,null,{"$f":"IF(OR(ISBLANK(Table1[[#This Row],[Column3]]),ISBLANK(Table1[[#This Row],[Column4]])), \"\",Table1[[#This Row],[Column3]]*Table1[[#This Row],[Column4]])","v":""},null,null,null,null,{"$f":"IF(OR(ISBLANK(Table1[[#This Row],[Column7]]),ISBLANK(Table1[[#This Row],[Column8]])), \"\",Table1[[#This Row],[Column7]]*Table1[[#This Row],[Column8]])","v":""},null,null,null,null,{"$f":"IF(OR(ISBLANK(Table1[[#This Row],[Column12]]),ISBLANK(Table1[[#This Row],[Column13]])), \"\",Table1[[#This Row],[Column12]]*Table1[[#This Row],[Column13]])","v":""},null,null,null,null,{"$f":"IF(OR(ISBLANK(Table1[[#This Row],[Column16]]),ISBLANK(Table1[[#This Row],[Column17]])), \"\",Table1[[#This Row],[Column16]]*Table1[[#This Row],[Column17]])","v":""},null,null,null,null,{"$f":"IF(OR(ISBLANK(Table1[[#This Row],[Column21]]),ISBLANK(Table1[[#This Row],[Column22]])), \"\",Table1[[#This Row],[Column21]]*Table1[[#This Row],[Column22]])","v":""},null,null,null,null,{"$f":"IF(OR(ISBLANK(Table1[[#This Row],[Column25]]),ISBLANK(Table1[[#This Row],[Column26]])), \"\",Table1[[#This Row],[Column25]]*Table1[[#This Row],[Column26]])","v":""},null,null,null,null,{"$f":"IF(OR(ISBLANK(Table1[[#This Row],[Column30]]),ISBLANK(Table1[[#This Row],[Column31]])), \"\",Table1[[#This Row],[Column30]]*Table1[[#This Row],[Column31]])","v":""},null,null,null,null,{"$f":"IF(OR(ISBLANK(Table1[[#This Row],[Column34]]),ISBLANK(Table1[[#This Row],[Column35]])), \"\",Table1[[#This Row],[Column34]]*Table1[[#This Row],[Column35]])","v":""},null,null,null,null,{"$f":"IF(OR(ISBLANK(Table1[[#This Row],[Column39]]),ISBLANK(Table1[[#This Row],[Column40]])), \"\",Table1[[#This Row],[Column39]]*Table1[[#This Row],[Column40]])","v":""},null,null,null,null,{"$f":"IF(OR(ISBLANK(Table1[[#This Row],[Column43]]),ISBLANK(Table1[[#This Row],[Column44]])), \"\",Table1[[#This Row],[Column43]]*Table1[[#This Row],[Column44]])","v":""},null,null,null,null,{"$f":"IF(OR(ISBLANK(Table1[[#This Row],[Column48]]),ISBLANK(Table1[[#This Row],[Column49]])), \"\",Table1[[#This Row],[Column48]]*Table1[[#This Row],[Column49]])","v":""},null,null,null,null,{"$f":"IF(OR(ISBLANK(Table1[[#This Row],[Column52]]),ISBLANK(Table1[[#This Row],[Column53]])), \"\",Table1[[#This Row],[Column52]]*Table1[[#This Row],[Column53]])","v":""},null,null,null,null,{"$f":"IF(OR(ISBLANK(Table1[[#This Row],[Column57]]),ISBLANK(Table1[[#This Row],[Column58]])), \"\",Table1[[#This Row],[Column57]]*Table1[[#This Row],[Column58]])","v":""},null,null,null,null,{"$f":"IF(OR(ISBLANK(Table1[[#This Row],[Column61]]),ISBLANK(Table1[[#This Row],[Column62]])), \"\",Table1[[#This Row],[Column61]]*Table1[[#This Row],[Column62]])","v":""}]
[null,null,null,null,null,null,{"$f":"IF(OR(ISBLANK(Table1[[#This Row],[Column3]]),ISBLANK(Table1[[#This Row],[Column4]])), \"\",Table1[[#This Row],[Column3]]*Table1[[#This Row],[Column4]])","v":""},null,null,null,null,{"$f":"IF(OR(ISBLANK(Table1[[#This Row],[Column7]]),ISBLANK(Table1[[#This Row],[Column8]])), \"\",Table1[[#This Row],[Column7]]*Table1[[#This Row],[Column8]])","v":""},null,null,null,null,{"$f":"IF(OR(ISBLANK(Table1[[#This Row],[Column12]]),ISBLANK(Table1[[#This Row],[Column13]])), \"\",Table1[[#This Row],[Column12]]*Table1[[#This Row],[Column13]])","v":""},null,null,null,null,{"$f":"IF(OR(ISBLANK(Table1[[#This Row],[Column16]]),ISBLANK(Table1[[#This Row],[Column17]])), \"\",Table1[[#This Row],[Column16]]*Table1[[#This Row],[Column17]])","v":""},null,null,null,null,{"$f":"IF(OR(ISBLANK(Table1[[#This Row],[Column21]]),ISBLANK(Table1[[#This Row],[Column22]])), \"\",Table1[[#This Row],[Column21]]*Table1[[#This Row],[Column22]])","v":""},null,null,null,null,{"$f":"IF(OR(ISBLANK(Table1[[#This Row],[Column25]]),ISBLANK(Table1[[#This Row],[Column26]])), \"\",Table1[[#This Row],[Column25]]*Table1[[#This Row],[Column26]])","v":""},null,null,null,null,{"$f":"IF(OR(ISBLANK(Table1[[#This Row],[Column30]]),ISBLANK(Table1[[#This Row],[Column31]])), \"\",Table1[[#This Row],[Column30]]*Table1[[#This Row],[Column31]])","v":""},null,null,null,null,{"$f":"IF(OR(ISBLANK(Table1[[#This Row],[Column34]]),ISBLANK(Table1[[#This Row],[Column35]])), \"\",Table1[[#This Row],[Column34]]*Table1[[#This Row],[Column35]])","v":""},null,null,null,null,{"$f":"IF(OR(ISBLANK(Table1[[#This Row],[Column39]]),ISBLANK(Table1[[#This Row],[Column40]])), \"\",Table1[[#This Row],[Column39]]*Table1[[#This Row],[Column40]])","v":""},null,null,null,null,{"$f":"IF(OR(ISBLANK(Table1[[#This Row],[Column43]]),ISBLANK(Table1[[#This Row],[Column44]])), \"\",Table1[[#This Row],[Column43]]*Table1[[#This Row],[Column44]])","v":""},null,null,null,null,{"$f":"IF(OR(ISBLANK(Table1[[#This Row],[Column48]]),ISBLANK(Table1[[#This Row],[Column49]])), \"\",Table1[[#This Row],[Column48]]*Table1[[#This Row],[Column49]])","v":""},null,null,null,null,{"$f":"IF(OR(ISBLANK(Table1[[#This Row],[Column52]]),ISBLANK(Table1[[#This Row],[Column53]])), \"\",Table1[[#This Row],[Column52]]*Table1[[#This Row],[Column53]])","v":""},null,null,null,null,{"$f":"IF(OR(ISBLANK(Table1[[#This Row],[Column57]]),ISBLANK(Table1[[#This Row],[Column58]])), \"\",Table1[[#This Row],[Column57]]*Table1[[#This Row],[Column58]])","v":""},null,null,null,null,{"$f":"IF(OR(ISBLANK(Table1[[#This Row],[Column61]]),ISBLANK(Table1[[#This Row],[Column62]])), \"\",Table1[[#This Row],[Column61]]*Table1[[#This Row],[Column62]])","v":""}]
[null,null,null,null,null,null,{"$f":"IF(OR(ISBLANK(Table1[[#This Row],[Column3]]),ISBLANK(Table1[[#This Row],[Column4]])), \"\",Table1[[#This Row],[Column3]]*Table1[[#This Row],[Column4]])","v":""},null,null,null,null,{"$f":"IF(OR(ISBLANK(Table1[[#This Row],[Column7]]),ISBLANK(Table1[[#This Row],[Column8]])), \"\",Table1[[#This Row],[Column7]]*Table1[[#This Row],[Column8]])","v":""},null,null,null,null,{"$f":"IF(OR(ISBLANK(Table1[[#This Row],[Column12]]),ISBLANK(Table1[[#This Row],[Column13]])), \"\",Table1[[#This Row],[Column12]]*Table1[[#This Row],[Column13]])","v":""},null,null,null,null,{"$f":"IF(OR(ISBLANK(Table1[[#This Row],[Column16]]),ISBLANK(Table1[[#This Row],[Column17]])), \"\",Table1[[#This Row],[Column16]]*Table1[[#This Row],[Column17]])","v":""},null,null,null,null,{"$f":"IF(OR(ISBLANK(Table1[[#This Row],[Column21]]),ISBLANK(Table1[[#This Row],[Column22]])), \"\",Table1[[#This Row],[Column21]]*Table1[[#This Row],[Column22]])","v":""},null,null,null,null,{"$f":"IF(OR(ISBLANK(Table1[[#This Row],[Column25]]),ISBLANK(Table1[[#This Row],[Column26]])), \"\",Table1[[#This Row],[Column25]]*Table1[[#This Row],[Column26]])","v":""},null,null,null,null,{"$f":"IF(OR(ISBLANK(Table1[[#This Row],[Column30]]),ISBLANK(Table1[[#This Row],[Column31]])), \"\",Table1[[#This Row],[Column30]]*Table1[[#This Row],[Column31]])","v":""},null,null,null,null,{"$f":"IF(OR(ISBLANK(Table1[[#This Row],[Column34]]),ISBLANK(Table1[[#This Row],[Column35]])), \"\",Table1[[#This Row],[Column34]]*Table1[[#This Row],[Column35]])","v":""},null,null,null,null,{"$f":"IF(OR(ISBLANK(Table1[[#This Row],[Column39]]),ISBLANK(Table1[[#This Row],[Column40]])), \"\",Table1[[#This Row],[Column39]]*Table1[[#This Row],[Column40]])","v":""},null,null,null,null,{"$f":"IF(OR(ISBLANK(Table1[[#This Row],[Column43]]),ISBLANK(Table1[[#This Row],[Column44]])), \"\",Table1[[#This Row],[Column43]]*Table1[[#This Row],[Column44]])","v":""},null,null,null,null,{"$f":"IF(OR(ISBLANK(Table1[[#This Row],[Column48]]),ISBLANK(Table1[[#This Row],[Column49]])), \"\",Table1[[#This Row],[Column48]]*Table1[[#This Row],[Column49]])","v":""},null,null,null,null,{"$f":"IF(OR(ISBLANK(Table1[[#This Row],[Column52]]),ISBLANK(Table1[[#This Row],[Column53]])), \"\",Table1[[#This Row],[Column52]]*Table1[[#This Row],[Column53]])","v":""},null,null,null,null,{"$f":"IF(OR(ISBLANK(Table1[[#This Row],[Column57]]),ISBLANK(Table1[[#This Row],[Column58]])), \"\",Table1[[#This Row],[Column57]]*Table1[[#This Row],[Column58]])","v":""},null,null,null,null,{"$f":"IF(OR(ISBLANK(Table1[[#This Row],[Column61]]),ISBLANK(Table1[[#This Row],[Column62]])), \"\",Table1[[#This Row],[Column61]]*Table1[[#This Row],[Column62]])","v":""}]
[null,null,null,null,null,null,{"$f":"IF(OR(ISBLANK(Table1[[#This Row],[Column3]]),ISBLANK(Table1[[#This Row],[Column4]])), \"\",Table1[[#This Row],[Column3]]*Table1[[#This Row],[Column4]])","v":""},null,null,null,null,{"$f":"IF(OR(ISBLANK(Table1[[#This Row],[Column7]]),ISBLANK(Table1[[#This Row],[Column8]])), \"\",Table1[[#This Row],[Column7]]*Table1[[#This Row],[Column8]])","v":""},null,null,null,null,{"$f":"IF(OR(ISBLANK(Table1[[#This Row],[Column12]]),ISBLANK(Table1[[#This Row],[Column13]])), \"\",Table1[[#This Row],[Column12]]*Table1[[#This Row],[Column13]])","v":""},null,null,null,null,{"$f":"IF(OR(ISBLANK(Table1[[#This Row],[Column16]]),ISBLANK(Table1[[#This Row],[Column17]])), \"\",Table1[[#This Row],[Column16]]*Table1[[#This Row],[Column17]])","v":""},null,null,null,null,{"$f":"IF(OR(ISBLANK(Table1[[#This Row],[Column21]]),ISBLANK(Table1[[#This Row],[Column22]])), \"\",Table1[[#This Row],[Column21]]*Table1[[#This Row],[Column22]])","v":""},null,null,null,null,{"$f":"IF(OR(ISBLANK(Table1[[#This Row],[Column25]]),ISBLANK(Table1[[#This Row],[Column26]])), \"\",Table1[[#This Row],[Column25]]*Table1[[#This Row],[Column26]])","v":""},null,null,null,null,{"$f":"IF(OR(ISBLANK(Table1[[#This Row],[Column30]]),ISBLANK(Table1[[#This Row],[Column31]])), \"\",Table1[[#This Row],[Column30]]*Table1[[#This Row],[Column31]])","v":""},null,null,null,null,{"$f":"IF(OR(ISBLANK(Table1[[#This Row],[Column34]]),ISBLANK(Table1[[#This Row],[Column35]])), \"\",Table1[[#This Row],[Column34]]*Table1[[#This Row],[Column35]])","v":""},null,null,null,null,{"$f":"IF(OR(ISBLANK(Table1[[#This Row],[Column39]]),ISBLANK(Table1[[#This Row],[Column40]])), \"\",Table1[[#This Row],[Column39]]*Table1[[#This Row],[Column40]])","v":""},null,null,null,null,{"$f":"IF(OR(ISBLANK(Table1[[#This Row],[Column43]]),ISBLANK(Table1[[#This Row],[Column44]])), \"\",Table1[[#This Row],[Column43]]*Table1[[#This Row],[Column44]])","v":""},null,null,null,null,{"$f":"IF(OR(ISBLANK(Table1[[#This Row],[Column48]]),ISBLANK(Table1[[#This Row],[Column49]])), \"\",Table1[[#This Row],[Column48]]*Table1[[#This Row],[Column49]])","v":""},null,null,null,null,{"$f":"IF(OR(ISBLANK(Table1[[#This Row],[Column52]]),ISBLANK(Table1[[#This Row],[Column53]])), \"\",Table1[[#This Row],[Column52]]*Table1[[#This Row],[Column53]])","v":""},null,null,null,null,{"$f":"IF(OR(ISBLANK(Table1[[#This Row],[Column57]]),ISBLANK(Table1[[#This Row],[Column58]])), \"\",Table1[[#This Row],[Column57]]*Table1[[#This Row],[Column58]])","v":""},null,null,null,null,{"$f":"IF(OR(ISBLANK(Table1[[#This Row],[Column61]]),ISBLANK(Table1[[#This Row],[Column62]])), \"\",Table1[[#This Row],[Column61]]*Table1[[#This Row],[Column62]])","v":""}]
[null,null,null,null,null,null,{"$f":"IF(OR(ISBLANK(Table1[[#This Row],[Column3]]),ISBLANK(Table1[[#This Row],[Column4]])), \"\",Table1[[#This Row],[Column3]]*Table1[[#This Row],[Column4]])","v":""},null,null,null,null,{"$f":"IF(OR(ISBLANK(Table1[[#This Row],[Column7]]),ISBLANK(Table1[[#This Row],[Column8]])), \"\",Table1[[#This Row],[Column7]]*Table1[[#This Row],[Column8]])","v":""},null,null,null,null,{"$f":"IF(OR(ISBLANK(Table1[[#This Row],[Column12]]),ISBLANK(Table1[[#This Row],[Column13]])), \"\",Table1[[#This Row],[Column12]]*Table1[[#This Row],[Column13]])","v":""},null,null,null,null,{"$f":"IF(OR(ISBLANK(Table1[[#This Row],[Column16]]),ISBLANK(Table1[[#This Row],[Column17]])), \"\",Table1[[#This Row],[Column16]]*Table1[[#This Row],[Column17]])","v":""},null,null,null,null,{"$f":"IF(OR(ISBLANK(Table1[[#This Row],[Column21]]),ISBLANK(Table1[[#This Row],[Column22]])), \"\",Table1[[#This Row],[Column21]]*Table1[[#This Row],[Column22]])","v":""},null,null,null,null,{"$f":"IF(OR(ISBLANK(Table1[[#This Row],[Column25]]),ISBLANK(Table1[[#This Row],[Column26]])), \"\",Table1[[#This Row],[Column25]]*Table1[[#This Row],[Column26]])","v":""},null,null,null,null,{"$f":"IF(OR(ISBLANK(Table1[[#This Row],[Column30]]),ISBLANK(Table1[[#This Row],[Column31]])), \"\",Table1[[#This Row],[Column30]]*Table1[[#This Row],[Column31]])","v":""},null,null,null,null,{"$f":"IF(OR(ISBLANK(Table1[[#This Row],[Column34]]),ISBLANK(Table1[[#This Row],[Column35]])), \"\",Table1[[#This Row],[Column34]]*Table1[[#This Row],[Column35]])","v":""},null,null,null,null,{"$f":"IF(OR(ISBLANK(Table1[[#This Row],[Column39]]),ISBLANK(Table1[[#This Row],[Column40]])), \"\",Table1[[#This Row],[Column39]]*Table1[[#This Row],[Column40]])","v":""},null,null,null,null,{"$f":"IF(OR(ISBLANK(Table1[[#This Row],[Column43]]),ISBLANK(Table1[[#This Row],[Column44]])), \"\",Table1[[#This Row],[Column43]]*Table1[[#This Row],[Column44]])","v":""},null,null,null,null,{"$f":"IF(OR(ISBLANK(Table1[[#This Row],[Column48]]),ISBLANK(Table1[[#This Row],[Column49]])), \"\",Table1[[#This Row],[Column48]]*Table1[[#This Row],[Column49]])","v":""},null,null,null,null,{"$f":"IF(OR(ISBLANK(Table1[[#This Row],[Column52]]),ISBLANK(Table1[[#This Row],[Column53]])), \"\",Table1[[#This Row],[Column52]]*Table1[[#This Row],[Column53]])","v":""},null,null,null,null,{"$f":"IF(OR(ISBLANK(Table1[[#This Row],[Column57]]),ISBLANK(Table1[[#This Row],[Column58]])), \"\",Table1[[#This Row],[Column57]]*Table1[[#This Row],[Column58]])","v":""},null,null,null,null,{"$f":"IF(OR(ISBLANK(Table1[[#This Row],[Column61]]),ISBLANK(Table1[[#This Row],[Column62]])), \"\",Table1[[#This Row],[Column61]]*Table1[[#This Row],[Column62]])","v":""}]
[null,null,null,null,null,null,{"$f":"IF(OR(ISBLANK(Table1[[#This Row],[Column3]]),ISBLANK(Table1[[#This Row],[Column4]])), \"\",Table1[[#This Row],[Column3]]*Table1[[#This Row],[Column4]])","v":""},null,null,null,null,{"$f":"IF(OR(ISBLANK(Table1[[#This Row],[Column7]]),ISBLANK(Table1[[#This Row],[Column8]])), \"\",Table1[[#This Row],[Column7]]*Table1[[#This Row],[Column8]])","v":""},null,null,null,null,{"$f":"IF(OR(ISBLANK(Table1[[#This Row],[Column12]]),ISBLANK(Table1[[#This Row],[Column13]])), \"\",Table1[[#This Row],[Column12]]*Table1[[#This Row],[Column13]])","v":""},null,null,null,null,{"$f":"IF(OR(ISBLANK(Table1[[#This Row],[Column16]]),ISBLANK(Table1[[#This Row],[Column17]])), \"\",Table1[[#This Row],[Column16]]*Table1[[#This Row],[Column17]])","v":""},null,null,null,null,{"$f":"IF(OR(ISBLANK(Table1[[#This Row],[Column21]]),ISBLANK(Table1[[#This Row],[Column22]])), \"\",Table1[[#This Row],[Column21]]*Table1[[#This Row],[Column22]])","v":""},null,null,null,null,{"$f":"IF(OR(ISBLANK(Table1[[#This Row],[Column25]]),ISBLANK(Table1[[#This Row],[Column26]])), \"\",Table1[[#This Row],[Column25]]*Table1[[#This Row],[Column26]])","v":""},null,null,null,null,{"$f":"IF(OR(ISBLANK(Table1[[#This Row],[Column30]]),ISBLANK(Table1[[#This Row],[Column31]])), \"\",Table1[[#This Row],[Column30]]*Table1[[#This Row],[Column31]])","v":""},null,null,null,null,{"$f":"IF(OR(ISBLANK(Table1[[#This Row],[Column34]]),ISBLANK(Table1[[#This Row],[Column35]])), \"\",Table1[[#This Row],[Column34]]*Table1[[#This Row],[Column35]])","v":""},null,null,null,null,{"$f":"IF(OR(ISBLANK(Table1[[#This Row],[Column39]]),ISBLANK(Table1[[#This Row],[Column40]])), \"\",Table1[[#This Row],[Column39]]*Table1[[#This Row],[Column40]])","v":""},null,null,null,null,{"$f":"IF(OR(ISBLANK(Table1[[#This Row],[Column43]]),ISBLANK(Table1[[#This Row],[Column44]])), \"\",Table1[[#This Row],[Column43]]*Table1[[#This Row],[Column44]])","v":""},null,null,null,null,{"$f":"IF(OR(ISBLANK(Table1[[#This Row],[Column48]]),ISBLANK(Table1[[#This Row],[Column49]])), \"\",Table1[[#This Row],[Column48]]*Table1[[#This Row],[Column49]])","v":""},null,null,null,null,{"$f":"IF(OR(ISBLANK(Table1[[#This Row],[Column52]]),ISBLANK(Table1[[#This Row],[Column53]])), \"\",Table1[[#This Row],[Column52]]*Table1[[#This Row],[Column53]])","v":""},null,null,null,null,{"$f":"IF(OR(ISBLANK(Table1[[#This Row],[Column57]]),ISBLANK(Table1[[#This Row],[Column58]])), \"\",Table1[[#This Row],[Column57]]*Table1[[#This Row],[Column58]])","v":""},null,null,null,null,{"$f":"IF(OR(ISBLANK(Table1[[#This Row],[Column61]]),ISBLANK(Table1[[#This Row],[Column62]])), \"\",Table1[[#This Row],[Column61]]*Table1[[#This Row],[Column62]])","v":""}]
[null,null,null,null,null,null,{"$f":"IF(OR(ISBLANK(Table1[[#This Row],[Column3]]),ISBLANK(Table1[[#This Row],[Column4]])), \"\",Table1[[#This Row],[Column3]]*Table1[[#This Row],[Column4]])","v":""},null,null,null,null,{"$f":"IF(OR(ISBLANK(Table1[[#This Row],[Column7]]),ISBLANK(Table1[[#This Row],[Column8]])), \"\",Table1[[#This Row],[Column7]]*Table1[[#This Row],[Column8]])","v":""},null,null,null,null,{"$f":"IF(OR(ISBLANK(Table1[[#This Row],[Column12]]),ISBLANK(Table1[[#This Row],[Column13]])), \"\",Table1[[#This Row],[Column12]]*Table1[[#This Row],[Column13]])","v":""},null,null,null,null,{"$f":"IF(OR(ISBLANK(Table1[[#This Row],[Column16]]),ISBLANK(Table1[[#This Row],[Column17]])), \"\",Table1[[#This Row],[Column16]]*Table1[[#This Row],[Column17]])","v":""},null,null,null,null,{"$f":"IF(OR(ISBLANK(Table1[[#This Row],[Column21]]),ISBLANK(Table1[[#This Row],[Column22]])), \"\",Table1[[#This Row],[Column21]]*Table1[[#This Row],[Column22]])","v":""},null,null,null,null,{"$f":"IF(OR(ISBLANK(Table1[[#This Row],[Column25]]),ISBLANK(Table1[[#This Row],[Column26]])), \"\",Table1[[#This Row],[Column25]]*Table1[[#This Row],[Column26]])","v":""},null,null,null,null,{"$f":"IF(OR(ISBLANK(Table1[[#This Row],[Column30]]),ISBLANK(Table1[[#This Row],[Column31]])), \"\",Table1[[#This Row],[Column30]]*Table1[[#This Row],[Column31]])","v":""},null,null,null,null,{"$f":"IF(OR(ISBLANK(Table1[[#This Row],[Column34]]),ISBLANK(Table1[[#This Row],[Column35]])), \"\",Table1[[#This Row],[Column34]]*Table1[[#This Row],[Column35]])","v":""},null,null,null,null,{"$f":"IF(OR(ISBLANK(Table1[[#This Row],[Column39]]),ISBLANK(Table1[[#This Row],[Column40]])), \"\",Table1[[#This Row],[Column39]]*Table1[[#This Row],[Column40]])","v":""},null,null,null,null,{"$f":"IF(OR(ISBLANK(Table1[[#This Row],[Column43]]),ISBLANK(Table1[[#This Row],[Column44]])), \"\",Table1[[#This Row],[Column43]]*Table1[[#This Row],[Column44]])","v":""},null,null,null,null,{"$f":"IF(OR(ISBLANK(Table1[[#This Row],[Column48]]),ISBLANK(Table1[[#This Row],[Column49]])), \"\",Table1[[#This Row],[Column48]]*Table1[[#This Row],[Column49]])","v":""},null,null,null,null,{"$f":"IF(OR(ISBLANK(Table1[[#This Row],[Column52]]),ISBLANK(Table1[[#This Row],[Column53]])), \"\",Table1[[#This Row],[Column52]]*Table1[[#This Row],[Column53]])","v":""},null,null,null,null,{"$f":"IF(OR(ISBLANK(Table1[[#This Row],[Column57]]),ISBLANK(Table1[[#This Row],[Column58]])), \"\",Table1[[#This Row],[Column57]]*Table1[[#This Row],[Column58]])","v":""},null,null,null,null,{"$f":"IF(OR(ISBLANK(Table1[[#This Row],[Column61]]),ISBLANK(Table1[[#This Row],[Column62]])), \"\",Table1[[#This Row],[Column61]]*Table1[[#This Row],[Column62]])","v":""}]
[null,null,null,null,null,null,{"$f":"IF(OR(ISBLANK(Table1[[#This Row],[Column3]]),ISBLANK(Table1[[#This Row],[Column4]])), \"\",Table1[[#This Row],[Column3]]*Table1[[#This Row],[Column4]])","v":""},null,null,null,null,{"$f":"IF(OR(ISBLANK(Table1[[#This Row],[Column7]]),ISBLANK(Table1[[#This Row],[Column8]])), \"\",Table1[[#This Row],[Column7]]*Table1[[#This Row],[Column8]])","v":""},null,null,null,null,{"$f":"IF(OR(ISBLANK(Table1[[#This Row],[Column12]]),ISBLANK(Table1[[#This Row],[Column13]])), \"\",Table1[[#This Row],[Column12]]*Table1[[#This Row],[Column13]])","v":""},null,null,null,null,{"$f":"IF(OR(ISBLANK(Table1[[#This Row],[Column16]]),ISBLANK(Table1[[#This Row],[Column17]])), \"\",Table1[[#This Row],[Column16]]*Table1[[#This Row],[Column17]])","v":""},null,null,null,null,{"$f":"IF(OR(ISBLANK(Table1[[#This Row],[Column21]]),ISBLANK(Table1[[#This Row],[Column22]])), \"\",Table1[[#This Row],[Column21]]*Table1[[#This Row],[Column22]])","v":""},null,null,null,null,{"$f":"IF(OR(ISBLANK(Table1[[#This Row],[Column25]]),ISBLANK(Table1[[#This Row],[Column26]])), \"\",Table1[[#This Row],[Column25]]*Table1[[#This Row],[Column26]])","v":""},null,null,null,null,{"$f":"IF(OR(ISBLANK(Table1[[#This Row],[Column30]]),ISBLANK(Table1[[#This Row],[Column31]])), \"\",Table1[[#This Row],[Column30]]*Table1[[#This Row],[Column31]])","v":""},null,null,null,null,{"$f":"IF(OR(ISBLANK(Table1[[#This Row],[Column34]]),ISBLANK(Table1[[#This Row],[Column35]])), \"\",Table1[[#This Row],[Column34]]*Table1[[#This Row],[Column35]])","v":""},null,null,null,null,{"$f":"IF(OR(ISBLANK(Table1[[#This Row],[Column39]]),ISBLANK(Table1[[#This Row],[Column40]])), \"\",Table1[[#This Row],[Column39]]*Table1[[#This Row],[Column40]])","v":""},null,null,null,null,{"$f":"IF(OR(ISBLANK(Table1[[#This Row],[Column43]]),ISBLANK(Table1[[#This Row],[Column44]])), \"\",Table1[[#This Row],[Column43]]*Table1[[#This Row],[Column44]])","v":""},null,null,null,null,{"$f":"IF(OR(ISBLANK(Table1[[#This Row],[Column48]]),ISBLANK(Table1[[#This Row],[Column49]])), \"\",Table1[[#This Row],[Column48]]*Table1[[#This Row],[Column49]])","v":""},null,null,null,null,{"$f":"IF(OR(ISBLANK(Table1[[#This Row],[Column52]]),ISBLANK(Table1[[#This Row],[Column53]])), \"\",Table1[[#This Row],[Column52]]*Table1[[#This Row],[Column53]])","v":""},null,null,null,null,{"$f":"IF(OR(ISBLANK(Table1[[#This Row],[Column57]]),ISBLANK(Table1[[#This Row],[Column58]])), \"\",Table1[[#This Row],[Column57]]*Table1[[#This Row],[Column58]])","v":""},null,null,null,null,{"$f":"IF(OR(ISBLANK(Table1[[#This Row],[Column61]]),ISBLANK(Table1[[#This Row],[Column62]])), \"\",Table1[[#This Row],[Column61]]*Table1[[#This Row],[Column62]])","v":""}]
[null,null,null,null,null,null,{"$f":"IF(OR(ISBLANK(Table1[[#This Row],[Column3]]),ISBLANK(Table1[[#This Row],[Column4]])), \"\",Table1[[#This Row],[Column3]]*Table1[[#This Row],[Column4]])","v":""},null,null,null,null,{"$f":"IF(OR(ISBLANK(Table1[[#This Row],[Column7]]),ISBLANK(Table1[[#This Row],[Column8]])), \"\",Table1[[#This Row],[Column7]]*Table1[[#This Row],[Column8]])","v":""},null,null,null,null,{"$f":"IF(OR(ISBLANK(Table1[[#This Row],[Column12]]),ISBLANK(Table1[[#This Row],[Column13]])), \"\",Table1[[#This Row],[Column12]]*Table1[[#This Row],[Column13]])","v":""},null,null,null,null,{"$f":"IF(OR(ISBLANK(Table1[[#This Row],[Column16]]),ISBLANK(Table1[[#This Row],[Column17]])), \"\",Table1[[#This Row],[Column16]]*Table1[[#This Row],[Column17]])","v":""},null,null,null,null,{"$f":"IF(OR(ISBLANK(Table1[[#This Row],[Column21]]),ISBLANK(Table1[[#This Row],[Column22]])), \"\",Table1[[#This Row],[Column21]]*Table1[[#This Row],[Column22]])","v":""},null,null,null,null,{"$f":"IF(OR(ISBLANK(Table1[[#This Row],[Column25]]),ISBLANK(Table1[[#This Row],[Column26]])), \"\",Table1[[#This Row],[Column25]]*Table1[[#This Row],[Column26]])","v":""},null,null,null,null,{"$f":"IF(OR(ISBLANK(Table1[[#This Row],[Column30]]),ISBLANK(Table1[[#This Row],[Column31]])), \"\",Table1[[#This Row],[Column30]]*Table1[[#This Row],[Column31]])","v":""},null,null,null,null,{"$f":"IF(OR(ISBLANK(Table1[[#This Row],[Column34]]),ISBLANK(Table1[[#This Row],[Column35]])), \"\",Table1[[#This Row],[Column34]]*Table1[[#This Row],[Column35]])","v":""},null,null,null,null,{"$f":"IF(OR(ISBLANK(Table1[[#This Row],[Column39]]),ISBLANK(Table1[[#This Row],[Column40]])), \"\",Table1[[#This Row],[Column39]]*Table1[[#This Row],[Column40]])","v":""},null,null,null,null,{"$f":"IF(OR(ISBLANK(Table1[[#This Row],[Column43]]),ISBLANK(Table1[[#This Row],[Column44]])), \"\",Table1[[#This Row],[Column43]]*Table1[[#This Row],[Column44]])","v":""},null,null,null,null,{"$f":"IF(OR(ISBLANK(Table1[[#This Row],[Column48]]),ISBLANK(Table1[[#This Row],[Column49]])), \"\",Table1[[#This Row],[Column48]]*Table1[[#This Row],[Column49]])","v":""},null,null,null,null,{"$f":"IF(OR(ISBLANK(Table1[[#This Row],[Column52]]),ISBLANK(Table1[[#This Row],[Column53]])), \"\",Table1[[#This Row],[Column52]]*Table1[[#This Row],[Column53]])","v":""},null,null,null,null,{"$f":"IF(OR(ISBLANK(Table1[[#This Row],[Column57]]),ISBLANK(Table1[[#This Row],[Column58]])), \"\",Table1[[#This Row],[Column57]]*Table1[[#This Row],[Column58]])","v":""},null,null,null,null,{"$f":"IF(OR(ISBLANK(Table1[[#This Row],[Column61]]),ISBLANK(Table1[[#This Row],[Column62]])), \"\",Table1[[#This Row],[Column61]]*Table1[[#This Row],[Column62]])","v":""}]
[null,null,null,null,null,null,{"$f":"IF(OR(ISBLANK(Table1[[#This Row],[Column3]]),ISBLANK(Table1[[#This Row],[Column4]])), \"\",Table1[[#This Row],[Column3]]*Table1[[#This Row],[Column4]])","v":""},null,null,null,null,{"$f":"IF(OR(ISBLANK(Table1[[#This Row],[Column7]]),ISBLANK(Table1[[#This Row],[Column8]])), \"\",Table1[[#This Row],[Column7]]*Table1[[#This Row],[Column8]])","v":""},null,null,null,null,{"$f":"IF(OR(ISBLANK(Table1[[#This Row],[Column12]]),ISBLANK(Table1[[#This Row],[Column13]])), \"\",Table1[[#This Row],[Column12]]*Table1[[#This Row],[Column13]])","v":""},null,null,null,null,{"$f":"IF(OR(ISBLANK(Table1[[#This Row],[Column16]]),ISBLANK(Table1[[#This Row],[Column17]])), \"\",Table1[[#This Row],[Column16]]*Table1[[#This Row],[Column17]])","v":""},null,null,null,null,{"$f":"IF(OR(ISBLANK(Table1[[#This Row],[Column21]]),ISBLANK(Table1[[#This Row],[Column22]])), \"\",Table1[[#This Row],[Column21]]*Table1[[#This Row],[Column22]])","v":""},null,null,null,null,{"$f":"IF(OR(ISBLANK(Table1[[#This Row],[Column25]]),ISBLANK(Table1[[#This Row],[Column26]])), \"\",Table1[[#This Row],[Column25]]*Table1[[#This Row],[Column26]])","v":""},null,null,null,null,{"$f":"IF(OR(ISBLANK(Table1[[#This Row],[Column30]]),ISBLANK(Table1[[#This Row],[Column31]])), \"\",Table1[[#This Row],[Column30]]*Table1[[#This Row],[Column31]])","v":""},null,null,null,null,{"$f":"IF(OR(ISBLANK(Table1[[#This Row],[Column34]]),ISBLANK(Table1[[#This Row],[Column35]])), \"\",Table1[[#This Row],[Column34]]*Table1[[#This Row],[Column35]])","v":""},null,null,null,null,{"$f":"IF(OR(ISBLANK(Table1[[#This Row],[Column39]]),ISBLANK(Table1[[#This Row],[Column40]])), \"\",Table1[[#This Row],[Column39]]*Table1[[#This Row],[Column40]])","v":""},null,null,null,null,{"$f":"IF(OR(ISBLANK(Table1[[#This Row],[Column43]]),ISBLANK(Table1[[#This Row],[Column44]])), \"\",Table1[[#This Row],[Column43]]*Table1[[#This Row],[Column44]])","v":""},null,null,null,null,{"$f":"IF(OR(ISBLANK(Table1[[#This Row],[Column48]]),ISBLANK(Table1[[#This Row],[Column49]])), \"\",Table1[[#This Row],[Column48]]*Table1[[#This Row],[Column49]])","v":""},null,null,null,null,{"$f":"IF(OR(ISBLANK(Table1[[#This Row],[Column52]]),ISBLANK(Table1[[#This Row],[Column53]])), \"\",Table1[[#This Row],[Column52]]*Table1[[#This Row],[Column53]])","v":""},null,null,null,null,{"$f":"IF(OR(ISBLANK(Table1[[#This Row],[Column57]]),ISBLANK(Table1[[#This Row],[Column58]])), \"\",Table1[[#This Row],[Column57]]*Table1[[#This Row],[Column58]])","v":""},null,null,null,null,{"$f":"IF(OR(ISBLANK(Table1[[#This Row],[Column61]]),ISBLANK(Table1[[#This Row],[Column62]])), \"\",Table1[[#This Row],[Column61]]*Table1[[#This Row],[Column62]])","v":""}]
[null,null,null,null,null,null,{"$f":"IF(OR(ISBLANK(Table1[[#This Row],[Column3]]),ISBLANK(Table1[[#This Row],[Column4]])), \"\",Table1[[#This Row],[Column3]]*Table1[[#This Row],[Column4]])","v":""},null,null,null,null,{"$f":"IF(OR(ISBLANK(Table1[[#This Row],[Column7]]),ISBLANK(Table1[[#This Row],[Column8]])), \"\",Table1[[#This Row],[Column7]]*Table1[[#This Row],[Column8]])","v":""},null,null,null,null,{"$f":"IF(OR(ISBLANK(Table1[[#This Row],[Column12]]),ISBLANK(Table1[[#This Row],[Column13]])), \"\",Table1[[#This Row],[Column12]]*Table1[[#This Row],[Column13]])","v":""},null,null,null,null,{"$f":"IF(OR(ISBLANK(Table1[[#This Row],[Column16]]),ISBLANK(Table1[[#This Row],[Column17]])), \"\",Table1[[#This Row],[Column16]]*Table1[[#This Row],[Column17]])","v":""},null,null,null,null,{"$f":"IF(OR(ISBLANK(Table1[[#This Row],[Column21]]),ISBLANK(Table1[[#This Row],[Column22]])), \"\",Table1[[#This Row],[Column21]]*Table1[[#This Row],[Column22]])","v":""},null,null,null,null,{"$f":"IF(OR(ISBLANK(Table1[[#This Row],[Column25]]),ISBLANK(Table1[[#This Row],[Column26]])), \"\",Table1[[#This Row],[Column25]]*Table1[[#This Row],[Column26]])","v":""},null,null,null,null,{"$f":"IF(OR(ISBLANK(Table1[[#This Row],[Column30]]),ISBLANK(Table1[[#This Row],[Column31]])), \"\",Table1[[#This Row],[Column30]]*Table1[[#This Row],[Column31]])","v":""},null,null,null,null,{"$f":"IF(OR(ISBLANK(Table1[[#This Row],[Column34]]),ISBLANK(Table1[[#This Row],[Column35]])), \"\",Table1[[#This Row],[Column34]]*Table1[[#This Row],[Column35]])","v":""},null,null,null,null,{"$f":"IF(OR(ISBLANK(Table1[[#This Row],[Column39]]),ISBLANK(Table1[[#This Row],[Column40]])), \"\",Table1[[#This Row],[Column39]]*Table1[[#This Row],[Column40]])","v":""},null,null,null,null,{"$f":"IF(OR(ISBLANK(Table1[[#This Row],[Column43]]),ISBLANK(Table1[[#This Row],[Column44]])), \"\",Table1[[#This Row],[Column43]]*Table1[[#This Row],[Column44]])","v":""},null,null,null,null,{"$f":"IF(OR(ISBLANK(Table1[[#This Row],[Column48]]),ISBLANK(Table1[[#This Row],[Column49]])), \"\",Table1[[#This Row],[Column48]]*Table1[[#This Row],[Column49]])","v":""},null,null,null,null,{"$f":"IF(OR(ISBLANK(Table1[[#This Row],[Column52]]),ISBLANK(Table1[[#This Row],[Column53]])), \"\",Table1[[#This Row],[Column52]]*Table1[[#This Row],[Column53]])","v":""},null,null,null,null,{"$f":"IF(OR(ISBLANK(Table1[[#This Row],[Column57]]),ISBLANK(Table1[[#This Row],[Column58]])), \"\",Table1[[#This Row],[Column57]]*Table1[[#This Row],[Column58]])","v":""},null,null,null,null,{"$f":"IF(OR(ISBLANK(Table1[[#This Row],[Column61]]),ISBLANK(Table1[[#This Row],[Column62]])), \"\",Table1[[#This Row],[Column61]]*Table1[[#This Row],[Column62]])","v":""}]
[null,null,null,null,null,null,{"$f":"IF(OR(ISBLANK(Table1[[#This Row],[Column3]]),ISBLANK(Table1[[#This Row],[Column4]])), \"\",Table1[[#This Row],[Column3]]*Table1[[#This Row],[Column4]])","v":""},null,null,null,null,{"$f":"IF(OR(ISBLANK(Table1[[#This Row],[Column7]]),ISBLANK(Table1[[#This Row],[Column8]])), \"\",Table1[[#This Row],[Column7]]*Table1[[#This Row],[Column8]])","v":""},null,null,null,null,{"$f":"IF(OR(ISBLANK(Table1[[#This Row],[Column12]]),ISBLANK(Table1[[#This Row],[Column13]])), \"\",Table1[[#This Row],[Column12]]*Table1[[#This Row],[Column13]])","v":""},null,null,null,null,{"$f":"IF(OR(ISBLANK(Table1[[#This Row],[Column16]]),ISBLANK(Table1[[#This Row],[Column17]])), \"\",Table1[[#This Row],[Column16]]*Table1[[#This Row],[Column17]])","v":""},null,null,null,null,{"$f":"IF(OR(ISBLANK(Table1[[#This Row],[Column21]]),ISBLANK(Table1[[#This Row],[Column22]])), \"\",Table1[[#This Row],[Column21]]*Table1[[#This Row],[Column22]])","v":""},null,null,null,null,{"$f":"IF(OR(ISBLANK(Table1[[#This Row],[Column25]]),ISBLANK(Table1[[#This Row],[Column26]])), \"\",Table1[[#This Row],[Column25]]*Table1[[#This Row],[Column26]])","v":""},null,null,null,null,{"$f":"IF(OR(ISBLANK(Table1[[#This Row],[Column30]]),ISBLANK(Table1[[#This Row],[Column31]])), \"\",Table1[[#This Row],[Column30]]*Table1[[#This Row],[Column31]])","v":""},null,null,null,null,{"$f":"IF(OR(ISBLANK(Table1[[#This Row],[Column34]]),ISBLANK(Table1[[#This Row],[Column35]])), \"\",Table1[[#This Row],[Column34]]*Table1[[#This Row],[Column35]])","v":""},null,null,null,null,{"$f":"IF(OR(ISBLANK(Table1[[#This Row],[Column39]]),ISBLANK(Table1[[#This Row],[Column40]])), \"\",Table1[[#This Row],[Column39]]*Table1[[#This Row],[Column40]])","v":""},null,null,null,null,{"$f":"IF(OR(ISBLANK(Table1[[#This Row],[Column43]]),ISBLANK(Table1[[#This Row],[Column44]])), \"\",Table1[[#This Row],[Column43]]*Table1[[#This Row],[Column44]])","v":""},null,null,null,null,{"$f":"IF(OR(ISBLANK(Table1[[#This Row],[Column48]]),ISBLANK(Table1[[#This Row],[Column49]])), \"\",Table1[[#This Row],[Column48]]*Table1[[#This Row],[Column49]])","v":""},null,null,null,null,{"$f":"IF(OR(ISBLANK(Table1[[#This Row],[Column52]]),ISBLANK(Table1[[#This Row],[Column53]])), \"\",Table1[[#This Row],[Column52]]*Table1[[#This Row],[Column53]])","v":""},null,null,null,null,{"$f":"IF(OR(ISBLANK(Table1[[#This Row],[Column57]]),ISBLANK(Table1[[#This Row],[Column58]])), \"\",Table1[[#This Row],[Column57]]*Table1[[#This Row],[Column58]])","v":""},null,null,null,null,{"$f":"IF(OR(ISBLANK(Table1[[#This Row],[Column61]]),ISBLANK(Table1[[#This Row],[Column62]])), \"\",Table1[[#This Row],[Column61]]*Table1[[#This Row],[Column62]])","v":""}]
[null,null,null,null,null,null,{"$f":"IF(OR(ISBLANK(Table1[[#This Row],[Column3]]),ISBLANK(Table1[[#This Row],[Column4]])), \"\",Table1[[#This Row],[Column3]]*Table1[[#This Row],[Column4]])","v":""},null,null,null,null,{"$f":"IF(OR(ISBLANK(Table1[[#This Row],[Column7]]),ISBLANK(Table1[[#This Row],[Column8]])), \"\",Table1[[#This Row],[Column7]]*Table1[[#This Row],[Column8]])","v":""},null,null,null,null,{"$f":"IF(OR(ISBLANK(Table1[[#This Row],[Column12]]),ISBLANK(Table1[[#This Row],[Column13]])), \"\",Table1[[#This Row],[Column12]]*Table1[[#This Row],[Column13]])","v":""},null,null,null,null,{"$f":"IF(OR(ISBLANK(Table1[[#This Row],[Column16]]),ISBLANK(Table1[[#This Row],[Column17]])), \"\",Table1[[#This Row],[Column16]]*Table1[[#This Row],[Column17]])","v":""},null,null,null,null,{"$f":"IF(OR(ISBLANK(Table1[[#This Row],[Column21]]),ISBLANK(Table1[[#This Row],[Column22]])), \"\",Table1[[#This Row],[Column21]]*Table1[[#This Row],[Column22]])","v":""},null,null,null,null,{"$f":"IF(OR(ISBLANK(Table1[[#This Row],[Column25]]),ISBLANK(Table1[[#This Row],[Column26]])), \"\",Table1[[#This Row],[Column25]]*Table1[[#This Row],[Column26]])","v":""},null,null,null,null,{"$f":"IF(OR(ISBLANK(Table1[[#This Row],[Column30]]),ISBLANK(Table1[[#This Row],[Column31]])), \"\",Table1[[#This Row],[Column30]]*Table1[[#This Row],[Column31]])","v":""},null,null,null,null,{"$f":"IF(OR(ISBLANK(Table1[[#This Row],[Column34]]),ISBLANK(Table1[[#This Row],[Column35]])), \"\",Table1[[#This Row],[Column34]]*Table1[[#This Row],[Column35]])","v":""},null,null,null,null,{"$f":"IF(OR(ISBLANK(Table1[[#This Row],[Column39]]),ISBLANK(Table1[[#This Row],[Column40]])), \"\",Table1[[#This Row],[Column39]]*Table1[[#This Row],[Column40]])","v":""},null,null,null,null,{"$f":"IF(OR(ISBLANK(Table1[[#This Row],[Column43]]),ISBLANK(Table1[[#This Row],[Column44]])), \"\",Table1[[#This Row],[Column43]]*Table1[[#This Row],[Column44]])","v":""},null,null,null,null,{"$f":"IF(OR(ISBLANK(Table1[[#This Row],[Column48]]),ISBLANK(Table1[[#This Row],[Column49]])), \"\",Table1[[#This Row],[Column48]]*Table1[[#This Row],[Column49]])","v":""},null,null,null,null,{"$f":"IF(OR(ISBLANK(Table1[[#This Row],[Column52]]),ISBLANK(Table1[[#This Row],[Column53]])), \"\",Table1[[#This Row],[Column52]]*Table1[[#This Row],[Column53]])","v":""},null,null,null,null,{"$f":"IF(OR(ISBLANK(Table1[[#This Row],[Column57]]),ISBLANK(Table1[[#This Row],[Column58]])), \"\",Table1[[#This Row],[Column57]]*Table1[[#This Row],[Column58]])","v":""},null,null,null,null,{"$f":"IF(OR(ISBLANK(Table1[[#This Row],[Column61]]),ISBLANK(Table1[[#This Row],[Column62]])), \"\",Table1[[#This Row],[Column61]]*Table1[[#This Row],[Column62]])","v":""}]
[null,null,null,null,null,null,{"$f":"IF(OR(ISBLANK(Table1[[#This Row],[Column3]]),ISBLANK(Table1[[#This Row],[Column4]])), \"\",Table1[[#This Row],[Column3]]*Table1[[#This Row],[Column4]])","v":""},null,null,null,null,{"$f":"IF(OR(ISBLANK(Table1[[#This Row],[Column7]]),ISBLANK(Table1[[#This Row],[Column8]])), \"\",Table1[[#This Row],[Column7]]*Table1[[#This Row],[Column8]])","v":""},null,null,null,null,{"$f":"IF(OR(ISBLANK(Table1[[#This Row],[Column12]]),ISBLANK(Table1[[#This Row],[Column13]])), \"\",Table1[[#This Row],[Column12]]*Table1[[#This Row],[Column13]])","v":""},null,null,null,null,{"$f":"IF(OR(ISBLANK(Table1[[#This Row],[Column16]]),ISBLANK(Table1[[#This Row],[Column17]])), \"\",Table1[[#This Row],[Column16]]*Table1[[#This Row],[Column17]])","v":""},null,null,null,null,{"$f":"IF(OR(ISBLANK(Table1[[#This Row],[Column21]]),ISBLANK(Table1[[#This Row],[Column22]])), \"\",Table1[[#This Row],[Column21]]*Table1[[#This Row],[Column22]])","v":""},null,null,null,null,{"$f":"IF(OR(ISBLANK(Table1[[#This Row],[Column25]]),ISBLANK(Table1[[#This Row],[Column26]])), \"\",Table1[[#This Row],[Column25]]*Table1[[#This Row],[Column26]])","v":""},null,null,null,null,{"$f":"IF(OR(ISBLANK(Table1[[#This Row],[Column30]]),ISBLANK(Table1[[#This Row],[Column31]])), \"\",Table1[[#This Row],[Column30]]*Table1[[#This Row],[Column31]])","v":""},null,null,null,null,{"$f":"IF(OR(ISBLANK(Table1[[#This Row],[Column34]]),ISBLANK(Table1[[#This Row],[Column35]])), \"\",Table1[[#This Row],[Column34]]*Table1[[#This Row],[Column35]])","v":""},null,null,null,null,{"$f":"IF(OR(ISBLANK(Table1[[#This Row],[Column39]]),ISBLANK(Table1[[#This Row],[Column40]])), \"\",Table1[[#This Row],[Column39]]*Table1[[#This Row],[Column40]])","v":""},null,null,null,null,{"$f":"IF(OR(ISBLANK(Table1[[#This Row],[Column43]]),ISBLANK(Table1[[#This Row],[Column44]])), \"\",Table1[[#This Row],[Column43]]*Table1[[#This Row],[Column44]])","v":""},null,null,null,null,{"$f":"IF(OR(ISBLANK(Table1[[#This Row],[Column48]]),ISBLANK(Table1[[#This Row],[Column49]])), \"\",Table1[[#This Row],[Column48]]*Table1[[#This Row],[Column49]])","v":""},null,null,null,null,{"$f":"IF(OR(ISBLANK(Table1[[#This Row],[Column52]]),ISBLANK(Table1[[#This Row],[Column53]])), \"\",Table1[[#This Row],[Column52]]*Table1[[#This Row],[Column53]])","v":""},null,null,null,null,{"$f":"IF(OR(ISBLANK(Table1[[#This Row],[Column57]]),ISBLANK(Table1[[#This Row],[Column58]])), \"\",Table1[[#This Row],[Column57]]*Table1[[#This Row],[Column58]])","v":""},null,null,null,null,{"$f":"IF(OR(ISBLANK(Table1[[#This Row],[Column61]]),ISBLANK(Table1[[#This Row],[Column62]])), \"\",Table1[[#This Row],[Column61]]*Table1[[#This Row],[Column62]])","v":""}]
[null,null,null,null,null,null,{"$f":"IF(OR(ISBLANK(Table1[[#This Row],[Column3]]),ISBLANK(Table1[[#This Row],[Column4]])), \"\",Table1[[#This Row],[Column3]]*Table1[[#This Row],[Column4]])","v":""},null,null,null,null,{"$f":"IF(OR(ISBLANK(Table1[[#This Row],[Column7]]),ISBLANK(Table1[[#This Row],[Column8]])), \"\",Table1[[#This Row],[Column7]]*Table1[[#This Row],[Column8]])","v":""},null,null,null,null,{"$f":"IF(OR(ISBLANK(Table1[[#This Row],[Column12]]),ISBLANK(Table1[[#This Row],[Column13]])), \"\",Table1[[#This Row],[Column12]]*Table1[[#This Row],[Column13]])","v":""},null,null,null,null,{"$f":"IF(OR(ISBLANK(Table1[[#This Row],[Column16]]),ISBLANK(Table1[[#This Row],[Column17]])), \"\",Table1[[#This Row],[Column16]]*Table1[[#This Row],[Column17]])","v":""},null,null,null,null,{"$f":"IF(OR(ISBLANK(Table1[[#This Row],[Column21]]),ISBLANK(Table1[[#This Row],[Column22]])), \"\",Table1[[#This Row],[Column21]]*Table1[[#This Row],[Column22]])","v":""},null,null,null,null,{"$f":"IF(OR(ISBLANK(Table1[[#This Row],[Column25]]),ISBLANK(Table1[[#This Row],[Column26]])), \"\",Table1[[#This Row],[Column25]]*Table1[[#This Row],[Column26]])","v":""},null,null,null,null,{"$f":"IF(OR(ISBLANK(Table1[[#This Row],[Column30]]),ISBLANK(Table1[[#This Row],[Column31]])), \"\",Table1[[#This Row],[Column30]]*Table1[[#This Row],[Column31]])","v":""},null,null,null,null,{"$f":"IF(OR(ISBLANK(Table1[[#This Row],[Column34]]),ISBLANK(Table1[[#This Row],[Column35]])), \"\",Table1[[#This Row],[Column34]]*Table1[[#This Row],[Column35]])","v":""},null,null,null,null,{"$f":"IF(OR(ISBLANK(Table1[[#This Row],[Column39]]),ISBLANK(Table1[[#This Row],[Column40]])), \"\",Table1[[#This Row],[Column39]]*Table1[[#This Row],[Column40]])","v":""},null,null,null,null,{"$f":"IF(OR(ISBLANK(Table1[[#This Row],[Column43]]),ISBLANK(Table1[[#This Row],[Column44]])), \"\",Table1[[#This Row],[Column43]]*Table1[[#This Row],[Column44]])","v":""},null,null,null,null,{"$f":"IF(OR(ISBLANK(Table1[[#This Row],[Column48]]),ISBLANK(Table1[[#This Row],[Column49]])), \"\",Table1[[#This Row],[Column48]]*Table1[[#This Row],[Column49]])","v":""},null,null,null,null,{"$f":"IF(OR(ISBLANK(Table1[[#This Row],[Column52]]),ISBLANK(Table1[[#This Row],[Column53]])), \"\",Table1[[#This Row],[Column52]]*Table1[[#This Row],[Column53]])","v":""},null,null,null,null,{"$f":"IF(OR(ISBLANK(Table1[[#This Row],[Column57]]),ISBLANK(Table1[[#This Row],[Column58]])), \"\",Table1[[#This Row],[Column57]]*Table1[[#This Row],[Column58]])","v":""},null,null,null,null,{"$f":"IF(OR(ISBLANK(Table1[[#This Row],[Column61]]),ISBLANK(Table1[[#This Row],[Column62]])), \"\",Table1[[#This Row],[Column61]]*Table1[[#This Row],[Column62]])","v":""}]
[null,null,null,null,null,null,{"$f":"IF(OR(ISBLANK(Table1[[#This Row],[Column3]]),ISBLANK(Table1[[#This Row],[Column4]])), \"\",Table1[[#This Row],[Column3]]*Table1[[#This Row],[Column4]])","v":""},null,null,null,null,{"$f":"IF(OR(ISBLANK(Table1[[#This Row],[Column7]]),ISBLANK(Table1[[#This Row],[Column8]])), \"\",Table1[[#This Row],[Column7]]*Table1[[#This Row],[Column8]])","v":""},null,null,null,null,{"$f":"IF(OR(ISBLANK(Table1[[#This Row],[Column12]]),ISBLANK(Table1[[#This Row],[Column13]])), \"\",Table1[[#This Row],[Column12]]*Table1[[#This Row],[Column13]])","v":""},null,null,null,null,{"$f":"IF(OR(ISBLANK(Table1[[#This Row],[Column16]]),ISBLANK(Table1[[#This Row],[Column17]])), \"\",Table1[[#This Row],[Column16]]*Table1[[#This Row],[Column17]])","v":""},null,null,null,null,{"$f":"IF(OR(ISBLANK(Table1[[#This Row],[Column21]]),ISBLANK(Table1[[#This Row],[Column22]])), \"\",Table1[[#This Row],[Column21]]*Table1[[#This Row],[Column22]])","v":""},null,null,null,null,{"$f":"IF(OR(ISBLANK(Table1[[#This Row],[Column25]]),ISBLANK(Table1[[#This Row],[Column26]])), \"\",Table1[[#This Row],[Column25]]*Table1[[#This Row],[Column26]])","v":""},null,null,null,null,{"$f":"IF(OR(ISBLANK(Table1[[#This Row],[Column30]]),ISBLANK(Table1[[#This Row],[Column31]])), \"\",Table1[[#This Row],[Column30]]*Table1[[#This Row],[Column31]])","v":""},null,null,null,null,{"$f":"IF(OR(ISBLANK(Table1[[#This Row],[Column34]]),ISBLANK(Table1[[#This Row],[Column35]])), \"\",Table1[[#This Row],[Column34]]*Table1[[#This Row],[Column35]])","v":""},null,null,null,null,{"$f":"IF(OR(ISBLANK(Table1[[#This Row],[Column39]]),ISBLANK(Table1[[#This Row],[Column40]])), \"\",Table1[[#This Row],[Column39]]*Table1[[#This Row],[Column40]])","v":""},null,null,null,null,{"$f":"IF(OR(ISBLANK(Table1[[#This Row],[Column43]]),ISBLANK(Table1[[#This Row],[Column44]])), \"\",Table1[[#This Row],[Column43]]*Table1[[#This Row],[Column44]])","v":""},null,null,null,null,{"$f":"IF(OR(ISBLANK(Table1[[#This Row],[Column48]]),ISBLANK(Table1[[#This Row],[Column49]])), \"\",Table1[[#This Row],[Column48]]*Table1[[#This Row],[Column49]])","v":""},null,null,null,null,{"$f":"IF(OR(ISBLANK(Table1[[#This Row],[Column52]]),ISBLANK(Table1[[#This Row],[Column53]])), \"\",Table1[[#This Row],[Column52]]*Table1[[#This Row],[Column53]])","v":""},null,null,null,null,{"$f":"IF(OR(ISBLANK(Table1[[#This Row],[Column57]]),ISBLANK(Table1[[#This Row],[Column58]])), \"\",Table1[[#This Row],[Column57]]*Table1[[#This Row],[Column58]])","v":""},null,null,null,null,{"$f":"IF(OR(ISBLANK(Table1[[#This Row],[Column61]]),ISBLANK(Table1[[#This Row],[Column62]])), \"\",Table1[[#This Row],[Column61]]*Table1[[#This Row],[Column62]])","v":""}]
[null,null,null,null,null,null,{"$f":"IF(OR(ISBLANK(Table1[[#This Row],[Column3]]),ISBLANK(Table1[[#This Row],[Column4]])), \"\",Table1[[#This Row],[Column3]]*Table1[[#This Row],[Column4]])","v":""},null,null,null,null,{"$f":"IF(OR(ISBLANK(Table1[[#This Row],[Column7]]),ISBLANK(Table1[[#This Row],[Column8]])), \"\",Table1[[#This Row],[Column7]]*Table1[[#This Row],[Column8]])","v":""},null,null,null,null,{"$f":"IF(OR(ISBLANK(Table1[[#This Row],[Column12]]),ISBLANK(Table1[[#This Row],[Column13]])), \"\",Table1[[#This Row],[Column12]]*Table1[[#This Row],[Column13]])","v":""},null,null,null,null,{"$f":"IF(OR(ISBLANK(Table1[[#This Row],[Column16]]),ISBLANK(Table1[[#This Row],[Column17]])), \"\",Table1[[#This Row],[Column16]]*Table1[[#This Row],[Column17]])","v":""},null,null,null,null,{"$f":"IF(OR(ISBLANK(Table1[[#This Row],[Column21]]),ISBLANK(Table1[[#This Row],[Column22]])), \"\",Table1[[#This Row],[Column21]]*Table1[[#This Row],[Column22]])","v":""},null,null,null,null,{"$f":"IF(OR(ISBLANK(Table1[[#This Row],[Column25]]),ISBLANK(Table1[[#This Row],[Column26]])), \"\",Table1[[#This Row],[Column25]]*Table1[[#This Row],[Column26]])","v":""},null,null,null,null,{"$f":"IF(OR(ISBLANK(Table1[[#This Row],[Column30]]),ISBLANK(Table1[[#This Row],[Column31]])), \"\",Table1[[#This Row],[Column30]]*Table1[[#This Row],[Column31]])","v":""},null,null,null,null,{"$f":"IF(OR(ISBLANK(Table1[[#This Row],[Column34]]),ISBLANK(Table1[[#This Row],[Column35]])), \"\",Table1[[#This Row],[Column34]]*Table1[[#This Row],[Column35]])","v":""},null,null,null,null,{"$f":"IF(OR(ISBLANK(Table1[[#This Row],[Column39]]),ISBLANK(Table1[[#This Row],[Column40]])), \"\",Table1[[#This Row],[Column39]]*Table1[[#This Row],[Column40]])","v":""},null,null,null,null,{"$f":"IF(OR(ISBLANK(Table1[[#This Row],[Column43]]),ISBLANK(Table1[[#This Row],[Column44]])), \"\",Table1[[#This Row],[Column43]]*Table1[[#This Row],[Column44]])","v":""},null,null,null,null,{"$f":"IF(OR(ISBLANK(Table1[[#This Row],[Column48]]),ISBLANK(Table1[[#This Row],[Column49]])), \"\",Table1[[#This Row],[Column48]]*Table1[[#This Row],[Column49]])","v":""},null,null,null,null,{"$f":"IF(OR(ISBLANK(Table1[[#This Row],[Column52]]),ISBLANK(Table1[[#This Row],[Column53]])), \"\",Table1[[#This Row],[Column52]]*Table1[[#This Row],[Column53]])","v":""},null,null,null,null,{"$f":"IF(OR(ISBLANK(Table1[[#This Row],[Column57]]),ISBLANK(Table1[[#This Row],[Column58]])), \"\",Table1[[#This Row],[Column57]]*Table1[[#This Row],[Column58]])","v":""},null,null,null,null,{"$f":"IF(OR(ISBLANK(Table1[[#This Row],[Column61]]),ISBLANK(Table1[[#This Row],[Column62]])), \"\",Table1[[#This Row],[Column61]]*Table1[[#This Row],[Column62]])","v":""}]
[null,null,null,null,null,null,{"$f":"IF(OR(ISBLANK(Table1[[#This Row],[Column3]]),ISBLANK(Table1[[#This Row],[Column4]])), \"\",Table1[[#This Row],[Column3]]*Table1[[#This Row],[Column4]])","v":""},null,null,null,null,{"$f":"IF(OR(ISBLANK(Table1[[#This Row],[Column7]]),ISBLANK(Table1[[#This Row],[Column8]])), \"\",Table1[[#This Row],[Column7]]*Table1[[#This Row],[Column8]])","v":""},null,null,null,null,{"$f":"IF(OR(ISBLANK(Table1[[#This Row],[Column12]]),ISBLANK(Table1[[#This Row],[Column13]])), \"\",Table1[[#This Row],[Column12]]*Table1[[#This Row],[Column13]])","v":""},null,null,null,null,{"$f":"IF(OR(ISBLANK(Table1[[#This Row],[Column16]]),ISBLANK(Table1[[#This Row],[Column17]])), \"\",Table1[[#This Row],[Column16]]*Table1[[#This Row],[Column17]])","v":""},null,null,null,null,{"$f":"IF(OR(ISBLANK(Table1[[#This Row],[Column21]]),ISBLANK(Table1[[#This Row],[Column22]])), \"\",Table1[[#This Row],[Column21]]*Table1[[#This Row],[Column22]])","v":""},null,null,null,null,{"$f":"IF(OR(ISBLANK(Table1[[#This Row],[Column25]]),ISBLANK(Table1[[#This Row],[Column26]])), \"\",Table1[[#This Row],[Column25]]*Table1[[#This Row],[Column26]])","v":""},null,null,null,null,{"$f":"IF(OR(ISBLANK(Table1[[#This Row],[Column30]]),ISBLANK(Table1[[#This Row],[Column31]])), \"\",Table1[[#This Row],[Column30]]*Table1[[#This Row],[Column31]])","v":""},null,null,null,null,{"$f":"IF(OR(ISBLANK(Table1[[#This Row],[Column34]]),ISBLANK(Table1[[#This Row],[Column35]])), \"\",Table1[[#This Row],[Column34]]*Table1[[#This Row],[Column35]])","v":""},null,null,null,null,{"$f":"IF(OR(ISBLANK(Table1[[#This Row],[Column39]]),ISBLANK(Table1[[#This Row],[Column40]])), \"\",Table1[[#This Row],[Column39]]*Table1[[#This Row],[Column40]])","v":""},null,null,null,null,{"$f":"IF(OR(ISBLANK(Table1[[#This Row],[Column43]]),ISBLANK(Table1[[#This Row],[Column44]])), \"\",Table1[[#This Row],[Column43]]*Table1[[#This Row],[Column44]])","v":""},null,null,null,null,{"$f":"IF(OR(ISBLANK(Table1[[#This Row],[Column48]]),ISBLANK(Table1[[#This Row],[Column49]])), \"\",Table1[[#This Row],[Column48]]*Table1[[#This Row],[Column49]])","v":""},null,null,null,null,{"$f":"IF(OR(ISBLANK(Table1[[#This Row],[Column52]]),ISBLANK(Table1[[#This Row],[Column53]])), \"\",Table1[[#This Row],[Column52]]*Table1[[#This Row],[Column53]])","v":""},null,null,null,null,{"$f":"IF(OR(ISBLANK(Table1[[#This Row],[Column57]]),ISBLANK(Table1[[#This Row],[Column58]])), \"\",Table1[[#This Row],[Column57]]*Table1[[#This Row],[Column58]])","v":""},null,null,null,null,{"$f":"IF(OR(ISBLANK(Table1[[#This Row],[Column61]]),ISBLANK(Table1[[#This Row],[Column62]])), \"\",Table1[[#This Row],[Column61]]*Table1[[#This Row],[Column62]])","v":""}]
[null,null,null,null,null,null,{"$f":"IF(OR(ISBLANK(Table1[[#This Row],[Column3]]),ISBLANK(Table1[[#This Row],[Column4]])), \"\",Table1[[#This Row],[Column3]]*Table1[[#This Row],[Column4]])","v":""},null,null,null,null,{"$f":"IF(OR(ISBLANK(Table1[[#This Row],[Column7]]),ISBLANK(Table1[[#This Row],[Column8]])), \"\",Table1[[#This Row],[Column7]]*Table1[[#This Row],[Column8]])","v":""},null,null,null,null,{"$f":"IF(OR(ISBLANK(Table1[[#This Row],[Column12]]),ISBLANK(Table1[[#This Row],[Column13]])), \"\",Table1[[#This Row],[Column12]]*Table1[[#This Row],[Column13]])","v":""},null,null,null,null,{"$f":"IF(OR(ISBLANK(Table1[[#This Row],[Column16]]),ISBLANK(Table1[[#This Row],[Column17]])), \"\",Table1[[#This Row],[Column16]]*Table1[[#This Row],[Column17]])","v":""},null,null,null,null,{"$f":"IF(OR(ISBLANK(Table1[[#This Row],[Column21]]),ISBLANK(Table1[[#This Row],[Column22]])), \"\",Table1[[#This Row],[Column21]]*Table1[[#This Row],[Column22]])","v":""},null,null,null,null,{"$f":"IF(OR(ISBLANK(Table1[[#This Row],[Column25]]),ISBLANK(Table1[[#This Row],[Column26]])), \"\",Table1[[#This Row],[Column25]]*Table1[[#This Row],[Column26]])","v":""},null,null,null,null,{"$f":"IF(OR(ISBLANK(Table1[[#This Row],[Column30]]),ISBLANK(Table1[[#This Row],[Column31]])), \"\",Table1[[#This Row],[Column30]]*Table1[[#This Row],[Column31]])","v":""},null,null,null,null,{"$f":"IF(OR(ISBLANK(Table1[[#This Row],[Column34]]),ISBLANK(Table1[[#This Row],[Column35]])), \"\",Table1[[#This Row],[Column34]]*Table1[[#This Row],[Column35]])","v":""},null,null,null,null,{"$f":"IF(OR(ISBLANK(Table1[[#This Row],[Column39]]),ISBLANK(Table1[[#This Row],[Column40]])), \"\",Table1[[#This Row],[Column39]]*Table1[[#This Row],[Column40]])","v":""},null,null,null,null,{"$f":"IF(OR(ISBLANK(Table1[[#This Row],[Column43]]),ISBLANK(Table1[[#This Row],[Column44]])), \"\",Table1[[#This Row],[Column43]]*Table1[[#This Row],[Column44]])","v":""},null,null,null,null,{"$f":"IF(OR(ISBLANK(Table1[[#This Row],[Column48]]),ISBLANK(Table1[[#This Row],[Column49]])), \"\",Table1[[#This Row],[Column48]]*Table1[[#This Row],[Column49]])","v":""},null,null,null,null,{"$f":"IF(OR(ISBLANK(Table1[[#This Row],[Column52]]),ISBLANK(Table1[[#This Row],[Column53]])), \"\",Table1[[#This Row],[Column52]]*Table1[[#This Row],[Column53]])","v":""},null,null,null,null,{"$f":"IF(OR(ISBLANK(Table1[[#This Row],[Column57]]),ISBLANK(Table1[[#This Row],[Column58]])), \"\",Table1[[#This Row],[Column57]]*Table1[[#This Row],[Column58]])","v":""},null,null,null,null,{"$f":"IF(OR(ISBLANK(Table1[[#This Row],[Column61]]),ISBLANK(Table1[[#This Row],[Column62]])), \"\",Table1[[#This Row],[Column61]]*Table1[[#This Row],[Column62]])","v":""}]
[null,null,null,null,null,null,{"$f":"IF(OR(ISBLANK(Table1[[#This Row],[Column3]]),ISBLANK(Table1[[#This Row],[Column4]])), \"\",Table1[[#This Row],[Column3]]*Table1[[#This Row],[Column4]])","v":""},null,null,null,null,{"$f":"IF(OR(ISBLANK(Table1[[#This Row],[Column7]]),ISBLANK(Table1[[#This Row],[Column8]])), \"\",Table1[[#This Row],[Column7]]*Table1[[#This Row],[Column8]])","v":""},null,null,null,null,{"$f":"IF(OR(ISBLANK(Table1[[#This Row],[Column12]]),ISBLANK(Table1[[#This Row],[Column13]])), \"\",Table1[[#This Row],[Column12]]*Table1[[#This Row],[Column13]])","v":""},null,null,null,null,{"$f":"IF(OR(ISBLANK(Table1[[#This Row],[Column16]]),ISBLANK(Table1[[#This Row],[Column17]])), \"\",Table1[[#This Row],[Column16]]*Table1[[#This Row],[Column17]])","v":""},null,null,null,null,{"$f":"IF(OR(ISBLANK(Table1[[#This Row],[Column21]]),ISBLANK(Table1[[#This Row],[Column22]])), \"\",Table1[[#This Row],[Column21]]*Table1[[#This Row],[Column22]])","v":""},null,null,null,null,{"$f":"IF(OR(ISBLANK(Table1[[#This Row],[Column25]]),ISBLANK(Table1[[#This Row],[Column26]])), \"\",Table1[[#This Row],[Column25]]*Table1[[#This Row],[Column26]])","v":""},null,null,null,null,{"$f":"IF(OR(ISBLANK(Table1[[#This Row],[Column30]]),ISBLANK(Table1[[#This Row],[Column31]])), \"\",Table1[[#This Row],[Column30]]*Table1[[#This Row],[Column31]])","v":""},null,null,null,null,{"$f":"IF(OR(ISBLANK(Table1[[#This Row],[Column34]]),ISBLANK(Table1[[#This Row],[Column35]])), \"\",Table1[[#This Row],[Column34]]*Table1[[#This Row],[Column35]])","v":""},null,null,null,null,{"$f":"IF(OR(ISBLANK(Table1[[#This Row],[Column39]]),ISBLANK(Table1[[#This Row],[Column40]])), \"\",Table1[[#This Row],[Column39]]*Table1[[#This Row],[Column40]])","v":""},null,null,null,null,{"$f":"IF(OR(ISBLANK(Table1[[#This Row],[Column43]]),ISBLANK(Table1[[#This Row],[Column44]])), \"\",Table1[[#This Row],[Column43]]*Table1[[#This Row],[Column44]])","v":""},null,null,null,null,{"$f":"IF(OR(ISBLANK(Table1[[#This Row],[Column48]]),ISBLANK(Table1[[#This Row],[Column49]])), \"\",Table1[[#This Row],[Column48]]*Table1[[#This Row],[Column49]])","v":""},null,null,null,null,{"$f":"IF(OR(ISBLANK(Table1[[#This Row],[Column52]]),ISBLANK(Table1[[#This Row],[Column53]])), \"\",Table1[[#This Row],[Column52]]*Table1[[#This Row],[Column53]])","v":""},null,null,null,null,{"$f":"IF(OR(ISBLANK(Table1[[#This Row],[Column57]]),ISBLANK(Table1[[#This Row],[Column58]])), \"\",Table1[[#This Row],[Column57]]*Table1[[#This Row],[Column58]])","v":""},null,null,null,null,{"$f":"IF(OR(ISBLANK(Table1[[#This Row],[Column61]]),ISBLANK(Table1[[#This Row],[Column62]])), \"\",Table1[[#This Row],[Column61]]*Table1[[#This Row],[Column62]])","v":""}]
[null,null,null,null,null,null,{"$f":"IF(OR(ISBLANK(Table1[[#This Row],[Column3]]),ISBLANK(Table1[[#This Row],[Column4]])), \"\",Table1[[#This Row],[Column3]]*Table1[[#This Row],[Column4]])","v":""},null,null,null,null,{"$f":"IF(OR(ISBLANK(Table1[[#This Row],[Column7]]),ISBLANK(Table1[[#This Row],[Column8]])), \"\",Table1[[#This Row],[Column7]]*Table1[[#This Row],[Column8]])","v":""},null,null,null,null,{"$f":"IF(OR(ISBLANK(Table1[[#This Row],[Column12]]),ISBLANK(Table1[[#This Row],[Column13]])), \"\",Table1[[#This Row],[Column12]]*Table1[[#This Row],[Column13]])","v":""},null,null,null,null,{"$f":"IF(OR(ISBLANK(Table1[[#This Row],[Column16]]),ISBLANK(Table1[[#This Row],[Column17]])), \"\",Table1[[#This Row],[Column16]]*Table1[[#This Row],[Column17]])","v":""},null,null,null,null,{"$f":"IF(OR(ISBLANK(Table1[[#This Row],[Column21]]),ISBLANK(Table1[[#This Row],[Column22]])), \"\",Table1[[#This Row],[Column21]]*Table1[[#This Row],[Column22]])","v":""},null,null,null,null,{"$f":"IF(OR(ISBLANK(Table1[[#This Row],[Column25]]),ISBLANK(Table1[[#This Row],[Column26]])), \"\",Table1[[#This Row],[Column25]]*Table1[[#This Row],[Column26]])","v":""},null,null,null,null,{"$f":"IF(OR(ISBLANK(Table1[[#This Row],[Column30]]),ISBLANK(Table1[[#This Row],[Column31]])), \"\",Table1[[#This Row],[Column30]]*Table1[[#This Row],[Column31]])","v":""},null,null,null,null,{"$f":"IF(OR(ISBLANK(Table1[[#This Row],[Column34]]),ISBLANK(Table1[[#This Row],[Column35]])), \"\",Table1[[#This Row],[Column34]]*Table1[[#This Row],[Column35]])","v":""},null,null,null,null,{"$f":"IF(OR(ISBLANK(Table1[[#This Row],[Column39]]),ISBLANK(Table1[[#This Row],[Column40]])), \"\",Table1[[#This Row],[Column39]]*Table1[[#This Row],[Column40]])","v":""},null,null,null,null,{"$f":"IF(OR(ISBLANK(Table1[[#This Row],[Column43]]),ISBLANK(Table1[[#This Row],[Column44]])), \"\",Table1[[#This Row],[Column43]]*Table1[[#This Row],[Column44]])","v":""},null,null,null,null,{"$f":"IF(OR(ISBLANK(Table1[[#This Row],[Column48]]),ISBLANK(Table1[[#This Row],[Column49]])), \"\",Table1[[#This Row],[Column48]]*Table1[[#This Row],[Column49]])","v":""},null,null,null,null,{"$f":"IF(OR(ISBLANK(Table1[[#This Row],[Column52]]),ISBLANK(Table1[[#This Row],[Column53]])), \"\",Table1[[#This Row],[Column52]]*Table1[[#This Row],[Column53]])","v":""},null,null,null,null,{"$f":"IF(OR(ISBLANK(Table1[[#This Row],[Column57]]),ISBLANK(Table1[[#This Row],[Column58]])), \"\",Table1[[#This Row],[Column57]]*Table1[[#This Row],[Column58]])","v":""},null,null,null,null,{"$f":"IF(OR(ISBLANK(Table1[[#This Row],[Column61]]),ISBLANK(Table1[[#This Row],[Column62]])), \"\",Table1[[#This Row],[Column61]]*Table1[[#This Row],[Column62]])","v":""}]
[null,"No data below this point ",null,null,null,null,null,null,null,null,null,null,null,null,null,null,null,null,null,null,null,null,null,null,null,null,{"$f":"IF(OR(ISBLANK(Table1[[#This Row],[Column21]]),ISBLANK(Table1[[#This Row],[Column22]])), \"\",Table1[[#This Row],[Column21]]*Table1[[#This Row],[Column22]])","v":""},null,null,null,null,{"$f":"IF(OR(ISBLANK(Table1[[#This Row],[Column25]]),ISBLANK(Table1[[#This Row],[Column26]])), \"\",Table1[[#This Row],[Column25]]*Table1[[#This Row],[Column26]])","v":""},null,null,null,null,{"$f":"IF(OR(ISBLANK(Table1[[#This Row],[Column30]]),ISBLANK(Table1[[#This Row],[Column31]])), \"\",Table1[[#This Row],[Column30]]*Table1[[#This Row],[Column31]])","v":""},null,null,null,null,{"$f":"IF(OR(ISBLANK(Table1[[#This Row],[Column34]]),ISBLANK(Table1[[#This Row],[Column35]])), \"\",Table1[[#This Row],[Column34]]*Table1[[#This Row],[Column35]])","v":""},null,null,null,null,null,null,null,null,null,{"$f":"IF(OR(ISBLANK(Table1[[#This Row],[Column43]]),ISBLANK(Table1[[#This Row],[Column44]])), \"\",Table1[[#This Row],[Column43]]*Table1[[#This Row],[Column44]])","v":""},null,null,null,null,null,null,null,null,null,null,null,null,null,null,null,null,null,null,null,{"$f":"IF(OR(ISBLANK(Table1[[#This Row],[Column61]]),ISBLANK(Table1[[#This Row],[Column62]])), \"\",Table1[[#This Row],[Column61]]*Table1[[#This Row],[Column62]])","v":""}]
[]
[]
[]
[]
[]
[]
[]
[]
[]
[]
[]
[]
[]
[]
[]
[]
[]
[]
[]
[]
[]
[]
[]
[]
[]
[]
[]
[]
[]
[]
[]
[]
[]
[]
[]
[]
[]
[]
[]
[]
[]
[]
[]
[]
[]
[]
[]
[]
[]
[]
[]
[]
[]
[]
[]
[]
[]
[]
[]
[]
[]
[]
[]
[]
[]
[]
[]
[]
[]
[]
[]
[]
[]
[]
[]
[]
[]
[]
[]
[]
[]
[]
[]
[]
[]
[]
[]
[]
[]
[]
[]
[]
[]
[]
[]
[]
[]
[]
[]
[]
[]
[]
[]
[]
[null,"No data entry below this point","No data entry below this point",null,"No data entry below this point",null,null,null,"No data entry below this point",null,null,"No data entry below this point",null,null,"No data entry below this point",null,"No data entry below this point",null,null,"No data entry below this point",null,null,"No data entry below this point",null,null,"No data entry below this point",null,null,null,"No data entry below this point",null,"No data entry below this point",null,"No data entry below this point",null,null,"No data entry below this point",null,null,null,"No data entry below this point",null,null,"No data entry below this point",null,"No data entry below this point",null,null,null,"No data entry below this point",null,null,null,"No data entry below this point",null,"No data entry below this point",null,null,null,"No data entry below this point",null,null,"No data entry below this point",null,null,"No data entry below this point",null,null,"No data entry below this point",null,null,"No data entry below this point"]

{"sheet":"WQ RA Summary","index":10,"n_rows":77,"n_cols":42,"rows_kept":77,"cut":false,"hidden":false,"merged":[[0,0,0,3],[0,4,0,7]]}
[{"$f":"'Doc Control'!F5","v":"Grand Union Canal"},null,null,null,{"$f":"'Doc Control'!F6 &\", \"&'Doc Control'!F7","v":"Leighton Buzzard Abstraction Location, Gate 2"}]
[]
[]
[]
[]
[]
[]
[]
[]
[]
[]
[]
[]
[]
[]
[]
[]
[]
[]
[]
[]
[]
[]
[]
[]
[]
[null,null,null,null,null,null,null,null,null,null,null,null,null,null,null,null,null,null,null,null,null,null,null,null,null,null,null,null,null,null,null,null,null,null,null,null,null,null,null,null,"Catchement","Sum of Count"]
[null,null,null,null,null,null,null,null,null,null,null,null,null,null,null,null,null,null,null,null,null,null,null,null,null,null,null,null,null,null,null,null,null,null,null,null,null,null,null,null,"Amber",7]
[null,null,null,null,null,null,null,null,null,null,null,null,null,null,null,null,null,null,null,null,null,null,null,null,null,null,null,null,null,null,null,null,null,null,null,null,null,null,null,null,"Green",1]
[null,null,null,null,null,null,null,null,null,null,null,null,null,null,null,null,null,null,null,null,null,null,null,null,null,null,null,null,null,null,null,null,null,null,null,null,null,null,null,null,"Red",21]
[]
[null,null,null,null,null,null,null,null,null,null,null,null,null,null,null,null,null,null,null,null,null,null,null,null,null,null,null,null,null,null,null,null,null,null,null,null,null,null,null,null,"Abstraction","Sum of Count"]
[null,null,null,null,null,null,null,null,null,null,null,null,null,null,null,null,null,null,null,null,null,null,null,null,null,null,null,null,null,null,null,null,null,null,null,null,null,null,null,null,"Amber",7]
[null,null,null,null,null,null,null,null,null,null,null,null,null,null,null,null,null,null,null,null,null,null,null,null,null,null,null,null,null,null,null,null,null,null,null,null,null,null,null,null,"Green",1]
[null,null,null,null,null,null,null,null,null,null,null,null,null,null,null,null,null,null,null,null,null,null,null,null,null,null,null,null,null,null,null,null,null,null,null,null,null,null,null,null,"Red",21]
[]
[null,null,null,null,null,null,null,null,null,null,null,null,null,null,null,null,null,null,null,null,null,null,null,null,null,null,null,null,null,null,null,null,null,null,null,null,null,null,null,null,"Raw Water","Sum of Count"]
[null,null,null,null,null,null,null,null,null,null,null,null,null,null,null,null,null,null,null,null,null,null,null,null,null,null,null,null,null,null,null,null,null,null,null,null,null,null,null,null,"Amber",7]
[null,null,null,null,null,null,null,null,null,null,null,null,null,null,null,null,null,null,null,null,null,null,null,null,null,null,null,null,null,null,null,null,null,null,null,null,null,null,null,null,"Green",1]
[null,null,null,null,null,null,null,null,null,null,null,null,null,null,null,null,null,null,null,null,null,null,null,null,null,null,null,null,null,null,null,null,null,null,null,null,null,null,null,null,"Red",21]
[]
[null,null,null,null,null,null,null,null,null,null,null,null,null,null,null,null,null,null,null,null,null,null,null,null,null,null,null,null,null,null,null,null,null,null,null,null,null,null,null,null,"Treatment","Sum of Count"]
[null,null,null,null,null,null,null,null,null,null,null,null,null,null,null,null,null,null,null,null,null,null,null,null,null,null,null,null,null,null,null,null,null,null,null,null,null,null,null,null,"Green",29]
[]
[]
[]
[null,null,null,null,null,null,null,null,null,null,null,null,null,null,null,null,null,null,null,null,null,null,null,null,null,null,null,null,null,null,null,null,null,null,null,null,null,null,null,null,"Storage","Sum of Count"]
[null,null,null,null,null,null,null,null,null,null,null,null,null,null,null,null,null,null,null,null,null,null,null,null,null,null,null,null,null,null,null,null,null,null,null,null,null,null,null,null,"Green",29]
[]
[null,null,null,"RAG","Risk score","Hazard",null,null,"RAG","Risk score","Hazard",null,null,"RAG","Risk score","Hazard",null,null,"RAG","Risk Score","Hazard",null,null,"RAG","Risk score","Hazard",null,null,"RAG","Risk score","Hazard",null,null,"RAG","Risk Score","Hazard"]
[null,null,null,"Red",15,"Bromate",null,null,"Red",15,"Bromate",null,null,"Red",15,"Bromate",null,null,null,null,null,null,null,null,null,null,null,null,"Amber",10,"1,4-dioxane"]
[null,null,null,"Red",15,"Iron",null,null,"Red",15,"Iron",null,null,"Red",15,"Iron",null,null,null,null,null,null,null,null,null,null,null,null,null,null,null,null,null,null,null,null,null,null,null,null,"Distribution","Sum of Count"]
[null,null,null,"Red",15,"Mercury",null,null,"Red",15,"Mercury",null,null,"Red",15,"Mercury",null,null,null,null,null,null,null,null,null,null,null,null,null,null,null,null,null,null,null,null,null,null,null,null,"Amber",1]
[null,null,null,"Red",15,"Perfluorooctane sulfonate (PFOS)",null,null,"Red",15,"Perfluorooctane sulfonate (PFOS)",null,null,"Red",15,"Perfluorooctane sulfonate (PFOS)",null,null,null,null,null,null,null,null,null,null,null,null,null,null,null,null,null,null,null,null,null,null,null,null,"Green",1]
[null,null,null,"Red",15,"PFAS Substances",null,null,"Red",15,"PFAS Substances",null,null,"Red",15,"PFAS Substances"]
[null,null,null,"Red",16,"Fluoranthene",null,null,"Red",16,"Fluoranthene"," ",null,"Red",16,"Fluoranthene"]
[null,null,null,"Red",20,"Lead",null,null,"Red",20,"Lead",null,null,"Red",20,"Lead",null,null,null,null,null,null,null,null,null,null,null,null,null,null,null,null,null,null,null,null,null,null,null,null,"Consumer","Sum of Count"]
[null,null,null,"Red",20,"Nitrate",null,null,"Red",20,"Nitrate",null,null,"Red",20,"Nitrate",null,null,null,null,null,null,null,null,null,null,null,null,null,null,null,null,null,null,null,null,null,null,null,null,"Green",29]
[null,null,null,"Red",20,"Tributyltin Compounds (TBT)",null,null,"Red",20,"Triclosan",null,null,"Red",20,"Triclosan"]
[null,null,null,"Red",20,"Triclosan",null,null,"Red",20,"Trihalomethanes(THM)/THM Formation Potential",null,null,"Red",20,"Trihalomethanes(THM)/THM Formation Potential"]
[null,null,null,"Red",20,"Trihalomethanes(THM)/THM Formation Potential",null,null,"Red",20,"Turbidity",null,null,"Red",20,"Turbidity"]
[null,null,null,"Red",20,"Turbidity",null,null,"Red",25,"Algae",null,null,"Red",25,"Algae"]
[null,null,null,"Red",25,"Algae",null,null,"Red",25,"Benzo(a)pyrene",null,null,"Red",25,"Benzo(a)pyrene"]
[null,null,null,"Red",25,"Benzo(a)pyrene",null,null,"Red",25,"Cryptosporidium",null,null,"Red",25,"Cryptosporidium"]
[null,null,null,"Red",25,"Cryptosporidium",null,null,"Red",25,"Endocrine disrupting compounds",null,null,"Red",25,"Endocrine disrupting compounds"]
[null,null,null,"Red",25,"Endocrine disrupting compounds",null,null,"Red",25,"Enterococci",null,null,"Red",25,"Enterococci"]
[null,null,null,"Red",25,"Enterococci",null,null,"Red",25,"Escherida Coli",null,null,"Red",25,"Escherida Coli"]
[null,null,null,"Red",25,"Escherida Coli",null,null,"Red",25,"Nickel",null,null,"Red",25,"Nickel"]
[null,null,null,"Red",25,"Nickel",null,null,"Red",25,"Pathogens - Bacteria, Viruses, Protozoa",null,null,"Red",25,"Pathogens - Bacteria, Viruses, Protozoa"]
[null,null,null,"Red",25,"Pathogens - Bacteria, Viruses, Protozoa",null,null,"Red",25,"Tributyltin Compounds (TBT)",null,null,"Red",25,"Tributyltin Compounds (TBT)"]
[null,null,null,"Amber",6,"Pesticides: total",null,null,"Amber",6,"Pesticides: total",null,null,"Amber",6,"Pesticides: total"]
[null,null,null,"Amber",8,"Ammonium",null,null,"Amber",8,"Ammonium",null,null,"Amber",8,"Ammonium"]
[null,null,null,"Amber",9,"Corrosivity",null,null,"Amber",9,"Corrosivity",null,null,"Amber",9,"Corrosivity"]
[null,null,null,"Amber",9,"Detergents/ Personal Care Products",null,null,"Amber",9,"Detergents/ Personal Care Products",null,null,"Amber",9,"Detergents/ Personal Care Products"]
[null,null,null,"Amber",9,"Sulfate",null,null,"Amber",9,"Sulfate",null,null,"Amber",9,"Sulfate"]
[null,null,null,"Amber",12,"Manganese",null,null,"Amber",12,"Manganese",null,null,"Amber",12,"Manganese"]
[null,null,null,"Amber",12,"Taste",null,null,"Amber",12,"Taste",null,null,"Amber",12,"Taste"]